BEGIN:VCALENDAR
VERSION:2.0
PRODID:-//HTLC - ECPv6.15.20//NONSGML v1.0//EN
CALSCALE:GREGORIAN
METHOD:PUBLISH
X-ORIGINAL-URL:https://htlc-anderson.org
X-WR-CALDESC:Events for HTLC
REFRESH-INTERVAL;VALUE=DURATION:PT1H
X-Robots-Tag:noindex
X-PUBLISHED-TTL:PT1H
BEGIN:VTIMEZONE
TZID:America/New_York
BEGIN:DAYLIGHT
TZOFFSETFROM:-0500
TZOFFSETTO:-0400
TZNAME:EDT
DTSTART:20190310T070000
END:DAYLIGHT
BEGIN:STANDARD
TZOFFSETFROM:-0400
TZOFFSETTO:-0500
TZNAME:EST
DTSTART:20191103T060000
END:STANDARD
BEGIN:DAYLIGHT
TZOFFSETFROM:-0500
TZOFFSETTO:-0400
TZNAME:EDT
DTSTART:20200308T070000
END:DAYLIGHT
BEGIN:STANDARD
TZOFFSETFROM:-0400
TZOFFSETTO:-0500
TZNAME:EST
DTSTART:20201101T060000
END:STANDARD
BEGIN:DAYLIGHT
TZOFFSETFROM:-0500
TZOFFSETTO:-0400
TZNAME:EDT
DTSTART:20210314T070000
END:DAYLIGHT
BEGIN:STANDARD
TZOFFSETFROM:-0400
TZOFFSETTO:-0500
TZNAME:EST
DTSTART:20211107T060000
END:STANDARD
BEGIN:DAYLIGHT
TZOFFSETFROM:-0500
TZOFFSETTO:-0400
TZNAME:EDT
DTSTART:20220313T070000
END:DAYLIGHT
BEGIN:STANDARD
TZOFFSETFROM:-0400
TZOFFSETTO:-0500
TZNAME:EST
DTSTART:20221106T060000
END:STANDARD
BEGIN:DAYLIGHT
TZOFFSETFROM:-0500
TZOFFSETTO:-0400
TZNAME:EDT
DTSTART:20230312T070000
END:DAYLIGHT
BEGIN:STANDARD
TZOFFSETFROM:-0400
TZOFFSETTO:-0500
TZNAME:EST
DTSTART:20231105T060000
END:STANDARD
BEGIN:DAYLIGHT
TZOFFSETFROM:-0500
TZOFFSETTO:-0400
TZNAME:EDT
DTSTART:20240310T070000
END:DAYLIGHT
BEGIN:STANDARD
TZOFFSETFROM:-0400
TZOFFSETTO:-0500
TZNAME:EST
DTSTART:20241103T060000
END:STANDARD
END:VTIMEZONE
BEGIN:VEVENT
DTSTART;TZID=America/New_York:20230117T183000
DTEND;TZID=America/New_York:20230117T193000
DTSTAMP:20260424T232541
CREATED:20160912T020946Z
LAST-MODIFIED:20190124T032056Z
UID:10001024-1673980200-1673983800@htlc-anderson.org
SUMMARY:WELCA - Katie's Ladies
DESCRIPTION:Meet in the Office Conference Room on the 3rd Tuesday of each month
URL:https://htlc-anderson.org/event/welca-katies-ladies-2016-10-11/2023-01-17/
LOCATION:Office Conference Room\, 209 Broad St.\, Anderson\, SC\, 29621\, United States
GEO:34.5166123;-82.6520772
X-APPLE-STRUCTURED-LOCATION;VALUE=URI;X-ADDRESS=Office Conference Room 209 Broad St. Anderson SC 29621 United States;X-APPLE-RADIUS=500;X-TITLE=209 Broad St.:geo:-82.6520772,34.5166123
END:VEVENT
BEGIN:VEVENT
DTSTART;TZID=America/New_York:20221220T183000
DTEND;TZID=America/New_York:20221220T193000
DTSTAMP:20260424T232541
CREATED:20160912T020946Z
LAST-MODIFIED:20190124T032056Z
UID:10001023-1671561000-1671564600@htlc-anderson.org
SUMMARY:WELCA - Katie's Ladies
DESCRIPTION:Meet in the Office Conference Room on the 3rd Tuesday of each month
URL:https://htlc-anderson.org/event/welca-katies-ladies-2016-10-11/2022-12-20/
LOCATION:Office Conference Room\, 209 Broad St.\, Anderson\, SC\, 29621\, United States
GEO:34.5166123;-82.6520772
X-APPLE-STRUCTURED-LOCATION;VALUE=URI;X-ADDRESS=Office Conference Room 209 Broad St. Anderson SC 29621 United States;X-APPLE-RADIUS=500;X-TITLE=209 Broad St.:geo:-82.6520772,34.5166123
END:VEVENT
BEGIN:VEVENT
DTSTART;TZID=America/New_York:20221108T100000
DTEND;TZID=America/New_York:20221108T110000
DTSTAMP:20260424T232541
CREATED:20221016T223750Z
LAST-MODIFIED:20221016T223750Z
UID:10003382-1667901600-1667905200@htlc-anderson.org
SUMMARY:10AM WELCA Katies Ladies
DESCRIPTION:10AM WELCA Katies Ladies
URL:https://htlc-anderson.org/event/10am-welca-katies-ladies/
LOCATION:Office Conference Room\, 209 Broad St.\, Anderson\, SC\, 29621\, United States
GEO:34.5166123;-82.6520772
X-APPLE-STRUCTURED-LOCATION;VALUE=URI;X-ADDRESS=Office Conference Room 209 Broad St. Anderson SC 29621 United States;X-APPLE-RADIUS=500;X-TITLE=209 Broad St.:geo:-82.6520772,34.5166123
END:VEVENT
BEGIN:VEVENT
DTSTART;TZID=America/New_York:20221020T180000
DTEND;TZID=America/New_York:20221020T190000
DTSTAMP:20260424T232541
CREATED:20221007T033422Z
LAST-MODIFIED:20221007T033422Z
UID:10003158-1666288800-1666292400@htlc-anderson.org
SUMMARY:6PM Luther’s Ladies
DESCRIPTION:Luther’s Ladies\nLeader: Beth Fischer\nDate: October 20\nTime: 6:00 p.m.\nPlace: Office Conference Room
URL:https://htlc-anderson.org/event/6pm-luthers-ladies/
LOCATION:Office Conference Room\, 209 Broad St.\, Anderson\, SC\, 29621\, United States
GEO:34.5166123;-82.6520772
X-APPLE-STRUCTURED-LOCATION;VALUE=URI;X-ADDRESS=Office Conference Room 209 Broad St. Anderson SC 29621 United States;X-APPLE-RADIUS=500;X-TITLE=209 Broad St.:geo:-82.6520772,34.5166123
END:VEVENT
BEGIN:VEVENT
DTSTART;TZID=America/New_York:20220920T183000
DTEND;TZID=America/New_York:20220920T193000
DTSTAMP:20260424T232541
CREATED:20160912T020946Z
LAST-MODIFIED:20190124T032056Z
UID:10001020-1663698600-1663702200@htlc-anderson.org
SUMMARY:WELCA - Katie's Ladies
DESCRIPTION:Meet in the Office Conference Room on the 3rd Tuesday of each month
URL:https://htlc-anderson.org/event/welca-katies-ladies-2016-10-11/2022-09-20/
LOCATION:Office Conference Room\, 209 Broad St.\, Anderson\, SC\, 29621\, United States
GEO:34.5166123;-82.6520772
X-APPLE-STRUCTURED-LOCATION;VALUE=URI;X-ADDRESS=Office Conference Room 209 Broad St. Anderson SC 29621 United States;X-APPLE-RADIUS=500;X-TITLE=209 Broad St.:geo:-82.6520772,34.5166123
END:VEVENT
BEGIN:VEVENT
DTSTART;TZID=America/New_York:20220816T183000
DTEND;TZID=America/New_York:20220816T193000
DTSTAMP:20260424T232541
CREATED:20160912T020946Z
LAST-MODIFIED:20190124T032056Z
UID:10001019-1660674600-1660678200@htlc-anderson.org
SUMMARY:WELCA - Katie's Ladies
DESCRIPTION:Meet in the Office Conference Room on the 3rd Tuesday of each month
URL:https://htlc-anderson.org/event/welca-katies-ladies-2016-10-11/2022-08-16/
LOCATION:Office Conference Room\, 209 Broad St.\, Anderson\, SC\, 29621\, United States
GEO:34.5166123;-82.6520772
X-APPLE-STRUCTURED-LOCATION;VALUE=URI;X-ADDRESS=Office Conference Room 209 Broad St. Anderson SC 29621 United States;X-APPLE-RADIUS=500;X-TITLE=209 Broad St.:geo:-82.6520772,34.5166123
END:VEVENT
BEGIN:VEVENT
DTSTART;TZID=America/New_York:20220719T183000
DTEND;TZID=America/New_York:20220719T193000
DTSTAMP:20260424T232541
CREATED:20160912T020946Z
LAST-MODIFIED:20190124T032056Z
UID:10001018-1658255400-1658259000@htlc-anderson.org
SUMMARY:WELCA - Katie's Ladies
DESCRIPTION:Meet in the Office Conference Room on the 3rd Tuesday of each month
URL:https://htlc-anderson.org/event/welca-katies-ladies-2016-10-11/2022-07-19/
LOCATION:Office Conference Room\, 209 Broad St.\, Anderson\, SC\, 29621\, United States
GEO:34.5166123;-82.6520772
X-APPLE-STRUCTURED-LOCATION;VALUE=URI;X-ADDRESS=Office Conference Room 209 Broad St. Anderson SC 29621 United States;X-APPLE-RADIUS=500;X-TITLE=209 Broad St.:geo:-82.6520772,34.5166123
END:VEVENT
BEGIN:VEVENT
DTSTART;TZID=America/New_York:20220621T183000
DTEND;TZID=America/New_York:20220621T193000
DTSTAMP:20260424T232541
CREATED:20160912T020946Z
LAST-MODIFIED:20190124T032056Z
UID:10001017-1655836200-1655839800@htlc-anderson.org
SUMMARY:WELCA - Katie's Ladies
DESCRIPTION:Meet in the Office Conference Room on the 3rd Tuesday of each month
URL:https://htlc-anderson.org/event/welca-katies-ladies-2016-10-11/2022-06-21/
LOCATION:Office Conference Room\, 209 Broad St.\, Anderson\, SC\, 29621\, United States
GEO:34.5166123;-82.6520772
X-APPLE-STRUCTURED-LOCATION;VALUE=URI;X-ADDRESS=Office Conference Room 209 Broad St. Anderson SC 29621 United States;X-APPLE-RADIUS=500;X-TITLE=209 Broad St.:geo:-82.6520772,34.5166123
END:VEVENT
BEGIN:VEVENT
DTSTART;TZID=America/New_York:20220517T183000
DTEND;TZID=America/New_York:20220517T193000
DTSTAMP:20260424T232541
CREATED:20160912T020946Z
LAST-MODIFIED:20190124T032056Z
UID:10001016-1652812200-1652815800@htlc-anderson.org
SUMMARY:WELCA - Katie's Ladies
DESCRIPTION:Meet in the Office Conference Room on the 3rd Tuesday of each month
URL:https://htlc-anderson.org/event/welca-katies-ladies-2016-10-11/2022-05-17/
LOCATION:Office Conference Room\, 209 Broad St.\, Anderson\, SC\, 29621\, United States
GEO:34.5166123;-82.6520772
X-APPLE-STRUCTURED-LOCATION;VALUE=URI;X-ADDRESS=Office Conference Room 209 Broad St. Anderson SC 29621 United States;X-APPLE-RADIUS=500;X-TITLE=209 Broad St.:geo:-82.6520772,34.5166123
END:VEVENT
BEGIN:VEVENT
DTSTART;TZID=America/New_York:20220419T183000
DTEND;TZID=America/New_York:20220419T193000
DTSTAMP:20260424T232541
CREATED:20160912T020946Z
LAST-MODIFIED:20190124T032056Z
UID:10001015-1650393000-1650396600@htlc-anderson.org
SUMMARY:WELCA - Katie's Ladies
DESCRIPTION:Meet in the Office Conference Room on the 3rd Tuesday of each month
URL:https://htlc-anderson.org/event/welca-katies-ladies-2016-10-11/2022-04-19/
LOCATION:Office Conference Room\, 209 Broad St.\, Anderson\, SC\, 29621\, United States
GEO:34.5166123;-82.6520772
X-APPLE-STRUCTURED-LOCATION;VALUE=URI;X-ADDRESS=Office Conference Room 209 Broad St. Anderson SC 29621 United States;X-APPLE-RADIUS=500;X-TITLE=209 Broad St.:geo:-82.6520772,34.5166123
END:VEVENT
BEGIN:VEVENT
DTSTART;TZID=America/New_York:20220315T183000
DTEND;TZID=America/New_York:20220315T193000
DTSTAMP:20260424T232541
CREATED:20160912T020946Z
LAST-MODIFIED:20190124T032056Z
UID:10001014-1647369000-1647372600@htlc-anderson.org
SUMMARY:WELCA - Katie's Ladies
DESCRIPTION:Meet in the Office Conference Room on the 3rd Tuesday of each month
URL:https://htlc-anderson.org/event/welca-katies-ladies-2016-10-11/2022-03-15/
LOCATION:Office Conference Room\, 209 Broad St.\, Anderson\, SC\, 29621\, United States
GEO:34.5166123;-82.6520772
X-APPLE-STRUCTURED-LOCATION;VALUE=URI;X-ADDRESS=Office Conference Room 209 Broad St. Anderson SC 29621 United States;X-APPLE-RADIUS=500;X-TITLE=209 Broad St.:geo:-82.6520772,34.5166123
END:VEVENT
BEGIN:VEVENT
DTSTART;TZID=America/New_York:20220215T183000
DTEND;TZID=America/New_York:20220215T193000
DTSTAMP:20260424T232541
CREATED:20160912T020946Z
LAST-MODIFIED:20190124T032056Z
UID:10001013-1644949800-1644953400@htlc-anderson.org
SUMMARY:WELCA - Katie's Ladies
DESCRIPTION:Meet in the Office Conference Room on the 3rd Tuesday of each month
URL:https://htlc-anderson.org/event/welca-katies-ladies-2016-10-11/2022-02-15/
LOCATION:Office Conference Room\, 209 Broad St.\, Anderson\, SC\, 29621\, United States
GEO:34.5166123;-82.6520772
X-APPLE-STRUCTURED-LOCATION;VALUE=URI;X-ADDRESS=Office Conference Room 209 Broad St. Anderson SC 29621 United States;X-APPLE-RADIUS=500;X-TITLE=209 Broad St.:geo:-82.6520772,34.5166123
END:VEVENT
BEGIN:VEVENT
DTSTART;TZID=America/New_York:20220118T183000
DTEND;TZID=America/New_York:20220118T193000
DTSTAMP:20260424T232541
CREATED:20160912T020946Z
LAST-MODIFIED:20190124T032056Z
UID:10001012-1642530600-1642534200@htlc-anderson.org
SUMMARY:WELCA - Katie's Ladies
DESCRIPTION:Meet in the Office Conference Room on the 3rd Tuesday of each month
URL:https://htlc-anderson.org/event/welca-katies-ladies-2016-10-11/2022-01-18/
LOCATION:Office Conference Room\, 209 Broad St.\, Anderson\, SC\, 29621\, United States
GEO:34.5166123;-82.6520772
X-APPLE-STRUCTURED-LOCATION;VALUE=URI;X-ADDRESS=Office Conference Room 209 Broad St. Anderson SC 29621 United States;X-APPLE-RADIUS=500;X-TITLE=209 Broad St.:geo:-82.6520772,34.5166123
END:VEVENT
BEGIN:VEVENT
DTSTART;TZID=America/New_York:20211221T183000
DTEND;TZID=America/New_York:20211221T193000
DTSTAMP:20260424T232541
CREATED:20160912T020946Z
LAST-MODIFIED:20190124T032056Z
UID:10001011-1640111400-1640115000@htlc-anderson.org
SUMMARY:WELCA - Katie's Ladies
DESCRIPTION:Meet in the Office Conference Room on the 3rd Tuesday of each month
URL:https://htlc-anderson.org/event/welca-katies-ladies-2016-10-11/2021-12-21/
LOCATION:Office Conference Room\, 209 Broad St.\, Anderson\, SC\, 29621\, United States
GEO:34.5166123;-82.6520772
X-APPLE-STRUCTURED-LOCATION;VALUE=URI;X-ADDRESS=Office Conference Room 209 Broad St. Anderson SC 29621 United States;X-APPLE-RADIUS=500;X-TITLE=209 Broad St.:geo:-82.6520772,34.5166123
END:VEVENT
BEGIN:VEVENT
DTSTART;TZID=America/New_York:20211116T183000
DTEND;TZID=America/New_York:20211116T193000
DTSTAMP:20260424T232541
CREATED:20160912T020946Z
LAST-MODIFIED:20190124T032056Z
UID:10001010-1637087400-1637091000@htlc-anderson.org
SUMMARY:WELCA - Katie's Ladies
DESCRIPTION:Meet in the Office Conference Room on the 3rd Tuesday of each month
URL:https://htlc-anderson.org/event/welca-katies-ladies-2016-10-11/2021-11-16/
LOCATION:Office Conference Room\, 209 Broad St.\, Anderson\, SC\, 29621\, United States
GEO:34.5166123;-82.6520772
X-APPLE-STRUCTURED-LOCATION;VALUE=URI;X-ADDRESS=Office Conference Room 209 Broad St. Anderson SC 29621 United States;X-APPLE-RADIUS=500;X-TITLE=209 Broad St.:geo:-82.6520772,34.5166123
END:VEVENT
BEGIN:VEVENT
DTSTART;TZID=America/New_York:20211019T183000
DTEND;TZID=America/New_York:20211019T193000
DTSTAMP:20260424T232541
CREATED:20160912T020946Z
LAST-MODIFIED:20190124T032056Z
UID:10001009-1634668200-1634671800@htlc-anderson.org
SUMMARY:WELCA - Katie's Ladies
DESCRIPTION:Meet in the Office Conference Room on the 3rd Tuesday of each month
URL:https://htlc-anderson.org/event/welca-katies-ladies-2016-10-11/2021-10-19/
LOCATION:Office Conference Room\, 209 Broad St.\, Anderson\, SC\, 29621\, United States
GEO:34.5166123;-82.6520772
X-APPLE-STRUCTURED-LOCATION;VALUE=URI;X-ADDRESS=Office Conference Room 209 Broad St. Anderson SC 29621 United States;X-APPLE-RADIUS=500;X-TITLE=209 Broad St.:geo:-82.6520772,34.5166123
END:VEVENT
BEGIN:VEVENT
DTSTART;TZID=America/New_York:20210921T183000
DTEND;TZID=America/New_York:20210921T193000
DTSTAMP:20260424T232541
CREATED:20160912T020946Z
LAST-MODIFIED:20190124T032056Z
UID:10001008-1632249000-1632252600@htlc-anderson.org
SUMMARY:WELCA - Katie's Ladies
DESCRIPTION:Meet in the Office Conference Room on the 3rd Tuesday of each month
URL:https://htlc-anderson.org/event/welca-katies-ladies-2016-10-11/2021-09-21/
LOCATION:Office Conference Room\, 209 Broad St.\, Anderson\, SC\, 29621\, United States
GEO:34.5166123;-82.6520772
X-APPLE-STRUCTURED-LOCATION;VALUE=URI;X-ADDRESS=Office Conference Room 209 Broad St. Anderson SC 29621 United States;X-APPLE-RADIUS=500;X-TITLE=209 Broad St.:geo:-82.6520772,34.5166123
END:VEVENT
BEGIN:VEVENT
DTSTART;TZID=America/New_York:20210824T070000
DTEND;TZID=America/New_York:20210824T090000
DTSTAMP:20260424T232541
CREATED:20210729T221558Z
LAST-MODIFIED:20210729T221558Z
UID:10002433-1629788400-1629795600@htlc-anderson.org
SUMMARY:7AM Support Committee Meeting
DESCRIPTION:
URL:https://htlc-anderson.org/event/7am-support-committee-meeting/
LOCATION:Office Conference Room\, 209 Broad St.\, Anderson\, SC\, 29621\, United States
GEO:34.5166123;-82.6520772
X-APPLE-STRUCTURED-LOCATION;VALUE=URI;X-ADDRESS=Office Conference Room 209 Broad St. Anderson SC 29621 United States;X-APPLE-RADIUS=500;X-TITLE=209 Broad St.:geo:-82.6520772,34.5166123
END:VEVENT
BEGIN:VEVENT
DTSTART;TZID=America/New_York:20210817T183000
DTEND;TZID=America/New_York:20210817T193000
DTSTAMP:20260424T232541
CREATED:20160912T020946Z
LAST-MODIFIED:20190124T032056Z
UID:10001007-1629225000-1629228600@htlc-anderson.org
SUMMARY:WELCA - Katie's Ladies
DESCRIPTION:Meet in the Office Conference Room on the 3rd Tuesday of each month
URL:https://htlc-anderson.org/event/welca-katies-ladies-2016-10-11/2021-08-17/
LOCATION:Office Conference Room\, 209 Broad St.\, Anderson\, SC\, 29621\, United States
GEO:34.5166123;-82.6520772
X-APPLE-STRUCTURED-LOCATION;VALUE=URI;X-ADDRESS=Office Conference Room 209 Broad St. Anderson SC 29621 United States;X-APPLE-RADIUS=500;X-TITLE=209 Broad St.:geo:-82.6520772,34.5166123
END:VEVENT
BEGIN:VEVENT
DTSTART;TZID=America/New_York:20210817T180000
DTEND;TZID=America/New_York:20210817T193000
DTSTAMP:20260424T232541
CREATED:20210729T221447Z
LAST-MODIFIED:20210729T221447Z
UID:10002432-1629223200-1629228600@htlc-anderson.org
SUMMARY:6PM Family Promise Meeting
DESCRIPTION:
URL:https://htlc-anderson.org/event/6pm-family-promise-meeting-3/
LOCATION:Office Conference Room\, 209 Broad St.\, Anderson\, SC\, 29621\, United States
GEO:34.5166123;-82.6520772
X-APPLE-STRUCTURED-LOCATION;VALUE=URI;X-ADDRESS=Office Conference Room 209 Broad St. Anderson SC 29621 United States;X-APPLE-RADIUS=500;X-TITLE=209 Broad St.:geo:-82.6520772,34.5166123
END:VEVENT
BEGIN:VEVENT
DTSTART;TZID=America/New_York:20210720T183000
DTEND;TZID=America/New_York:20210720T193000
DTSTAMP:20260424T232541
CREATED:20160912T020946Z
LAST-MODIFIED:20190124T032056Z
UID:10001006-1626805800-1626809400@htlc-anderson.org
SUMMARY:WELCA - Katie's Ladies
DESCRIPTION:Meet in the Office Conference Room on the 3rd Tuesday of each month
URL:https://htlc-anderson.org/event/welca-katies-ladies-2016-10-11/2021-07-20/
LOCATION:Office Conference Room\, 209 Broad St.\, Anderson\, SC\, 29621\, United States
GEO:34.5166123;-82.6520772
X-APPLE-STRUCTURED-LOCATION;VALUE=URI;X-ADDRESS=Office Conference Room 209 Broad St. Anderson SC 29621 United States;X-APPLE-RADIUS=500;X-TITLE=209 Broad St.:geo:-82.6520772,34.5166123
END:VEVENT
BEGIN:VEVENT
DTSTART;TZID=America/New_York:20210615T183000
DTEND;TZID=America/New_York:20210615T193000
DTSTAMP:20260424T232541
CREATED:20160912T020946Z
LAST-MODIFIED:20190124T032056Z
UID:10001005-1623781800-1623785400@htlc-anderson.org
SUMMARY:WELCA - Katie's Ladies
DESCRIPTION:Meet in the Office Conference Room on the 3rd Tuesday of each month
URL:https://htlc-anderson.org/event/welca-katies-ladies-2016-10-11/2021-06-15/
LOCATION:Office Conference Room\, 209 Broad St.\, Anderson\, SC\, 29621\, United States
GEO:34.5166123;-82.6520772
X-APPLE-STRUCTURED-LOCATION;VALUE=URI;X-ADDRESS=Office Conference Room 209 Broad St. Anderson SC 29621 United States;X-APPLE-RADIUS=500;X-TITLE=209 Broad St.:geo:-82.6520772,34.5166123
END:VEVENT
BEGIN:VEVENT
DTSTART;TZID=America/New_York:20210518T183000
DTEND;TZID=America/New_York:20210518T193000
DTSTAMP:20260424T232541
CREATED:20160912T020946Z
LAST-MODIFIED:20190124T032056Z
UID:10001004-1621362600-1621366200@htlc-anderson.org
SUMMARY:WELCA - Katie's Ladies
DESCRIPTION:Meet in the Office Conference Room on the 3rd Tuesday of each month
URL:https://htlc-anderson.org/event/welca-katies-ladies-2016-10-11/2021-05-18/
LOCATION:Office Conference Room\, 209 Broad St.\, Anderson\, SC\, 29621\, United States
GEO:34.5166123;-82.6520772
X-APPLE-STRUCTURED-LOCATION;VALUE=URI;X-ADDRESS=Office Conference Room 209 Broad St. Anderson SC 29621 United States;X-APPLE-RADIUS=500;X-TITLE=209 Broad St.:geo:-82.6520772,34.5166123
END:VEVENT
BEGIN:VEVENT
DTSTART;TZID=America/New_York:20210518T180000
DTEND;TZID=America/New_York:20210518T190000
DTSTAMP:20260424T232541
CREATED:20210502T232211Z
LAST-MODIFIED:20210502T232211Z
UID:10002412-1621360800-1621364400@htlc-anderson.org
SUMMARY:6PM Family Promise Meeting
DESCRIPTION:Family Promise Meeting (Office Conference Room)
URL:https://htlc-anderson.org/event/6pm-family-promise-meeting-2/
LOCATION:Office Conference Room\, 209 Broad St.\, Anderson\, SC\, 29621\, United States
GEO:34.5166123;-82.6520772
X-APPLE-STRUCTURED-LOCATION;VALUE=URI;X-ADDRESS=Office Conference Room 209 Broad St. Anderson SC 29621 United States;X-APPLE-RADIUS=500;X-TITLE=209 Broad St.:geo:-82.6520772,34.5166123
END:VEVENT
BEGIN:VEVENT
DTSTART;TZID=America/New_York:20210420T183000
DTEND;TZID=America/New_York:20210420T193000
DTSTAMP:20260424T232541
CREATED:20160912T020946Z
LAST-MODIFIED:20190124T032056Z
UID:10001003-1618943400-1618947000@htlc-anderson.org
SUMMARY:WELCA - Katie's Ladies
DESCRIPTION:Meet in the Office Conference Room on the 3rd Tuesday of each month
URL:https://htlc-anderson.org/event/welca-katies-ladies-2016-10-11/2021-04-20/
LOCATION:Office Conference Room\, 209 Broad St.\, Anderson\, SC\, 29621\, United States
GEO:34.5166123;-82.6520772
X-APPLE-STRUCTURED-LOCATION;VALUE=URI;X-ADDRESS=Office Conference Room 209 Broad St. Anderson SC 29621 United States;X-APPLE-RADIUS=500;X-TITLE=209 Broad St.:geo:-82.6520772,34.5166123
END:VEVENT
BEGIN:VEVENT
DTSTART;TZID=America/New_York:20210316T183000
DTEND;TZID=America/New_York:20210316T193000
DTSTAMP:20260424T232541
CREATED:20160912T020946Z
LAST-MODIFIED:20190124T032056Z
UID:10001002-1615919400-1615923000@htlc-anderson.org
SUMMARY:WELCA - Katie's Ladies
DESCRIPTION:Meet in the Office Conference Room on the 3rd Tuesday of each month
URL:https://htlc-anderson.org/event/welca-katies-ladies-2016-10-11/2021-03-16/
LOCATION:Office Conference Room\, 209 Broad St.\, Anderson\, SC\, 29621\, United States
GEO:34.5166123;-82.6520772
X-APPLE-STRUCTURED-LOCATION;VALUE=URI;X-ADDRESS=Office Conference Room 209 Broad St. Anderson SC 29621 United States;X-APPLE-RADIUS=500;X-TITLE=209 Broad St.:geo:-82.6520772,34.5166123
END:VEVENT
BEGIN:VEVENT
DTSTART;TZID=America/New_York:20210216T183000
DTEND;TZID=America/New_York:20210216T193000
DTSTAMP:20260424T232541
CREATED:20160912T020946Z
LAST-MODIFIED:20190124T032056Z
UID:10001001-1613500200-1613503800@htlc-anderson.org
SUMMARY:WELCA - Katie's Ladies
DESCRIPTION:Meet in the Office Conference Room on the 3rd Tuesday of each month
URL:https://htlc-anderson.org/event/welca-katies-ladies-2016-10-11/2021-02-16/
LOCATION:Office Conference Room\, 209 Broad St.\, Anderson\, SC\, 29621\, United States
GEO:34.5166123;-82.6520772
X-APPLE-STRUCTURED-LOCATION;VALUE=URI;X-ADDRESS=Office Conference Room 209 Broad St. Anderson SC 29621 United States;X-APPLE-RADIUS=500;X-TITLE=209 Broad St.:geo:-82.6520772,34.5166123
END:VEVENT
BEGIN:VEVENT
DTSTART;TZID=America/New_York:20210119T183000
DTEND;TZID=America/New_York:20210119T193000
DTSTAMP:20260424T232541
CREATED:20160912T020946Z
LAST-MODIFIED:20190124T032056Z
UID:10001000-1611081000-1611084600@htlc-anderson.org
SUMMARY:WELCA - Katie's Ladies
DESCRIPTION:Meet in the Office Conference Room on the 3rd Tuesday of each month
URL:https://htlc-anderson.org/event/welca-katies-ladies-2016-10-11/2021-01-19/
LOCATION:Office Conference Room\, 209 Broad St.\, Anderson\, SC\, 29621\, United States
GEO:34.5166123;-82.6520772
X-APPLE-STRUCTURED-LOCATION;VALUE=URI;X-ADDRESS=Office Conference Room 209 Broad St. Anderson SC 29621 United States;X-APPLE-RADIUS=500;X-TITLE=209 Broad St.:geo:-82.6520772,34.5166123
END:VEVENT
BEGIN:VEVENT
DTSTART;TZID=America/New_York:20201215T183000
DTEND;TZID=America/New_York:20201215T193000
DTSTAMP:20260424T232541
CREATED:20160912T020946Z
LAST-MODIFIED:20190124T032056Z
UID:10000999-1608057000-1608060600@htlc-anderson.org
SUMMARY:WELCA - Katie's Ladies
DESCRIPTION:Meet in the Office Conference Room on the 3rd Tuesday of each month
URL:https://htlc-anderson.org/event/welca-katies-ladies-2016-10-11/2020-12-15/
LOCATION:Office Conference Room\, 209 Broad St.\, Anderson\, SC\, 29621\, United States
GEO:34.5166123;-82.6520772
X-APPLE-STRUCTURED-LOCATION;VALUE=URI;X-ADDRESS=Office Conference Room 209 Broad St. Anderson SC 29621 United States;X-APPLE-RADIUS=500;X-TITLE=209 Broad St.:geo:-82.6520772,34.5166123
END:VEVENT
BEGIN:VEVENT
DTSTART;TZID=America/New_York:20201117T183000
DTEND;TZID=America/New_York:20201117T193000
DTSTAMP:20260424T232541
CREATED:20160912T020946Z
LAST-MODIFIED:20190124T032056Z
UID:10000998-1605637800-1605641400@htlc-anderson.org
SUMMARY:WELCA - Katie's Ladies
DESCRIPTION:Meet in the Office Conference Room on the 3rd Tuesday of each month
URL:https://htlc-anderson.org/event/welca-katies-ladies-2016-10-11/2020-11-17/
LOCATION:Office Conference Room\, 209 Broad St.\, Anderson\, SC\, 29621\, United States
GEO:34.5166123;-82.6520772
X-APPLE-STRUCTURED-LOCATION;VALUE=URI;X-ADDRESS=Office Conference Room 209 Broad St. Anderson SC 29621 United States;X-APPLE-RADIUS=500;X-TITLE=209 Broad St.:geo:-82.6520772,34.5166123
END:VEVENT
END:VCALENDAR