BEGIN:VCALENDAR
VERSION:2.0
PRODID:-//HTLC - ECPv6.15.20//NONSGML v1.0//EN
CALSCALE:GREGORIAN
METHOD:PUBLISH
X-WR-CALNAME:HTLC
X-ORIGINAL-URL:https://htlc-anderson.org
X-WR-CALDESC:Events for HTLC
REFRESH-INTERVAL;VALUE=DURATION:PT1H
X-Robots-Tag:noindex
X-PUBLISHED-TTL:PT1H
BEGIN:VTIMEZONE
TZID:America/New_York
BEGIN:DAYLIGHT
TZOFFSETFROM:-0500
TZOFFSETTO:-0400
TZNAME:EDT
DTSTART:20260308T070000
END:DAYLIGHT
BEGIN:STANDARD
TZOFFSETFROM:-0400
TZOFFSETTO:-0500
TZNAME:EST
DTSTART:20261101T060000
END:STANDARD
BEGIN:DAYLIGHT
TZOFFSETFROM:-0500
TZOFFSETTO:-0400
TZNAME:EDT
DTSTART:20270314T070000
END:DAYLIGHT
BEGIN:STANDARD
TZOFFSETFROM:-0400
TZOFFSETTO:-0500
TZNAME:EST
DTSTART:20271107T060000
END:STANDARD
BEGIN:DAYLIGHT
TZOFFSETFROM:-0500
TZOFFSETTO:-0400
TZNAME:EDT
DTSTART:20280312T070000
END:DAYLIGHT
BEGIN:STANDARD
TZOFFSETFROM:-0400
TZOFFSETTO:-0500
TZNAME:EST
DTSTART:20281105T060000
END:STANDARD
BEGIN:DAYLIGHT
TZOFFSETFROM:-0500
TZOFFSETTO:-0400
TZNAME:EDT
DTSTART:20290311T070000
END:DAYLIGHT
BEGIN:STANDARD
TZOFFSETFROM:-0400
TZOFFSETTO:-0500
TZNAME:EST
DTSTART:20291104T060000
END:STANDARD
BEGIN:DAYLIGHT
TZOFFSETFROM:-0500
TZOFFSETTO:-0400
TZNAME:EDT
DTSTART:20300310T070000
END:DAYLIGHT
BEGIN:STANDARD
TZOFFSETFROM:-0400
TZOFFSETTO:-0500
TZNAME:EST
DTSTART:20301103T060000
END:STANDARD
END:VTIMEZONE
BEGIN:VEVENT
DTSTART;TZID=America/New_York:20270316T183000
DTEND;TZID=America/New_York:20270316T193000
DTSTAMP:20260424T164451
CREATED:20160912T020946Z
LAST-MODIFIED:20190124T032056Z
UID:10004902-1805221800-1805225400@htlc-anderson.org
SUMMARY:WELCA - Katie's Ladies
DESCRIPTION:Meet in the Office Conference Room on the 3rd Tuesday of each month
URL:https://htlc-anderson.org/event/welca-katies-ladies-2016-10-11/2027-03-16/
LOCATION:Office Conference Room\, 209 Broad St.\, Anderson\, SC\, 29621\, United States
GEO:34.5166123;-82.6520772
X-APPLE-STRUCTURED-LOCATION;VALUE=URI;X-ADDRESS=Office Conference Room 209 Broad St. Anderson SC 29621 United States;X-APPLE-RADIUS=500;X-TITLE=209 Broad St.:geo:-82.6520772,34.5166123
END:VEVENT
BEGIN:VEVENT
DTSTART;TZID=America/New_York:20270420T183000
DTEND;TZID=America/New_York:20270420T193000
DTSTAMP:20260424T164451
CREATED:20160912T020946Z
LAST-MODIFIED:20190124T032056Z
UID:10004903-1808245800-1808249400@htlc-anderson.org
SUMMARY:WELCA - Katie's Ladies
DESCRIPTION:Meet in the Office Conference Room on the 3rd Tuesday of each month
URL:https://htlc-anderson.org/event/welca-katies-ladies-2016-10-11/2027-04-20/
LOCATION:Office Conference Room\, 209 Broad St.\, Anderson\, SC\, 29621\, United States
GEO:34.5166123;-82.6520772
X-APPLE-STRUCTURED-LOCATION;VALUE=URI;X-ADDRESS=Office Conference Room 209 Broad St. Anderson SC 29621 United States;X-APPLE-RADIUS=500;X-TITLE=209 Broad St.:geo:-82.6520772,34.5166123
END:VEVENT
BEGIN:VEVENT
DTSTART;TZID=America/New_York:20270518T183000
DTEND;TZID=America/New_York:20270518T193000
DTSTAMP:20260424T164451
CREATED:20160912T020946Z
LAST-MODIFIED:20190124T032056Z
UID:10004904-1810665000-1810668600@htlc-anderson.org
SUMMARY:WELCA - Katie's Ladies
DESCRIPTION:Meet in the Office Conference Room on the 3rd Tuesday of each month
URL:https://htlc-anderson.org/event/welca-katies-ladies-2016-10-11/2027-05-18/
LOCATION:Office Conference Room\, 209 Broad St.\, Anderson\, SC\, 29621\, United States
GEO:34.5166123;-82.6520772
X-APPLE-STRUCTURED-LOCATION;VALUE=URI;X-ADDRESS=Office Conference Room 209 Broad St. Anderson SC 29621 United States;X-APPLE-RADIUS=500;X-TITLE=209 Broad St.:geo:-82.6520772,34.5166123
END:VEVENT
BEGIN:VEVENT
DTSTART;TZID=America/New_York:20270615T183000
DTEND;TZID=America/New_York:20270615T193000
DTSTAMP:20260424T164451
CREATED:20160912T020946Z
LAST-MODIFIED:20190124T032056Z
UID:10004905-1813084200-1813087800@htlc-anderson.org
SUMMARY:WELCA - Katie's Ladies
DESCRIPTION:Meet in the Office Conference Room on the 3rd Tuesday of each month
URL:https://htlc-anderson.org/event/welca-katies-ladies-2016-10-11/2027-06-15/
LOCATION:Office Conference Room\, 209 Broad St.\, Anderson\, SC\, 29621\, United States
GEO:34.5166123;-82.6520772
X-APPLE-STRUCTURED-LOCATION;VALUE=URI;X-ADDRESS=Office Conference Room 209 Broad St. Anderson SC 29621 United States;X-APPLE-RADIUS=500;X-TITLE=209 Broad St.:geo:-82.6520772,34.5166123
END:VEVENT
BEGIN:VEVENT
DTSTART;TZID=America/New_York:20270720T183000
DTEND;TZID=America/New_York:20270720T193000
DTSTAMP:20260424T164451
CREATED:20160912T020946Z
LAST-MODIFIED:20190124T032056Z
UID:10004906-1816108200-1816111800@htlc-anderson.org
SUMMARY:WELCA - Katie's Ladies
DESCRIPTION:Meet in the Office Conference Room on the 3rd Tuesday of each month
URL:https://htlc-anderson.org/event/welca-katies-ladies-2016-10-11/2027-07-20/
LOCATION:Office Conference Room\, 209 Broad St.\, Anderson\, SC\, 29621\, United States
GEO:34.5166123;-82.6520772
X-APPLE-STRUCTURED-LOCATION;VALUE=URI;X-ADDRESS=Office Conference Room 209 Broad St. Anderson SC 29621 United States;X-APPLE-RADIUS=500;X-TITLE=209 Broad St.:geo:-82.6520772,34.5166123
END:VEVENT
BEGIN:VEVENT
DTSTART;TZID=America/New_York:20270817T183000
DTEND;TZID=America/New_York:20270817T193000
DTSTAMP:20260424T164451
CREATED:20160912T020946Z
LAST-MODIFIED:20190124T032056Z
UID:10004907-1818527400-1818531000@htlc-anderson.org
SUMMARY:WELCA - Katie's Ladies
DESCRIPTION:Meet in the Office Conference Room on the 3rd Tuesday of each month
URL:https://htlc-anderson.org/event/welca-katies-ladies-2016-10-11/2027-08-17/
LOCATION:Office Conference Room\, 209 Broad St.\, Anderson\, SC\, 29621\, United States
GEO:34.5166123;-82.6520772
X-APPLE-STRUCTURED-LOCATION;VALUE=URI;X-ADDRESS=Office Conference Room 209 Broad St. Anderson SC 29621 United States;X-APPLE-RADIUS=500;X-TITLE=209 Broad St.:geo:-82.6520772,34.5166123
END:VEVENT
BEGIN:VEVENT
DTSTART;TZID=America/New_York:20270921T183000
DTEND;TZID=America/New_York:20270921T193000
DTSTAMP:20260424T164451
CREATED:20160912T020946Z
LAST-MODIFIED:20190124T032056Z
UID:10004908-1821551400-1821555000@htlc-anderson.org
SUMMARY:WELCA - Katie's Ladies
DESCRIPTION:Meet in the Office Conference Room on the 3rd Tuesday of each month
URL:https://htlc-anderson.org/event/welca-katies-ladies-2016-10-11/2027-09-21/
LOCATION:Office Conference Room\, 209 Broad St.\, Anderson\, SC\, 29621\, United States
GEO:34.5166123;-82.6520772
X-APPLE-STRUCTURED-LOCATION;VALUE=URI;X-ADDRESS=Office Conference Room 209 Broad St. Anderson SC 29621 United States;X-APPLE-RADIUS=500;X-TITLE=209 Broad St.:geo:-82.6520772,34.5166123
END:VEVENT
BEGIN:VEVENT
DTSTART;TZID=America/New_York:20271019T183000
DTEND;TZID=America/New_York:20271019T193000
DTSTAMP:20260424T164451
CREATED:20160912T020946Z
LAST-MODIFIED:20190124T032056Z
UID:10004909-1823970600-1823974200@htlc-anderson.org
SUMMARY:WELCA - Katie's Ladies
DESCRIPTION:Meet in the Office Conference Room on the 3rd Tuesday of each month
URL:https://htlc-anderson.org/event/welca-katies-ladies-2016-10-11/2027-10-19/
LOCATION:Office Conference Room\, 209 Broad St.\, Anderson\, SC\, 29621\, United States
GEO:34.5166123;-82.6520772
X-APPLE-STRUCTURED-LOCATION;VALUE=URI;X-ADDRESS=Office Conference Room 209 Broad St. Anderson SC 29621 United States;X-APPLE-RADIUS=500;X-TITLE=209 Broad St.:geo:-82.6520772,34.5166123
END:VEVENT
BEGIN:VEVENT
DTSTART;TZID=America/New_York:20271116T183000
DTEND;TZID=America/New_York:20271116T193000
DTSTAMP:20260424T164451
CREATED:20160912T020946Z
LAST-MODIFIED:20190124T032056Z
UID:10004910-1826389800-1826393400@htlc-anderson.org
SUMMARY:WELCA - Katie's Ladies
DESCRIPTION:Meet in the Office Conference Room on the 3rd Tuesday of each month
URL:https://htlc-anderson.org/event/welca-katies-ladies-2016-10-11/2027-11-16/
LOCATION:Office Conference Room\, 209 Broad St.\, Anderson\, SC\, 29621\, United States
GEO:34.5166123;-82.6520772
X-APPLE-STRUCTURED-LOCATION;VALUE=URI;X-ADDRESS=Office Conference Room 209 Broad St. Anderson SC 29621 United States;X-APPLE-RADIUS=500;X-TITLE=209 Broad St.:geo:-82.6520772,34.5166123
END:VEVENT
BEGIN:VEVENT
DTSTART;TZID=America/New_York:20271221T183000
DTEND;TZID=America/New_York:20271221T193000
DTSTAMP:20260424T164451
CREATED:20160912T020946Z
LAST-MODIFIED:20190124T032056Z
UID:10004911-1829413800-1829417400@htlc-anderson.org
SUMMARY:WELCA - Katie's Ladies
DESCRIPTION:Meet in the Office Conference Room on the 3rd Tuesday of each month
URL:https://htlc-anderson.org/event/welca-katies-ladies-2016-10-11/2027-12-21/
LOCATION:Office Conference Room\, 209 Broad St.\, Anderson\, SC\, 29621\, United States
GEO:34.5166123;-82.6520772
X-APPLE-STRUCTURED-LOCATION;VALUE=URI;X-ADDRESS=Office Conference Room 209 Broad St. Anderson SC 29621 United States;X-APPLE-RADIUS=500;X-TITLE=209 Broad St.:geo:-82.6520772,34.5166123
END:VEVENT
BEGIN:VEVENT
DTSTART;TZID=America/New_York:20280118T183000
DTEND;TZID=America/New_York:20280118T193000
DTSTAMP:20260424T164451
CREATED:20160912T020946Z
LAST-MODIFIED:20190124T032056Z
UID:10004912-1831833000-1831836600@htlc-anderson.org
SUMMARY:WELCA - Katie's Ladies
DESCRIPTION:Meet in the Office Conference Room on the 3rd Tuesday of each month
URL:https://htlc-anderson.org/event/welca-katies-ladies-2016-10-11/2028-01-18/
LOCATION:Office Conference Room\, 209 Broad St.\, Anderson\, SC\, 29621\, United States
GEO:34.5166123;-82.6520772
X-APPLE-STRUCTURED-LOCATION;VALUE=URI;X-ADDRESS=Office Conference Room 209 Broad St. Anderson SC 29621 United States;X-APPLE-RADIUS=500;X-TITLE=209 Broad St.:geo:-82.6520772,34.5166123
END:VEVENT
BEGIN:VEVENT
DTSTART;TZID=America/New_York:20280215T183000
DTEND;TZID=America/New_York:20280215T193000
DTSTAMP:20260424T164451
CREATED:20160912T020946Z
LAST-MODIFIED:20190124T032056Z
UID:10004913-1834252200-1834255800@htlc-anderson.org
SUMMARY:WELCA - Katie's Ladies
DESCRIPTION:Meet in the Office Conference Room on the 3rd Tuesday of each month
URL:https://htlc-anderson.org/event/welca-katies-ladies-2016-10-11/2028-02-15/
LOCATION:Office Conference Room\, 209 Broad St.\, Anderson\, SC\, 29621\, United States
GEO:34.5166123;-82.6520772
X-APPLE-STRUCTURED-LOCATION;VALUE=URI;X-ADDRESS=Office Conference Room 209 Broad St. Anderson SC 29621 United States;X-APPLE-RADIUS=500;X-TITLE=209 Broad St.:geo:-82.6520772,34.5166123
END:VEVENT
BEGIN:VEVENT
DTSTART;TZID=America/New_York:20280321T183000
DTEND;TZID=America/New_York:20280321T193000
DTSTAMP:20260424T164451
CREATED:20160912T020946Z
LAST-MODIFIED:20190124T032056Z
UID:10004914-1837276200-1837279800@htlc-anderson.org
SUMMARY:WELCA - Katie's Ladies
DESCRIPTION:Meet in the Office Conference Room on the 3rd Tuesday of each month
URL:https://htlc-anderson.org/event/welca-katies-ladies-2016-10-11/2028-03-21/
LOCATION:Office Conference Room\, 209 Broad St.\, Anderson\, SC\, 29621\, United States
GEO:34.5166123;-82.6520772
X-APPLE-STRUCTURED-LOCATION;VALUE=URI;X-ADDRESS=Office Conference Room 209 Broad St. Anderson SC 29621 United States;X-APPLE-RADIUS=500;X-TITLE=209 Broad St.:geo:-82.6520772,34.5166123
END:VEVENT
BEGIN:VEVENT
DTSTART;TZID=America/New_York:20280418T183000
DTEND;TZID=America/New_York:20280418T193000
DTSTAMP:20260424T164451
CREATED:20160912T020946Z
LAST-MODIFIED:20190124T032056Z
UID:10004915-1839695400-1839699000@htlc-anderson.org
SUMMARY:WELCA - Katie's Ladies
DESCRIPTION:Meet in the Office Conference Room on the 3rd Tuesday of each month
URL:https://htlc-anderson.org/event/welca-katies-ladies-2016-10-11/2028-04-18/
LOCATION:Office Conference Room\, 209 Broad St.\, Anderson\, SC\, 29621\, United States
GEO:34.5166123;-82.6520772
X-APPLE-STRUCTURED-LOCATION;VALUE=URI;X-ADDRESS=Office Conference Room 209 Broad St. Anderson SC 29621 United States;X-APPLE-RADIUS=500;X-TITLE=209 Broad St.:geo:-82.6520772,34.5166123
END:VEVENT
BEGIN:VEVENT
DTSTART;TZID=America/New_York:20280516T183000
DTEND;TZID=America/New_York:20280516T193000
DTSTAMP:20260424T164451
CREATED:20160912T020946Z
LAST-MODIFIED:20190124T032056Z
UID:10004916-1842114600-1842118200@htlc-anderson.org
SUMMARY:WELCA - Katie's Ladies
DESCRIPTION:Meet in the Office Conference Room on the 3rd Tuesday of each month
URL:https://htlc-anderson.org/event/welca-katies-ladies-2016-10-11/2028-05-16/
LOCATION:Office Conference Room\, 209 Broad St.\, Anderson\, SC\, 29621\, United States
GEO:34.5166123;-82.6520772
X-APPLE-STRUCTURED-LOCATION;VALUE=URI;X-ADDRESS=Office Conference Room 209 Broad St. Anderson SC 29621 United States;X-APPLE-RADIUS=500;X-TITLE=209 Broad St.:geo:-82.6520772,34.5166123
END:VEVENT
BEGIN:VEVENT
DTSTART;TZID=America/New_York:20280620T183000
DTEND;TZID=America/New_York:20280620T193000
DTSTAMP:20260424T164451
CREATED:20160912T020946Z
LAST-MODIFIED:20190124T032056Z
UID:10004917-1845138600-1845142200@htlc-anderson.org
SUMMARY:WELCA - Katie's Ladies
DESCRIPTION:Meet in the Office Conference Room on the 3rd Tuesday of each month
URL:https://htlc-anderson.org/event/welca-katies-ladies-2016-10-11/2028-06-20/
LOCATION:Office Conference Room\, 209 Broad St.\, Anderson\, SC\, 29621\, United States
GEO:34.5166123;-82.6520772
X-APPLE-STRUCTURED-LOCATION;VALUE=URI;X-ADDRESS=Office Conference Room 209 Broad St. Anderson SC 29621 United States;X-APPLE-RADIUS=500;X-TITLE=209 Broad St.:geo:-82.6520772,34.5166123
END:VEVENT
BEGIN:VEVENT
DTSTART;TZID=America/New_York:20280718T183000
DTEND;TZID=America/New_York:20280718T193000
DTSTAMP:20260424T164451
CREATED:20160912T020946Z
LAST-MODIFIED:20190124T032056Z
UID:10004918-1847557800-1847561400@htlc-anderson.org
SUMMARY:WELCA - Katie's Ladies
DESCRIPTION:Meet in the Office Conference Room on the 3rd Tuesday of each month
URL:https://htlc-anderson.org/event/welca-katies-ladies-2016-10-11/2028-07-18/
LOCATION:Office Conference Room\, 209 Broad St.\, Anderson\, SC\, 29621\, United States
GEO:34.5166123;-82.6520772
X-APPLE-STRUCTURED-LOCATION;VALUE=URI;X-ADDRESS=Office Conference Room 209 Broad St. Anderson SC 29621 United States;X-APPLE-RADIUS=500;X-TITLE=209 Broad St.:geo:-82.6520772,34.5166123
END:VEVENT
BEGIN:VEVENT
DTSTART;TZID=America/New_York:20280815T183000
DTEND;TZID=America/New_York:20280815T193000
DTSTAMP:20260424T164451
CREATED:20160912T020946Z
LAST-MODIFIED:20190124T032056Z
UID:10004919-1849977000-1849980600@htlc-anderson.org
SUMMARY:WELCA - Katie's Ladies
DESCRIPTION:Meet in the Office Conference Room on the 3rd Tuesday of each month
URL:https://htlc-anderson.org/event/welca-katies-ladies-2016-10-11/2028-08-15/
LOCATION:Office Conference Room\, 209 Broad St.\, Anderson\, SC\, 29621\, United States
GEO:34.5166123;-82.6520772
X-APPLE-STRUCTURED-LOCATION;VALUE=URI;X-ADDRESS=Office Conference Room 209 Broad St. Anderson SC 29621 United States;X-APPLE-RADIUS=500;X-TITLE=209 Broad St.:geo:-82.6520772,34.5166123
END:VEVENT
BEGIN:VEVENT
DTSTART;TZID=America/New_York:20280919T183000
DTEND;TZID=America/New_York:20280919T193000
DTSTAMP:20260424T164451
CREATED:20160912T020946Z
LAST-MODIFIED:20190124T032056Z
UID:10005620-1853001000-1853004600@htlc-anderson.org
SUMMARY:WELCA - Katie's Ladies
DESCRIPTION:Meet in the Office Conference Room on the 3rd Tuesday of each month
URL:https://htlc-anderson.org/event/welca-katies-ladies-2016-10-11/2028-09-19/
LOCATION:Office Conference Room\, 209 Broad St.\, Anderson\, SC\, 29621\, United States
GEO:34.5166123;-82.6520772
X-APPLE-STRUCTURED-LOCATION;VALUE=URI;X-ADDRESS=Office Conference Room 209 Broad St. Anderson SC 29621 United States;X-APPLE-RADIUS=500;X-TITLE=209 Broad St.:geo:-82.6520772,34.5166123
END:VEVENT
BEGIN:VEVENT
DTSTART;TZID=America/New_York:20281017T183000
DTEND;TZID=America/New_York:20281017T193000
DTSTAMP:20260424T164451
CREATED:20160912T020946Z
LAST-MODIFIED:20190124T032056Z
UID:10005621-1855420200-1855423800@htlc-anderson.org
SUMMARY:WELCA - Katie's Ladies
DESCRIPTION:Meet in the Office Conference Room on the 3rd Tuesday of each month
URL:https://htlc-anderson.org/event/welca-katies-ladies-2016-10-11/2028-10-17/
LOCATION:Office Conference Room\, 209 Broad St.\, Anderson\, SC\, 29621\, United States
GEO:34.5166123;-82.6520772
X-APPLE-STRUCTURED-LOCATION;VALUE=URI;X-ADDRESS=Office Conference Room 209 Broad St. Anderson SC 29621 United States;X-APPLE-RADIUS=500;X-TITLE=209 Broad St.:geo:-82.6520772,34.5166123
END:VEVENT
BEGIN:VEVENT
DTSTART;TZID=America/New_York:20281121T183000
DTEND;TZID=America/New_York:20281121T193000
DTSTAMP:20260424T164451
CREATED:20160912T020946Z
LAST-MODIFIED:20190124T032056Z
UID:10005622-1858444200-1858447800@htlc-anderson.org
SUMMARY:WELCA - Katie's Ladies
DESCRIPTION:Meet in the Office Conference Room on the 3rd Tuesday of each month
URL:https://htlc-anderson.org/event/welca-katies-ladies-2016-10-11/2028-11-21/
LOCATION:Office Conference Room\, 209 Broad St.\, Anderson\, SC\, 29621\, United States
GEO:34.5166123;-82.6520772
X-APPLE-STRUCTURED-LOCATION;VALUE=URI;X-ADDRESS=Office Conference Room 209 Broad St. Anderson SC 29621 United States;X-APPLE-RADIUS=500;X-TITLE=209 Broad St.:geo:-82.6520772,34.5166123
END:VEVENT
BEGIN:VEVENT
DTSTART;TZID=America/New_York:20281219T183000
DTEND;TZID=America/New_York:20281219T193000
DTSTAMP:20260424T164451
CREATED:20160912T020946Z
LAST-MODIFIED:20190124T032056Z
UID:10005700-1860863400-1860867000@htlc-anderson.org
SUMMARY:WELCA - Katie's Ladies
DESCRIPTION:Meet in the Office Conference Room on the 3rd Tuesday of each month
URL:https://htlc-anderson.org/event/welca-katies-ladies-2016-10-11/2028-12-19/
LOCATION:Office Conference Room\, 209 Broad St.\, Anderson\, SC\, 29621\, United States
GEO:34.5166123;-82.6520772
X-APPLE-STRUCTURED-LOCATION;VALUE=URI;X-ADDRESS=Office Conference Room 209 Broad St. Anderson SC 29621 United States;X-APPLE-RADIUS=500;X-TITLE=209 Broad St.:geo:-82.6520772,34.5166123
END:VEVENT
BEGIN:VEVENT
DTSTART;TZID=America/New_York:20290116T183000
DTEND;TZID=America/New_York:20290116T193000
DTSTAMP:20260424T164451
CREATED:20160912T020946Z
LAST-MODIFIED:20190124T032056Z
UID:10006809-1863282600-1863286200@htlc-anderson.org
SUMMARY:WELCA - Katie's Ladies
DESCRIPTION:Meet in the Office Conference Room on the 3rd Tuesday of each month
URL:https://htlc-anderson.org/event/welca-katies-ladies-2016-10-11/2029-01-16/
LOCATION:Office Conference Room\, 209 Broad St.\, Anderson\, SC\, 29621\, United States
GEO:34.5166123;-82.6520772
X-APPLE-STRUCTURED-LOCATION;VALUE=URI;X-ADDRESS=Office Conference Room 209 Broad St. Anderson SC 29621 United States;X-APPLE-RADIUS=500;X-TITLE=209 Broad St.:geo:-82.6520772,34.5166123
END:VEVENT
BEGIN:VEVENT
DTSTART;TZID=America/New_York:20290220T183000
DTEND;TZID=America/New_York:20290220T193000
DTSTAMP:20260424T164451
CREATED:20160912T020946Z
LAST-MODIFIED:20190124T032056Z
UID:10006810-1866306600-1866310200@htlc-anderson.org
SUMMARY:WELCA - Katie's Ladies
DESCRIPTION:Meet in the Office Conference Room on the 3rd Tuesday of each month
URL:https://htlc-anderson.org/event/welca-katies-ladies-2016-10-11/2029-02-20/
LOCATION:Office Conference Room\, 209 Broad St.\, Anderson\, SC\, 29621\, United States
GEO:34.5166123;-82.6520772
X-APPLE-STRUCTURED-LOCATION;VALUE=URI;X-ADDRESS=Office Conference Room 209 Broad St. Anderson SC 29621 United States;X-APPLE-RADIUS=500;X-TITLE=209 Broad St.:geo:-82.6520772,34.5166123
END:VEVENT
BEGIN:VEVENT
DTSTART;TZID=America/New_York:20290320T183000
DTEND;TZID=America/New_York:20290320T193000
DTSTAMP:20260424T164451
CREATED:20160912T020946Z
LAST-MODIFIED:20190124T032056Z
UID:10006811-1868725800-1868729400@htlc-anderson.org
SUMMARY:WELCA - Katie's Ladies
DESCRIPTION:Meet in the Office Conference Room on the 3rd Tuesday of each month
URL:https://htlc-anderson.org/event/welca-katies-ladies-2016-10-11/2029-03-20/
LOCATION:Office Conference Room\, 209 Broad St.\, Anderson\, SC\, 29621\, United States
GEO:34.5166123;-82.6520772
X-APPLE-STRUCTURED-LOCATION;VALUE=URI;X-ADDRESS=Office Conference Room 209 Broad St. Anderson SC 29621 United States;X-APPLE-RADIUS=500;X-TITLE=209 Broad St.:geo:-82.6520772,34.5166123
END:VEVENT
BEGIN:VEVENT
DTSTART;TZID=America/New_York:20290417T183000
DTEND;TZID=America/New_York:20290417T193000
DTSTAMP:20260424T164451
CREATED:20160912T020946Z
LAST-MODIFIED:20190124T032056Z
UID:10006812-1871145000-1871148600@htlc-anderson.org
SUMMARY:WELCA - Katie's Ladies
DESCRIPTION:Meet in the Office Conference Room on the 3rd Tuesday of each month
URL:https://htlc-anderson.org/event/welca-katies-ladies-2016-10-11/2029-04-17/
LOCATION:Office Conference Room\, 209 Broad St.\, Anderson\, SC\, 29621\, United States
GEO:34.5166123;-82.6520772
X-APPLE-STRUCTURED-LOCATION;VALUE=URI;X-ADDRESS=Office Conference Room 209 Broad St. Anderson SC 29621 United States;X-APPLE-RADIUS=500;X-TITLE=209 Broad St.:geo:-82.6520772,34.5166123
END:VEVENT
BEGIN:VEVENT
DTSTART;TZID=America/New_York:20290515T183000
DTEND;TZID=America/New_York:20290515T193000
DTSTAMP:20260424T164451
CREATED:20160912T020946Z
LAST-MODIFIED:20190124T032056Z
UID:10006813-1873564200-1873567800@htlc-anderson.org
SUMMARY:WELCA - Katie's Ladies
DESCRIPTION:Meet in the Office Conference Room on the 3rd Tuesday of each month
URL:https://htlc-anderson.org/event/welca-katies-ladies-2016-10-11/2029-05-15/
LOCATION:Office Conference Room\, 209 Broad St.\, Anderson\, SC\, 29621\, United States
GEO:34.5166123;-82.6520772
X-APPLE-STRUCTURED-LOCATION;VALUE=URI;X-ADDRESS=Office Conference Room 209 Broad St. Anderson SC 29621 United States;X-APPLE-RADIUS=500;X-TITLE=209 Broad St.:geo:-82.6520772,34.5166123
END:VEVENT
BEGIN:VEVENT
DTSTART;TZID=America/New_York:20290619T183000
DTEND;TZID=America/New_York:20290619T193000
DTSTAMP:20260424T164451
CREATED:20160912T020946Z
LAST-MODIFIED:20190124T032056Z
UID:10006814-1876588200-1876591800@htlc-anderson.org
SUMMARY:WELCA - Katie's Ladies
DESCRIPTION:Meet in the Office Conference Room on the 3rd Tuesday of each month
URL:https://htlc-anderson.org/event/welca-katies-ladies-2016-10-11/2029-06-19/
LOCATION:Office Conference Room\, 209 Broad St.\, Anderson\, SC\, 29621\, United States
GEO:34.5166123;-82.6520772
X-APPLE-STRUCTURED-LOCATION;VALUE=URI;X-ADDRESS=Office Conference Room 209 Broad St. Anderson SC 29621 United States;X-APPLE-RADIUS=500;X-TITLE=209 Broad St.:geo:-82.6520772,34.5166123
END:VEVENT
BEGIN:VEVENT
DTSTART;TZID=America/New_York:20290717T183000
DTEND;TZID=America/New_York:20290717T193000
DTSTAMP:20260424T164451
CREATED:20160912T020946Z
LAST-MODIFIED:20190124T032056Z
UID:10006815-1879007400-1879011000@htlc-anderson.org
SUMMARY:WELCA - Katie's Ladies
DESCRIPTION:Meet in the Office Conference Room on the 3rd Tuesday of each month
URL:https://htlc-anderson.org/event/welca-katies-ladies-2016-10-11/2029-07-17/
LOCATION:Office Conference Room\, 209 Broad St.\, Anderson\, SC\, 29621\, United States
GEO:34.5166123;-82.6520772
X-APPLE-STRUCTURED-LOCATION;VALUE=URI;X-ADDRESS=Office Conference Room 209 Broad St. Anderson SC 29621 United States;X-APPLE-RADIUS=500;X-TITLE=209 Broad St.:geo:-82.6520772,34.5166123
END:VEVENT
BEGIN:VEVENT
DTSTART;TZID=America/New_York:20290821T183000
DTEND;TZID=America/New_York:20290821T193000
DTSTAMP:20260424T164451
CREATED:20160912T020946Z
LAST-MODIFIED:20190124T032056Z
UID:10006816-1882031400-1882035000@htlc-anderson.org
SUMMARY:WELCA - Katie's Ladies
DESCRIPTION:Meet in the Office Conference Room on the 3rd Tuesday of each month
URL:https://htlc-anderson.org/event/welca-katies-ladies-2016-10-11/2029-08-21/
LOCATION:Office Conference Room\, 209 Broad St.\, Anderson\, SC\, 29621\, United States
GEO:34.5166123;-82.6520772
X-APPLE-STRUCTURED-LOCATION;VALUE=URI;X-ADDRESS=Office Conference Room 209 Broad St. Anderson SC 29621 United States;X-APPLE-RADIUS=500;X-TITLE=209 Broad St.:geo:-82.6520772,34.5166123
END:VEVENT
END:VCALENDAR