BEGIN:VCALENDAR
VERSION:2.0
PRODID:-//HTLC - ECPv6.15.20//NONSGML v1.0//EN
CALSCALE:GREGORIAN
METHOD:PUBLISH
X-ORIGINAL-URL:https://htlc-anderson.org
X-WR-CALDESC:Events for HTLC
REFRESH-INTERVAL;VALUE=DURATION:PT1H
X-Robots-Tag:noindex
X-PUBLISHED-TTL:PT1H
BEGIN:VTIMEZONE
TZID:America/New_York
BEGIN:DAYLIGHT
TZOFFSETFROM:-0500
TZOFFSETTO:-0400
TZNAME:EDT
DTSTART:20220313T070000
END:DAYLIGHT
BEGIN:STANDARD
TZOFFSETFROM:-0400
TZOFFSETTO:-0500
TZNAME:EST
DTSTART:20221106T060000
END:STANDARD
BEGIN:DAYLIGHT
TZOFFSETFROM:-0500
TZOFFSETTO:-0400
TZNAME:EDT
DTSTART:20230312T070000
END:DAYLIGHT
BEGIN:STANDARD
TZOFFSETFROM:-0400
TZOFFSETTO:-0500
TZNAME:EST
DTSTART:20231105T060000
END:STANDARD
BEGIN:DAYLIGHT
TZOFFSETFROM:-0500
TZOFFSETTO:-0400
TZNAME:EDT
DTSTART:20240310T070000
END:DAYLIGHT
BEGIN:STANDARD
TZOFFSETFROM:-0400
TZOFFSETTO:-0500
TZNAME:EST
DTSTART:20241103T060000
END:STANDARD
BEGIN:DAYLIGHT
TZOFFSETFROM:-0500
TZOFFSETTO:-0400
TZNAME:EDT
DTSTART:20250309T070000
END:DAYLIGHT
BEGIN:STANDARD
TZOFFSETFROM:-0400
TZOFFSETTO:-0500
TZNAME:EST
DTSTART:20251102T060000
END:STANDARD
BEGIN:DAYLIGHT
TZOFFSETFROM:-0500
TZOFFSETTO:-0400
TZNAME:EDT
DTSTART:20260308T070000
END:DAYLIGHT
BEGIN:STANDARD
TZOFFSETFROM:-0400
TZOFFSETTO:-0500
TZNAME:EST
DTSTART:20261101T060000
END:STANDARD
BEGIN:DAYLIGHT
TZOFFSETFROM:-0500
TZOFFSETTO:-0400
TZNAME:EDT
DTSTART:20270314T070000
END:DAYLIGHT
BEGIN:STANDARD
TZOFFSETFROM:-0400
TZOFFSETTO:-0500
TZNAME:EST
DTSTART:20271107T060000
END:STANDARD
END:VTIMEZONE
BEGIN:VEVENT
DTSTART;TZID=America/New_York:20260421T183000
DTEND;TZID=America/New_York:20260421T193000
DTSTAMP:20260424T183406
CREATED:20160912T020946Z
LAST-MODIFIED:20190124T032056Z
UID:10004891-1776796200-1776799800@htlc-anderson.org
SUMMARY:WELCA - Katie's Ladies
DESCRIPTION:Meet in the Office Conference Room on the 3rd Tuesday of each month
URL:https://htlc-anderson.org/event/welca-katies-ladies-2016-10-11/2026-04-21/
LOCATION:Office Conference Room\, 209 Broad St.\, Anderson\, SC\, 29621\, United States
GEO:34.5166123;-82.6520772
X-APPLE-STRUCTURED-LOCATION;VALUE=URI;X-ADDRESS=Office Conference Room 209 Broad St. Anderson SC 29621 United States;X-APPLE-RADIUS=500;X-TITLE=209 Broad St.:geo:-82.6520772,34.5166123
END:VEVENT
BEGIN:VEVENT
DTSTART;TZID=America/New_York:20260317T183000
DTEND;TZID=America/New_York:20260317T193000
DTSTAMP:20260424T183406
CREATED:20160912T020946Z
LAST-MODIFIED:20190124T032056Z
UID:10004890-1773772200-1773775800@htlc-anderson.org
SUMMARY:WELCA - Katie's Ladies
DESCRIPTION:Meet in the Office Conference Room on the 3rd Tuesday of each month
URL:https://htlc-anderson.org/event/welca-katies-ladies-2016-10-11/2026-03-17/
LOCATION:Office Conference Room\, 209 Broad St.\, Anderson\, SC\, 29621\, United States
GEO:34.5166123;-82.6520772
X-APPLE-STRUCTURED-LOCATION;VALUE=URI;X-ADDRESS=Office Conference Room 209 Broad St. Anderson SC 29621 United States;X-APPLE-RADIUS=500;X-TITLE=209 Broad St.:geo:-82.6520772,34.5166123
END:VEVENT
BEGIN:VEVENT
DTSTART;TZID=America/New_York:20251021T183000
DTEND;TZID=America/New_York:20251021T193000
DTSTAMP:20260424T183406
CREATED:20160912T020946Z
LAST-MODIFIED:20190124T032056Z
UID:10004885-1761071400-1761075000@htlc-anderson.org
SUMMARY:WELCA - Katie's Ladies
DESCRIPTION:Meet in the Office Conference Room on the 3rd Tuesday of each month
URL:https://htlc-anderson.org/event/welca-katies-ladies-2016-10-11/2025-10-21/
LOCATION:Office Conference Room\, 209 Broad St.\, Anderson\, SC\, 29621\, United States
GEO:34.5166123;-82.6520772
X-APPLE-STRUCTURED-LOCATION;VALUE=URI;X-ADDRESS=Office Conference Room 209 Broad St. Anderson SC 29621 United States;X-APPLE-RADIUS=500;X-TITLE=209 Broad St.:geo:-82.6520772,34.5166123
END:VEVENT
BEGIN:VEVENT
DTSTART;TZID=America/New_York:20250218T183000
DTEND;TZID=America/New_York:20250218T193000
DTSTAMP:20260424T183406
CREATED:20160912T020946Z
LAST-MODIFIED:20190124T032056Z
UID:10004877-1739903400-1739907000@htlc-anderson.org
SUMMARY:WELCA - Katie's Ladies
DESCRIPTION:Meet in the Office Conference Room on the 3rd Tuesday of each month
URL:https://htlc-anderson.org/event/welca-katies-ladies-2016-10-11/2025-02-18/
LOCATION:Office Conference Room\, 209 Broad St.\, Anderson\, SC\, 29621\, United States
GEO:34.5166123;-82.6520772
X-APPLE-STRUCTURED-LOCATION;VALUE=URI;X-ADDRESS=Office Conference Room 209 Broad St. Anderson SC 29621 United States;X-APPLE-RADIUS=500;X-TITLE=209 Broad St.:geo:-82.6520772,34.5166123
END:VEVENT
BEGIN:VEVENT
DTSTART;TZID=America/New_York:20250121T183000
DTEND;TZID=America/New_York:20250121T193000
DTSTAMP:20260424T183406
CREATED:20160912T020946Z
LAST-MODIFIED:20190124T032056Z
UID:10004876-1737484200-1737487800@htlc-anderson.org
SUMMARY:WELCA - Katie's Ladies
DESCRIPTION:Meet in the Office Conference Room on the 3rd Tuesday of each month
URL:https://htlc-anderson.org/event/welca-katies-ladies-2016-10-11/2025-01-21/
LOCATION:Office Conference Room\, 209 Broad St.\, Anderson\, SC\, 29621\, United States
GEO:34.5166123;-82.6520772
X-APPLE-STRUCTURED-LOCATION;VALUE=URI;X-ADDRESS=Office Conference Room 209 Broad St. Anderson SC 29621 United States;X-APPLE-RADIUS=500;X-TITLE=209 Broad St.:geo:-82.6520772,34.5166123
END:VEVENT
BEGIN:VEVENT
DTSTART;TZID=America/New_York:20241217T183000
DTEND;TZID=America/New_York:20241217T193000
DTSTAMP:20260424T183406
CREATED:20160912T020946Z
LAST-MODIFIED:20190124T032056Z
UID:10004875-1734460200-1734463800@htlc-anderson.org
SUMMARY:WELCA - Katie's Ladies
DESCRIPTION:Meet in the Office Conference Room on the 3rd Tuesday of each month
URL:https://htlc-anderson.org/event/welca-katies-ladies-2016-10-11/2024-12-17/
LOCATION:Office Conference Room\, 209 Broad St.\, Anderson\, SC\, 29621\, United States
GEO:34.5166123;-82.6520772
X-APPLE-STRUCTURED-LOCATION;VALUE=URI;X-ADDRESS=Office Conference Room 209 Broad St. Anderson SC 29621 United States;X-APPLE-RADIUS=500;X-TITLE=209 Broad St.:geo:-82.6520772,34.5166123
END:VEVENT
BEGIN:VEVENT
DTSTART;TZID=America/New_York:20241119T183000
DTEND;TZID=America/New_York:20241119T193000
DTSTAMP:20260424T183406
CREATED:20160912T020946Z
LAST-MODIFIED:20190124T032056Z
UID:10004874-1732041000-1732044600@htlc-anderson.org
SUMMARY:WELCA - Katie's Ladies
DESCRIPTION:Meet in the Office Conference Room on the 3rd Tuesday of each month
URL:https://htlc-anderson.org/event/welca-katies-ladies-2016-10-11/2024-11-19/
LOCATION:Office Conference Room\, 209 Broad St.\, Anderson\, SC\, 29621\, United States
GEO:34.5166123;-82.6520772
X-APPLE-STRUCTURED-LOCATION;VALUE=URI;X-ADDRESS=Office Conference Room 209 Broad St. Anderson SC 29621 United States;X-APPLE-RADIUS=500;X-TITLE=209 Broad St.:geo:-82.6520772,34.5166123
END:VEVENT
BEGIN:VEVENT
DTSTART;TZID=America/New_York:20241015T183000
DTEND;TZID=America/New_York:20241015T193000
DTSTAMP:20260424T183406
CREATED:20160912T020946Z
LAST-MODIFIED:20190124T032056Z
UID:10003386-1729017000-1729020600@htlc-anderson.org
SUMMARY:WELCA - Katie's Ladies
DESCRIPTION:Meet in the Office Conference Room on the 3rd Tuesday of each month
URL:https://htlc-anderson.org/event/welca-katies-ladies-2016-10-11/2024-10-15/
LOCATION:Office Conference Room\, 209 Broad St.\, Anderson\, SC\, 29621\, United States
GEO:34.5166123;-82.6520772
X-APPLE-STRUCTURED-LOCATION;VALUE=URI;X-ADDRESS=Office Conference Room 209 Broad St. Anderson SC 29621 United States;X-APPLE-RADIUS=500;X-TITLE=209 Broad St.:geo:-82.6520772,34.5166123
END:VEVENT
BEGIN:VEVENT
DTSTART;TZID=America/New_York:20240917T183000
DTEND;TZID=America/New_York:20240917T193000
DTSTAMP:20260424T183406
CREATED:20160912T020946Z
LAST-MODIFIED:20190124T032056Z
UID:10003385-1726597800-1726601400@htlc-anderson.org
SUMMARY:WELCA - Katie's Ladies
DESCRIPTION:Meet in the Office Conference Room on the 3rd Tuesday of each month
URL:https://htlc-anderson.org/event/welca-katies-ladies-2016-10-11/2024-09-17/
LOCATION:Office Conference Room\, 209 Broad St.\, Anderson\, SC\, 29621\, United States
GEO:34.5166123;-82.6520772
X-APPLE-STRUCTURED-LOCATION;VALUE=URI;X-ADDRESS=Office Conference Room 209 Broad St. Anderson SC 29621 United States;X-APPLE-RADIUS=500;X-TITLE=209 Broad St.:geo:-82.6520772,34.5166123
END:VEVENT
BEGIN:VEVENT
DTSTART;TZID=America/New_York:20240820T190000
DTEND;TZID=America/New_York:20240820T200000
DTSTAMP:20260424T183406
CREATED:20240802T150250Z
LAST-MODIFIED:20240802T150250Z
UID:10006198-1724180400-1724184000@htlc-anderson.org
SUMMARY:7PM Support Committee Meeting
DESCRIPTION:7PM Support Committee Meeting \nOffice Conferance Room
URL:https://htlc-anderson.org/event/7pm-support-committee-meeting-3/
LOCATION:Office Conference Room\, 209 Broad St.\, Anderson\, SC\, 29621\, United States
GEO:34.5166123;-82.6520772
X-APPLE-STRUCTURED-LOCATION;VALUE=URI;X-ADDRESS=Office Conference Room 209 Broad St. Anderson SC 29621 United States;X-APPLE-RADIUS=500;X-TITLE=209 Broad St.:geo:-82.6520772,34.5166123
END:VEVENT
BEGIN:VEVENT
DTSTART;TZID=America/New_York:20240820T183000
DTEND;TZID=America/New_York:20240820T193000
DTSTAMP:20260424T183406
CREATED:20160912T020946Z
LAST-MODIFIED:20190124T032056Z
UID:10001043-1724178600-1724182200@htlc-anderson.org
SUMMARY:WELCA - Katie's Ladies
DESCRIPTION:Meet in the Office Conference Room on the 3rd Tuesday of each month
URL:https://htlc-anderson.org/event/welca-katies-ladies-2016-10-11/2024-08-20/
LOCATION:Office Conference Room\, 209 Broad St.\, Anderson\, SC\, 29621\, United States
GEO:34.5166123;-82.6520772
X-APPLE-STRUCTURED-LOCATION;VALUE=URI;X-ADDRESS=Office Conference Room 209 Broad St. Anderson SC 29621 United States;X-APPLE-RADIUS=500;X-TITLE=209 Broad St.:geo:-82.6520772,34.5166123
END:VEVENT
BEGIN:VEVENT
DTSTART;TZID=America/New_York:20240716T183000
DTEND;TZID=America/New_York:20240716T193000
DTSTAMP:20260424T183406
CREATED:20160912T020946Z
LAST-MODIFIED:20190124T032056Z
UID:10001042-1721154600-1721158200@htlc-anderson.org
SUMMARY:WELCA - Katie's Ladies
DESCRIPTION:Meet in the Office Conference Room on the 3rd Tuesday of each month
URL:https://htlc-anderson.org/event/welca-katies-ladies-2016-10-11/2024-07-16/
LOCATION:Office Conference Room\, 209 Broad St.\, Anderson\, SC\, 29621\, United States
GEO:34.5166123;-82.6520772
X-APPLE-STRUCTURED-LOCATION;VALUE=URI;X-ADDRESS=Office Conference Room 209 Broad St. Anderson SC 29621 United States;X-APPLE-RADIUS=500;X-TITLE=209 Broad St.:geo:-82.6520772,34.5166123
END:VEVENT
BEGIN:VEVENT
DTSTART;TZID=America/New_York:20240618T183000
DTEND;TZID=America/New_York:20240618T193000
DTSTAMP:20260424T183406
CREATED:20160912T020946Z
LAST-MODIFIED:20190124T032056Z
UID:10001041-1718735400-1718739000@htlc-anderson.org
SUMMARY:WELCA - Katie's Ladies
DESCRIPTION:Meet in the Office Conference Room on the 3rd Tuesday of each month
URL:https://htlc-anderson.org/event/welca-katies-ladies-2016-10-11/2024-06-18/
LOCATION:Office Conference Room\, 209 Broad St.\, Anderson\, SC\, 29621\, United States
GEO:34.5166123;-82.6520772
X-APPLE-STRUCTURED-LOCATION;VALUE=URI;X-ADDRESS=Office Conference Room 209 Broad St. Anderson SC 29621 United States;X-APPLE-RADIUS=500;X-TITLE=209 Broad St.:geo:-82.6520772,34.5166123
END:VEVENT
BEGIN:VEVENT
DTSTART;TZID=America/New_York:20240521T183000
DTEND;TZID=America/New_York:20240521T193000
DTSTAMP:20260424T183406
CREATED:20160912T020946Z
LAST-MODIFIED:20190124T032056Z
UID:10001040-1716316200-1716319800@htlc-anderson.org
SUMMARY:WELCA - Katie's Ladies
DESCRIPTION:Meet in the Office Conference Room on the 3rd Tuesday of each month
URL:https://htlc-anderson.org/event/welca-katies-ladies-2016-10-11/2024-05-21/
LOCATION:Office Conference Room\, 209 Broad St.\, Anderson\, SC\, 29621\, United States
GEO:34.5166123;-82.6520772
X-APPLE-STRUCTURED-LOCATION;VALUE=URI;X-ADDRESS=Office Conference Room 209 Broad St. Anderson SC 29621 United States;X-APPLE-RADIUS=500;X-TITLE=209 Broad St.:geo:-82.6520772,34.5166123
END:VEVENT
BEGIN:VEVENT
DTSTART;TZID=America/New_York:20240416T183000
DTEND;TZID=America/New_York:20240416T193000
DTSTAMP:20260424T183406
CREATED:20160912T020946Z
LAST-MODIFIED:20190124T032056Z
UID:10001039-1713292200-1713295800@htlc-anderson.org
SUMMARY:WELCA - Katie's Ladies
DESCRIPTION:Meet in the Office Conference Room on the 3rd Tuesday of each month
URL:https://htlc-anderson.org/event/welca-katies-ladies-2016-10-11/2024-04-16/
LOCATION:Office Conference Room\, 209 Broad St.\, Anderson\, SC\, 29621\, United States
GEO:34.5166123;-82.6520772
X-APPLE-STRUCTURED-LOCATION;VALUE=URI;X-ADDRESS=Office Conference Room 209 Broad St. Anderson SC 29621 United States;X-APPLE-RADIUS=500;X-TITLE=209 Broad St.:geo:-82.6520772,34.5166123
END:VEVENT
BEGIN:VEVENT
DTSTART;TZID=America/New_York:20240319T183000
DTEND;TZID=America/New_York:20240319T193000
DTSTAMP:20260424T183406
CREATED:20160912T020946Z
LAST-MODIFIED:20190124T032056Z
UID:10001038-1710873000-1710876600@htlc-anderson.org
SUMMARY:WELCA - Katie's Ladies
DESCRIPTION:Meet in the Office Conference Room on the 3rd Tuesday of each month
URL:https://htlc-anderson.org/event/welca-katies-ladies-2016-10-11/2024-03-19/
LOCATION:Office Conference Room\, 209 Broad St.\, Anderson\, SC\, 29621\, United States
GEO:34.5166123;-82.6520772
X-APPLE-STRUCTURED-LOCATION;VALUE=URI;X-ADDRESS=Office Conference Room 209 Broad St. Anderson SC 29621 United States;X-APPLE-RADIUS=500;X-TITLE=209 Broad St.:geo:-82.6520772,34.5166123
END:VEVENT
BEGIN:VEVENT
DTSTART;TZID=America/New_York:20240224T100000
DTEND;TZID=America/New_York:20240224T110000
DTSTAMP:20260424T183406
CREATED:20240201T230554Z
LAST-MODIFIED:20240201T230554Z
UID:10005710-1708768800-1708772400@htlc-anderson.org
SUMMARY:10AM Weekend Snack Notes of Encouragement
DESCRIPTION:Weekend Snack\nNotes of Encouragement\nSaturday\, February 24\, 2024\n10:00 – 11:00 a.m.\nOffice Conference Room \nChildhood hunger is real. In South Carolina\, 60% of school-age children qualify for free or reduced breakfast and lunch at school. But what happens on the weekend when these children aren’t in school. The Weekend SnackPack Program\, sponsored by the United Way of Anderson County\, steps in to fill the gap. Through this program\, teachers and guidance counselors at area elementary schools identify children who fall into this weekend hunger gap. On Fridays\, each child enrolled in the program receives a bag of child-friendly\, ready-to-eat foods to take home for the weekend.\nThe first thing a child sees when they open their bag is a colorful\, handwritten note of encouragement made by volunteers. This note is a simple message to let each child know someone is thinking about them. Over 800 SnackPack bags are distributed weekly – almost 30\,000 cards are needed throughout the school year which is why your help in making these cards is greatly needed!\nBack\, by popular demand\, the Service Committee invites you to join us on Saturday\, February 24 from 10:00 – 11:00 a.m. in the Office Conference Room to make notes of encouragement to be included in the Weekend SnackPacks. Supplies and suggestions for making these cards will be furnished. Of course\, if you can’t join us that day you can still make the notes on your own. Just keep in mind the messages may not contain any religious references. These messages are distributed to elementary age children who may not be able to read cursive writing\, so please print. If you choose to make cards on your own\, please leave your completed notes in the designated box on the table in the room off the narthex. The Service Committee will collect these by March 4.\nIf you have any questions\, please contact Jamie Corrigan at (864) 224-8070 or\nLeslie Cox at (301) 788-9035. We hope to see you Saturday\, February 24 10:00-11:00 AM.
URL:https://htlc-anderson.org/event/10am-weekend-snack-notes-of-encouragement/
LOCATION:Office Conference Room\, 209 Broad St.\, Anderson\, SC\, 29621\, United States
GEO:34.5166123;-82.6520772
X-APPLE-STRUCTURED-LOCATION;VALUE=URI;X-ADDRESS=Office Conference Room 209 Broad St. Anderson SC 29621 United States;X-APPLE-RADIUS=500;X-TITLE=209 Broad St.:geo:-82.6520772,34.5166123
END:VEVENT
BEGIN:VEVENT
DTSTART;TZID=America/New_York:20240220T183000
DTEND;TZID=America/New_York:20240220T193000
DTSTAMP:20260424T183406
CREATED:20160912T020946Z
LAST-MODIFIED:20190124T032056Z
UID:10001037-1708453800-1708457400@htlc-anderson.org
SUMMARY:WELCA - Katie's Ladies
DESCRIPTION:Meet in the Office Conference Room on the 3rd Tuesday of each month
URL:https://htlc-anderson.org/event/welca-katies-ladies-2016-10-11/2024-02-20/
LOCATION:Office Conference Room\, 209 Broad St.\, Anderson\, SC\, 29621\, United States
GEO:34.5166123;-82.6520772
X-APPLE-STRUCTURED-LOCATION;VALUE=URI;X-ADDRESS=Office Conference Room 209 Broad St. Anderson SC 29621 United States;X-APPLE-RADIUS=500;X-TITLE=209 Broad St.:geo:-82.6520772,34.5166123
END:VEVENT
BEGIN:VEVENT
DTSTART;TZID=America/New_York:20240123T140000
DTEND;TZID=America/New_York:20240123T150000
DTSTAMP:20260424T183406
CREATED:20240105T210321Z
LAST-MODIFIED:20240105T210321Z
UID:10005705-1706018400-1706022000@htlc-anderson.org
SUMMARY:Service Committee Meeting
DESCRIPTION:Service Committee Meeting (Office Conference Room)
URL:https://htlc-anderson.org/event/service-committee-meeting/
LOCATION:Office Conference Room\, 209 Broad St.\, Anderson\, SC\, 29621\, United States
GEO:34.5166123;-82.6520772
X-APPLE-STRUCTURED-LOCATION;VALUE=URI;X-ADDRESS=Office Conference Room 209 Broad St. Anderson SC 29621 United States;X-APPLE-RADIUS=500;X-TITLE=209 Broad St.:geo:-82.6520772,34.5166123
END:VEVENT
BEGIN:VEVENT
DTSTART;TZID=America/New_York:20240109T140000
DTEND;TZID=America/New_York:20240109T150000
DTSTAMP:20260424T183406
CREATED:20240105T204644Z
LAST-MODIFIED:20240105T204644Z
UID:10005624-1704808800-1704812400@htlc-anderson.org
SUMMARY:2PM Katie’s Ladies
DESCRIPTION:Katie’s Ladies\nLeader: Beth Cribbe\nDate: January 9\nTime: 2:00 p.m.\nPlace: Office Conference Room
URL:https://htlc-anderson.org/event/2pm-katies-ladies/
LOCATION:Office Conference Room\, 209 Broad St.\, Anderson\, SC\, 29621\, United States
GEO:34.5166123;-82.6520772
X-APPLE-STRUCTURED-LOCATION;VALUE=URI;X-ADDRESS=Office Conference Room 209 Broad St. Anderson SC 29621 United States;X-APPLE-RADIUS=500;X-TITLE=209 Broad St.:geo:-82.6520772,34.5166123
END:VEVENT
BEGIN:VEVENT
DTSTART;TZID=America/New_York:20231121T183000
DTEND;TZID=America/New_York:20231121T193000
DTSTAMP:20260424T183406
CREATED:20160912T020946Z
LAST-MODIFIED:20190124T032056Z
UID:10001034-1700591400-1700595000@htlc-anderson.org
SUMMARY:WELCA - Katie's Ladies
DESCRIPTION:Meet in the Office Conference Room on the 3rd Tuesday of each month
URL:https://htlc-anderson.org/event/welca-katies-ladies-2016-10-11/2023-11-21/
LOCATION:Office Conference Room\, 209 Broad St.\, Anderson\, SC\, 29621\, United States
GEO:34.5166123;-82.6520772
X-APPLE-STRUCTURED-LOCATION;VALUE=URI;X-ADDRESS=Office Conference Room 209 Broad St. Anderson SC 29621 United States;X-APPLE-RADIUS=500;X-TITLE=209 Broad St.:geo:-82.6520772,34.5166123
END:VEVENT
BEGIN:VEVENT
DTSTART;TZID=America/New_York:20231017T183000
DTEND;TZID=America/New_York:20231017T193000
DTSTAMP:20260424T183406
CREATED:20160912T020946Z
LAST-MODIFIED:20190124T032056Z
UID:10001033-1697567400-1697571000@htlc-anderson.org
SUMMARY:WELCA - Katie's Ladies
DESCRIPTION:Meet in the Office Conference Room on the 3rd Tuesday of each month
URL:https://htlc-anderson.org/event/welca-katies-ladies-2016-10-11/2023-10-17/
LOCATION:Office Conference Room\, 209 Broad St.\, Anderson\, SC\, 29621\, United States
GEO:34.5166123;-82.6520772
X-APPLE-STRUCTURED-LOCATION;VALUE=URI;X-ADDRESS=Office Conference Room 209 Broad St. Anderson SC 29621 United States;X-APPLE-RADIUS=500;X-TITLE=209 Broad St.:geo:-82.6520772,34.5166123
END:VEVENT
BEGIN:VEVENT
DTSTART;TZID=America/New_York:20230815T183000
DTEND;TZID=America/New_York:20230815T193000
DTSTAMP:20260424T183406
CREATED:20160912T020946Z
LAST-MODIFIED:20190124T032056Z
UID:10001031-1692124200-1692127800@htlc-anderson.org
SUMMARY:WELCA - Katie's Ladies
DESCRIPTION:Meet in the Office Conference Room on the 3rd Tuesday of each month
URL:https://htlc-anderson.org/event/welca-katies-ladies-2016-10-11/2023-08-15/
LOCATION:Office Conference Room\, 209 Broad St.\, Anderson\, SC\, 29621\, United States
GEO:34.5166123;-82.6520772
X-APPLE-STRUCTURED-LOCATION;VALUE=URI;X-ADDRESS=Office Conference Room 209 Broad St. Anderson SC 29621 United States;X-APPLE-RADIUS=500;X-TITLE=209 Broad St.:geo:-82.6520772,34.5166123
END:VEVENT
BEGIN:VEVENT
DTSTART;TZID=America/New_York:20230718T183000
DTEND;TZID=America/New_York:20230718T193000
DTSTAMP:20260424T183406
CREATED:20160912T020946Z
LAST-MODIFIED:20190124T032056Z
UID:10001030-1689705000-1689708600@htlc-anderson.org
SUMMARY:WELCA - Katie's Ladies
DESCRIPTION:Meet in the Office Conference Room on the 3rd Tuesday of each month
URL:https://htlc-anderson.org/event/welca-katies-ladies-2016-10-11/2023-07-18/
LOCATION:Office Conference Room\, 209 Broad St.\, Anderson\, SC\, 29621\, United States
GEO:34.5166123;-82.6520772
X-APPLE-STRUCTURED-LOCATION;VALUE=URI;X-ADDRESS=Office Conference Room 209 Broad St. Anderson SC 29621 United States;X-APPLE-RADIUS=500;X-TITLE=209 Broad St.:geo:-82.6520772,34.5166123
END:VEVENT
BEGIN:VEVENT
DTSTART;TZID=America/New_York:20230620T183000
DTEND;TZID=America/New_York:20230620T193000
DTSTAMP:20260424T183406
CREATED:20160912T020946Z
LAST-MODIFIED:20190124T032056Z
UID:10001029-1687285800-1687289400@htlc-anderson.org
SUMMARY:WELCA - Katie's Ladies
DESCRIPTION:Meet in the Office Conference Room on the 3rd Tuesday of each month
URL:https://htlc-anderson.org/event/welca-katies-ladies-2016-10-11/2023-06-20/
LOCATION:Office Conference Room\, 209 Broad St.\, Anderson\, SC\, 29621\, United States
GEO:34.5166123;-82.6520772
X-APPLE-STRUCTURED-LOCATION;VALUE=URI;X-ADDRESS=Office Conference Room 209 Broad St. Anderson SC 29621 United States;X-APPLE-RADIUS=500;X-TITLE=209 Broad St.:geo:-82.6520772,34.5166123
END:VEVENT
BEGIN:VEVENT
DTSTART;TZID=America/New_York:20230520T100000
DTEND;TZID=America/New_York:20230520T110000
DTSTAMP:20260424T183406
CREATED:20230505T163951Z
LAST-MODIFIED:20230505T163951Z
UID:10004038-1684576800-1684580400@htlc-anderson.org
SUMMARY:10AM SnackPack Notes of Encouragement
DESCRIPTION:SnackPack\nNotes of Encouragement\nSaturday\, May 20\, 2023\n10:00 – 11:00 a.m.\nOffice Conference Room\nSchool starts August 2 this year! That means the United Way SnackPack Program will be\ngearing up to pack weekend SnackPacks in July and beginning August 4\, SnackPacks will be\ndistributed weekly throughout the school year to needy elementary school students in Anderson\nCounty.\nMany members of our congregation help pack these SnackPack bags throughout the year.\nBesides packing the bags there are other ways you can support the SnackPack Program. Each\nSnackPack contains a handwritten note of encouragement made by volunteers. It’s a simple\nmessage to let each child know someone is thinking about them. Over 750 SnackPacks are\ndistributed each week. Multiply that by 36 weeks of school and you will quickly see that over\n27\,000 notes are needed for the year. Your help in making these cards is greatly needed!\nThe Service Committee invites you to join us on Saturday\, May 20 from 10:00 – 11:00 a.m. in\nthe Office Conference Room to make notes of encouragement to be included in the SnackPacks.\nSupplies and suggestions for making these cards will be furnished. Of course\, if you can’t join us\nthat day you can still make the notes on your own. Just keep in mind the messages may not\ncontain any religious references. These messages are distributed to elementary age children who\nmay not be able to read cursive writing\, so please print. You can leave your completed notes in a\nbox on the table in the room off the narthex. The Service Committee will collect these by June 5.\nIf you have any questions\, please contact Jamie Corrigan at (864) 224-8070 or\nLeslie Cox at (301) 788-9035. We hope to see you Saturday\, May 20!
URL:https://htlc-anderson.org/event/10am-snackpack-notes-of-encouragement/
LOCATION:Office Conference Room\, 209 Broad St.\, Anderson\, SC\, 29621\, United States
GEO:34.5166123;-82.6520772
X-APPLE-STRUCTURED-LOCATION;VALUE=URI;X-ADDRESS=Office Conference Room 209 Broad St. Anderson SC 29621 United States;X-APPLE-RADIUS=500;X-TITLE=209 Broad St.:geo:-82.6520772,34.5166123
END:VEVENT
BEGIN:VEVENT
DTSTART;TZID=America/New_York:20230516T183000
DTEND;TZID=America/New_York:20230516T193000
DTSTAMP:20260424T183406
CREATED:20160912T020946Z
LAST-MODIFIED:20190124T032056Z
UID:10001028-1684261800-1684265400@htlc-anderson.org
SUMMARY:WELCA - Katie's Ladies
DESCRIPTION:Meet in the Office Conference Room on the 3rd Tuesday of each month
URL:https://htlc-anderson.org/event/welca-katies-ladies-2016-10-11/2023-05-16/
LOCATION:Office Conference Room\, 209 Broad St.\, Anderson\, SC\, 29621\, United States
GEO:34.5166123;-82.6520772
X-APPLE-STRUCTURED-LOCATION;VALUE=URI;X-ADDRESS=Office Conference Room 209 Broad St. Anderson SC 29621 United States;X-APPLE-RADIUS=500;X-TITLE=209 Broad St.:geo:-82.6520772,34.5166123
END:VEVENT
BEGIN:VEVENT
DTSTART;TZID=America/New_York:20230418T183000
DTEND;TZID=America/New_York:20230418T193000
DTSTAMP:20260424T183406
CREATED:20160912T020946Z
LAST-MODIFIED:20190124T032056Z
UID:10001027-1681842600-1681846200@htlc-anderson.org
SUMMARY:WELCA - Katie's Ladies
DESCRIPTION:Meet in the Office Conference Room on the 3rd Tuesday of each month
URL:https://htlc-anderson.org/event/welca-katies-ladies-2016-10-11/2023-04-18/
LOCATION:Office Conference Room\, 209 Broad St.\, Anderson\, SC\, 29621\, United States
GEO:34.5166123;-82.6520772
X-APPLE-STRUCTURED-LOCATION;VALUE=URI;X-ADDRESS=Office Conference Room 209 Broad St. Anderson SC 29621 United States;X-APPLE-RADIUS=500;X-TITLE=209 Broad St.:geo:-82.6520772,34.5166123
END:VEVENT
BEGIN:VEVENT
DTSTART;TZID=America/New_York:20230321T183000
DTEND;TZID=America/New_York:20230321T193000
DTSTAMP:20260424T183406
CREATED:20160912T020946Z
LAST-MODIFIED:20190124T032056Z
UID:10001026-1679423400-1679427000@htlc-anderson.org
SUMMARY:WELCA - Katie's Ladies
DESCRIPTION:Meet in the Office Conference Room on the 3rd Tuesday of each month
URL:https://htlc-anderson.org/event/welca-katies-ladies-2016-10-11/2023-03-21/
LOCATION:Office Conference Room\, 209 Broad St.\, Anderson\, SC\, 29621\, United States
GEO:34.5166123;-82.6520772
X-APPLE-STRUCTURED-LOCATION;VALUE=URI;X-ADDRESS=Office Conference Room 209 Broad St. Anderson SC 29621 United States;X-APPLE-RADIUS=500;X-TITLE=209 Broad St.:geo:-82.6520772,34.5166123
END:VEVENT
BEGIN:VEVENT
DTSTART;TZID=America/New_York:20230221T183000
DTEND;TZID=America/New_York:20230221T193000
DTSTAMP:20260424T183406
CREATED:20160912T020946Z
LAST-MODIFIED:20190124T032056Z
UID:10001025-1677004200-1677007800@htlc-anderson.org
SUMMARY:WELCA - Katie's Ladies
DESCRIPTION:Meet in the Office Conference Room on the 3rd Tuesday of each month
URL:https://htlc-anderson.org/event/welca-katies-ladies-2016-10-11/2023-02-21/
LOCATION:Office Conference Room\, 209 Broad St.\, Anderson\, SC\, 29621\, United States
GEO:34.5166123;-82.6520772
X-APPLE-STRUCTURED-LOCATION;VALUE=URI;X-ADDRESS=Office Conference Room 209 Broad St. Anderson SC 29621 United States;X-APPLE-RADIUS=500;X-TITLE=209 Broad St.:geo:-82.6520772,34.5166123
END:VEVENT
END:VCALENDAR