BEGIN:VCALENDAR
VERSION:2.0
PRODID:-//HTLC - ECPv6.15.20//NONSGML v1.0//EN
CALSCALE:GREGORIAN
METHOD:PUBLISH
X-ORIGINAL-URL:https://htlc-anderson.org
X-WR-CALDESC:Events for HTLC
REFRESH-INTERVAL;VALUE=DURATION:PT1H
X-Robots-Tag:noindex
X-PUBLISHED-TTL:PT1H
BEGIN:VTIMEZONE
TZID:America/New_York
BEGIN:DAYLIGHT
TZOFFSETFROM:-0500
TZOFFSETTO:-0400
TZNAME:EDT
DTSTART:20220313T070000
END:DAYLIGHT
BEGIN:STANDARD
TZOFFSETFROM:-0400
TZOFFSETTO:-0500
TZNAME:EST
DTSTART:20221106T060000
END:STANDARD
BEGIN:DAYLIGHT
TZOFFSETFROM:-0500
TZOFFSETTO:-0400
TZNAME:EDT
DTSTART:20230312T070000
END:DAYLIGHT
BEGIN:STANDARD
TZOFFSETFROM:-0400
TZOFFSETTO:-0500
TZNAME:EST
DTSTART:20231105T060000
END:STANDARD
BEGIN:DAYLIGHT
TZOFFSETFROM:-0500
TZOFFSETTO:-0400
TZNAME:EDT
DTSTART:20240310T070000
END:DAYLIGHT
BEGIN:STANDARD
TZOFFSETFROM:-0400
TZOFFSETTO:-0500
TZNAME:EST
DTSTART:20241103T060000
END:STANDARD
BEGIN:DAYLIGHT
TZOFFSETFROM:-0500
TZOFFSETTO:-0400
TZNAME:EDT
DTSTART:20250309T070000
END:DAYLIGHT
BEGIN:STANDARD
TZOFFSETFROM:-0400
TZOFFSETTO:-0500
TZNAME:EST
DTSTART:20251102T060000
END:STANDARD
END:VTIMEZONE
BEGIN:VEVENT
DTSTART;TZID=America/New_York:20240919T180000
DTEND;TZID=America/New_York:20240919T193000
DTSTAMP:20260421T023812
CREATED:20160912T021148Z
LAST-MODIFIED:20230218T031643Z
UID:10003954-1726768800-1726774200@htlc-anderson.org
SUMMARY:WELCA - Luther's Ladies
DESCRIPTION:Meet on the 3rd Thursday of each month in the Office Conference Room
URL:https://htlc-anderson.org/event/welca-luthers-ladies-2016-10-20/2024-09-19/
LOCATION:Office Conference Room\, 209 Broad St.\, Anderson\, SC\, 29621\, United States
GEO:34.5166123;-82.6520772
X-APPLE-STRUCTURED-LOCATION;VALUE=URI;X-ADDRESS=Office Conference Room 209 Broad St. Anderson SC 29621 United States;X-APPLE-RADIUS=500;X-TITLE=209 Broad St.:geo:-82.6520772,34.5166123
END:VEVENT
BEGIN:VEVENT
DTSTART;TZID=America/New_York:20240909T190000
DTEND;TZID=America/New_York:20240909T200000
DTSTAMP:20260421T023812
CREATED:20220912T001846Z
LAST-MODIFIED:20220912T001846Z
UID:10002869-1725908400-1725912000@htlc-anderson.org
SUMMARY:7PM Church Council Meeting
DESCRIPTION:Church Council Meeting
URL:https://htlc-anderson.org/event/7pm-church-council-meeting/2024-09-09/
LOCATION:Office Conference Room\, 209 Broad St.\, Anderson\, SC\, 29621\, United States
GEO:34.5166123;-82.6520772
X-APPLE-STRUCTURED-LOCATION;VALUE=URI;X-ADDRESS=Office Conference Room 209 Broad St. Anderson SC 29621 United States;X-APPLE-RADIUS=500;X-TITLE=209 Broad St.:geo:-82.6520772,34.5166123
END:VEVENT
BEGIN:VEVENT
DTSTART;TZID=America/New_York:20240815T180000
DTEND;TZID=America/New_York:20240815T193000
DTSTAMP:20260421T023812
CREATED:20160912T021148Z
LAST-MODIFIED:20230218T031643Z
UID:10003953-1723744800-1723750200@htlc-anderson.org
SUMMARY:WELCA - Luther's Ladies
DESCRIPTION:Meet on the 3rd Thursday of each month in the Office Conference Room
URL:https://htlc-anderson.org/event/welca-luthers-ladies-2016-10-20/2024-08-15/
LOCATION:Office Conference Room\, 209 Broad St.\, Anderson\, SC\, 29621\, United States
GEO:34.5166123;-82.6520772
X-APPLE-STRUCTURED-LOCATION;VALUE=URI;X-ADDRESS=Office Conference Room 209 Broad St. Anderson SC 29621 United States;X-APPLE-RADIUS=500;X-TITLE=209 Broad St.:geo:-82.6520772,34.5166123
END:VEVENT
BEGIN:VEVENT
DTSTART;TZID=America/New_York:20240812T190000
DTEND;TZID=America/New_York:20240812T200000
DTSTAMP:20260421T023812
CREATED:20220912T001846Z
LAST-MODIFIED:20220912T001846Z
UID:10002868-1723489200-1723492800@htlc-anderson.org
SUMMARY:7PM Church Council Meeting
DESCRIPTION:Church Council Meeting
URL:https://htlc-anderson.org/event/7pm-church-council-meeting/2024-08-12/
LOCATION:Office Conference Room\, 209 Broad St.\, Anderson\, SC\, 29621\, United States
GEO:34.5166123;-82.6520772
X-APPLE-STRUCTURED-LOCATION;VALUE=URI;X-ADDRESS=Office Conference Room 209 Broad St. Anderson SC 29621 United States;X-APPLE-RADIUS=500;X-TITLE=209 Broad St.:geo:-82.6520772,34.5166123
END:VEVENT
BEGIN:VEVENT
DTSTART;TZID=America/New_York:20240718T180000
DTEND;TZID=America/New_York:20240718T193000
DTSTAMP:20260421T023812
CREATED:20160912T021148Z
LAST-MODIFIED:20230218T031643Z
UID:10003952-1721325600-1721331000@htlc-anderson.org
SUMMARY:WELCA - Luther's Ladies
DESCRIPTION:Meet on the 3rd Thursday of each month in the Office Conference Room
URL:https://htlc-anderson.org/event/welca-luthers-ladies-2016-10-20/2024-07-18/
LOCATION:Office Conference Room\, 209 Broad St.\, Anderson\, SC\, 29621\, United States
GEO:34.5166123;-82.6520772
X-APPLE-STRUCTURED-LOCATION;VALUE=URI;X-ADDRESS=Office Conference Room 209 Broad St. Anderson SC 29621 United States;X-APPLE-RADIUS=500;X-TITLE=209 Broad St.:geo:-82.6520772,34.5166123
END:VEVENT
BEGIN:VEVENT
DTSTART;TZID=America/New_York:20240708T190000
DTEND;TZID=America/New_York:20240708T200000
DTSTAMP:20260421T023812
CREATED:20220912T001846Z
LAST-MODIFIED:20220912T001846Z
UID:10002867-1720465200-1720468800@htlc-anderson.org
SUMMARY:7PM Church Council Meeting
DESCRIPTION:Church Council Meeting
URL:https://htlc-anderson.org/event/7pm-church-council-meeting/2024-07-08/
LOCATION:Office Conference Room\, 209 Broad St.\, Anderson\, SC\, 29621\, United States
GEO:34.5166123;-82.6520772
X-APPLE-STRUCTURED-LOCATION;VALUE=URI;X-ADDRESS=Office Conference Room 209 Broad St. Anderson SC 29621 United States;X-APPLE-RADIUS=500;X-TITLE=209 Broad St.:geo:-82.6520772,34.5166123
END:VEVENT
BEGIN:VEVENT
DTSTART;TZID=America/New_York:20240620T180000
DTEND;TZID=America/New_York:20240620T193000
DTSTAMP:20260421T023812
CREATED:20160912T021148Z
LAST-MODIFIED:20230218T031643Z
UID:10003951-1718906400-1718911800@htlc-anderson.org
SUMMARY:WELCA - Luther's Ladies
DESCRIPTION:Meet on the 3rd Thursday of each month in the Office Conference Room
URL:https://htlc-anderson.org/event/welca-luthers-ladies-2016-10-20/2024-06-20/
LOCATION:Office Conference Room\, 209 Broad St.\, Anderson\, SC\, 29621\, United States
GEO:34.5166123;-82.6520772
X-APPLE-STRUCTURED-LOCATION;VALUE=URI;X-ADDRESS=Office Conference Room 209 Broad St. Anderson SC 29621 United States;X-APPLE-RADIUS=500;X-TITLE=209 Broad St.:geo:-82.6520772,34.5166123
END:VEVENT
BEGIN:VEVENT
DTSTART;TZID=America/New_York:20240610T190000
DTEND;TZID=America/New_York:20240610T200000
DTSTAMP:20260421T023812
CREATED:20220912T001846Z
LAST-MODIFIED:20220912T001846Z
UID:10002866-1718046000-1718049600@htlc-anderson.org
SUMMARY:7PM Church Council Meeting
DESCRIPTION:Church Council Meeting
URL:https://htlc-anderson.org/event/7pm-church-council-meeting/2024-06-10/
LOCATION:Office Conference Room\, 209 Broad St.\, Anderson\, SC\, 29621\, United States
GEO:34.5166123;-82.6520772
X-APPLE-STRUCTURED-LOCATION;VALUE=URI;X-ADDRESS=Office Conference Room 209 Broad St. Anderson SC 29621 United States;X-APPLE-RADIUS=500;X-TITLE=209 Broad St.:geo:-82.6520772,34.5166123
END:VEVENT
BEGIN:VEVENT
DTSTART;TZID=America/New_York:20240516T180000
DTEND;TZID=America/New_York:20240516T193000
DTSTAMP:20260421T023812
CREATED:20160912T021148Z
LAST-MODIFIED:20230218T031643Z
UID:10003950-1715882400-1715887800@htlc-anderson.org
SUMMARY:WELCA - Luther's Ladies
DESCRIPTION:Meet on the 3rd Thursday of each month in the Office Conference Room
URL:https://htlc-anderson.org/event/welca-luthers-ladies-2016-10-20/2024-05-16/
LOCATION:Office Conference Room\, 209 Broad St.\, Anderson\, SC\, 29621\, United States
GEO:34.5166123;-82.6520772
X-APPLE-STRUCTURED-LOCATION;VALUE=URI;X-ADDRESS=Office Conference Room 209 Broad St. Anderson SC 29621 United States;X-APPLE-RADIUS=500;X-TITLE=209 Broad St.:geo:-82.6520772,34.5166123
END:VEVENT
BEGIN:VEVENT
DTSTART;TZID=America/New_York:20240513T190000
DTEND;TZID=America/New_York:20240513T200000
DTSTAMP:20260421T023812
CREATED:20220912T001846Z
LAST-MODIFIED:20220912T001846Z
UID:10002865-1715626800-1715630400@htlc-anderson.org
SUMMARY:7PM Church Council Meeting
DESCRIPTION:Church Council Meeting
URL:https://htlc-anderson.org/event/7pm-church-council-meeting/2024-05-13/
LOCATION:Office Conference Room\, 209 Broad St.\, Anderson\, SC\, 29621\, United States
GEO:34.5166123;-82.6520772
X-APPLE-STRUCTURED-LOCATION;VALUE=URI;X-ADDRESS=Office Conference Room 209 Broad St. Anderson SC 29621 United States;X-APPLE-RADIUS=500;X-TITLE=209 Broad St.:geo:-82.6520772,34.5166123
END:VEVENT
BEGIN:VEVENT
DTSTART;TZID=America/New_York:20240418T180000
DTEND;TZID=America/New_York:20240418T193000
DTSTAMP:20260421T023812
CREATED:20160912T021148Z
LAST-MODIFIED:20230218T031643Z
UID:10003949-1713463200-1713468600@htlc-anderson.org
SUMMARY:WELCA - Luther's Ladies
DESCRIPTION:Meet on the 3rd Thursday of each month in the Office Conference Room
URL:https://htlc-anderson.org/event/welca-luthers-ladies-2016-10-20/2024-04-18/
LOCATION:Office Conference Room\, 209 Broad St.\, Anderson\, SC\, 29621\, United States
GEO:34.5166123;-82.6520772
X-APPLE-STRUCTURED-LOCATION;VALUE=URI;X-ADDRESS=Office Conference Room 209 Broad St. Anderson SC 29621 United States;X-APPLE-RADIUS=500;X-TITLE=209 Broad St.:geo:-82.6520772,34.5166123
END:VEVENT
BEGIN:VEVENT
DTSTART;TZID=America/New_York:20240408T190000
DTEND;TZID=America/New_York:20240408T200000
DTSTAMP:20260421T023812
CREATED:20220912T001846Z
LAST-MODIFIED:20220912T001846Z
UID:10002864-1712602800-1712606400@htlc-anderson.org
SUMMARY:7PM Church Council Meeting
DESCRIPTION:Church Council Meeting
URL:https://htlc-anderson.org/event/7pm-church-council-meeting/2024-04-08/
LOCATION:Office Conference Room\, 209 Broad St.\, Anderson\, SC\, 29621\, United States
GEO:34.5166123;-82.6520772
X-APPLE-STRUCTURED-LOCATION;VALUE=URI;X-ADDRESS=Office Conference Room 209 Broad St. Anderson SC 29621 United States;X-APPLE-RADIUS=500;X-TITLE=209 Broad St.:geo:-82.6520772,34.5166123
END:VEVENT
BEGIN:VEVENT
DTSTART;TZID=America/New_York:20240321T180000
DTEND;TZID=America/New_York:20240321T193000
DTSTAMP:20260421T023812
CREATED:20160912T021148Z
LAST-MODIFIED:20230218T031643Z
UID:10003948-1711044000-1711049400@htlc-anderson.org
SUMMARY:WELCA - Luther's Ladies
DESCRIPTION:Meet on the 3rd Thursday of each month in the Office Conference Room
URL:https://htlc-anderson.org/event/welca-luthers-ladies-2016-10-20/2024-03-21/
LOCATION:Office Conference Room\, 209 Broad St.\, Anderson\, SC\, 29621\, United States
GEO:34.5166123;-82.6520772
X-APPLE-STRUCTURED-LOCATION;VALUE=URI;X-ADDRESS=Office Conference Room 209 Broad St. Anderson SC 29621 United States;X-APPLE-RADIUS=500;X-TITLE=209 Broad St.:geo:-82.6520772,34.5166123
END:VEVENT
BEGIN:VEVENT
DTSTART;TZID=America/New_York:20240311T190000
DTEND;TZID=America/New_York:20240311T200000
DTSTAMP:20260421T023812
CREATED:20220912T001846Z
LAST-MODIFIED:20220912T001846Z
UID:10002863-1710183600-1710187200@htlc-anderson.org
SUMMARY:7PM Church Council Meeting
DESCRIPTION:Church Council Meeting
URL:https://htlc-anderson.org/event/7pm-church-council-meeting/2024-03-11/
LOCATION:Office Conference Room\, 209 Broad St.\, Anderson\, SC\, 29621\, United States
GEO:34.5166123;-82.6520772
X-APPLE-STRUCTURED-LOCATION;VALUE=URI;X-ADDRESS=Office Conference Room 209 Broad St. Anderson SC 29621 United States;X-APPLE-RADIUS=500;X-TITLE=209 Broad St.:geo:-82.6520772,34.5166123
END:VEVENT
BEGIN:VEVENT
DTSTART;TZID=America/New_York:20240215T180000
DTEND;TZID=America/New_York:20240215T193000
DTSTAMP:20260421T023812
CREATED:20160912T021148Z
LAST-MODIFIED:20230218T031643Z
UID:10003947-1708020000-1708025400@htlc-anderson.org
SUMMARY:WELCA - Luther's Ladies
DESCRIPTION:Meet on the 3rd Thursday of each month in the Office Conference Room
URL:https://htlc-anderson.org/event/welca-luthers-ladies-2016-10-20/2024-02-15/
LOCATION:Office Conference Room\, 209 Broad St.\, Anderson\, SC\, 29621\, United States
GEO:34.5166123;-82.6520772
X-APPLE-STRUCTURED-LOCATION;VALUE=URI;X-ADDRESS=Office Conference Room 209 Broad St. Anderson SC 29621 United States;X-APPLE-RADIUS=500;X-TITLE=209 Broad St.:geo:-82.6520772,34.5166123
END:VEVENT
BEGIN:VEVENT
DTSTART;TZID=America/New_York:20240212T190000
DTEND;TZID=America/New_York:20240212T200000
DTSTAMP:20260421T023812
CREATED:20220912T001846Z
LAST-MODIFIED:20220912T001846Z
UID:10002862-1707764400-1707768000@htlc-anderson.org
SUMMARY:7PM Church Council Meeting
DESCRIPTION:Church Council Meeting
URL:https://htlc-anderson.org/event/7pm-church-council-meeting/2024-02-12/
LOCATION:Office Conference Room\, 209 Broad St.\, Anderson\, SC\, 29621\, United States
GEO:34.5166123;-82.6520772
X-APPLE-STRUCTURED-LOCATION;VALUE=URI;X-ADDRESS=Office Conference Room 209 Broad St. Anderson SC 29621 United States;X-APPLE-RADIUS=500;X-TITLE=209 Broad St.:geo:-82.6520772,34.5166123
END:VEVENT
BEGIN:VEVENT
DTSTART;TZID=America/New_York:20240118T180000
DTEND;TZID=America/New_York:20240118T193000
DTSTAMP:20260421T023812
CREATED:20160912T021148Z
LAST-MODIFIED:20230218T031643Z
UID:10003946-1705600800-1705606200@htlc-anderson.org
SUMMARY:WELCA - Luther's Ladies
DESCRIPTION:Meet on the 3rd Thursday of each month in the Office Conference Room
URL:https://htlc-anderson.org/event/welca-luthers-ladies-2016-10-20/2024-01-18/
LOCATION:Office Conference Room\, 209 Broad St.\, Anderson\, SC\, 29621\, United States
GEO:34.5166123;-82.6520772
X-APPLE-STRUCTURED-LOCATION;VALUE=URI;X-ADDRESS=Office Conference Room 209 Broad St. Anderson SC 29621 United States;X-APPLE-RADIUS=500;X-TITLE=209 Broad St.:geo:-82.6520772,34.5166123
END:VEVENT
BEGIN:VEVENT
DTSTART;TZID=America/New_York:20240115T190000
DTEND;TZID=America/New_York:20240115T200000
DTSTAMP:20260421T023812
CREATED:20240105T205909Z
LAST-MODIFIED:20240105T205926Z
UID:10002861-1705345200-1705348800@htlc-anderson.org
SUMMARY:7PM Church Council Meeting
DESCRIPTION:Church Council Meeting
URL:https://htlc-anderson.org/event/7pm-church-council-meeting-4/
LOCATION:Office Conference Room\, 209 Broad St.\, Anderson\, SC\, 29621\, United States
GEO:34.5166123;-82.6520772
X-APPLE-STRUCTURED-LOCATION;VALUE=URI;X-ADDRESS=Office Conference Room 209 Broad St. Anderson SC 29621 United States;X-APPLE-RADIUS=500;X-TITLE=209 Broad St.:geo:-82.6520772,34.5166123
END:VEVENT
BEGIN:VEVENT
DTSTART;TZID=America/New_York:20240108T190000
DTEND;TZID=America/New_York:20240108T200000
DTSTAMP:20260421T023812
CREATED:20220912T001846Z
LAST-MODIFIED:20220912T001846Z
UID:10007130-1704740400-1704744000@htlc-anderson.org
SUMMARY:7PM Church Council Meeting
DESCRIPTION:Church Council Meeting
URL:https://htlc-anderson.org/event/7pm-church-council-meeting/2024-01-08/
LOCATION:Office Conference Room\, 209 Broad St.\, Anderson\, SC\, 29621\, United States
GEO:34.5166123;-82.6520772
X-APPLE-STRUCTURED-LOCATION;VALUE=URI;X-ADDRESS=Office Conference Room 209 Broad St. Anderson SC 29621 United States;X-APPLE-RADIUS=500;X-TITLE=209 Broad St.:geo:-82.6520772,34.5166123
END:VEVENT
BEGIN:VEVENT
DTSTART;TZID=America/New_York:20231211T190000
DTEND;TZID=America/New_York:20231211T200000
DTSTAMP:20260421T023812
CREATED:20220912T001846Z
LAST-MODIFIED:20220912T001846Z
UID:10007129-1702321200-1702324800@htlc-anderson.org
SUMMARY:7PM Church Council Meeting
DESCRIPTION:Church Council Meeting
URL:https://htlc-anderson.org/event/7pm-church-council-meeting/2023-12-11/
LOCATION:Office Conference Room\, 209 Broad St.\, Anderson\, SC\, 29621\, United States
GEO:34.5166123;-82.6520772
X-APPLE-STRUCTURED-LOCATION;VALUE=URI;X-ADDRESS=Office Conference Room 209 Broad St. Anderson SC 29621 United States;X-APPLE-RADIUS=500;X-TITLE=209 Broad St.:geo:-82.6520772,34.5166123
END:VEVENT
BEGIN:VEVENT
DTSTART;TZID=America/New_York:20231116T180000
DTEND;TZID=America/New_York:20231116T193000
DTSTAMP:20260421T023812
CREATED:20160912T021148Z
LAST-MODIFIED:20230218T031643Z
UID:10003944-1700157600-1700163000@htlc-anderson.org
SUMMARY:WELCA - Luther's Ladies
DESCRIPTION:Meet on the 3rd Thursday of each month in the Office Conference Room
URL:https://htlc-anderson.org/event/welca-luthers-ladies-2016-10-20/2023-11-16/
LOCATION:Office Conference Room\, 209 Broad St.\, Anderson\, SC\, 29621\, United States
GEO:34.5166123;-82.6520772
X-APPLE-STRUCTURED-LOCATION;VALUE=URI;X-ADDRESS=Office Conference Room 209 Broad St. Anderson SC 29621 United States;X-APPLE-RADIUS=500;X-TITLE=209 Broad St.:geo:-82.6520772,34.5166123
END:VEVENT
BEGIN:VEVENT
DTSTART;TZID=America/New_York:20231113T190000
DTEND;TZID=America/New_York:20231113T200000
DTSTAMP:20260421T023812
CREATED:20220912T001846Z
LAST-MODIFIED:20220912T001846Z
UID:10002859-1699902000-1699905600@htlc-anderson.org
SUMMARY:7PM Church Council Meeting
DESCRIPTION:Church Council Meeting
URL:https://htlc-anderson.org/event/7pm-church-council-meeting/2023-11-13/
LOCATION:Office Conference Room\, 209 Broad St.\, Anderson\, SC\, 29621\, United States
GEO:34.5166123;-82.6520772
X-APPLE-STRUCTURED-LOCATION;VALUE=URI;X-ADDRESS=Office Conference Room 209 Broad St. Anderson SC 29621 United States;X-APPLE-RADIUS=500;X-TITLE=209 Broad St.:geo:-82.6520772,34.5166123
END:VEVENT
BEGIN:VEVENT
DTSTART;TZID=America/New_York:20231019T180000
DTEND;TZID=America/New_York:20231019T193000
DTSTAMP:20260421T023812
CREATED:20160912T021148Z
LAST-MODIFIED:20230218T031643Z
UID:10003943-1697738400-1697743800@htlc-anderson.org
SUMMARY:WELCA - Luther's Ladies
DESCRIPTION:Meet on the 3rd Thursday of each month in the Office Conference Room
URL:https://htlc-anderson.org/event/welca-luthers-ladies-2016-10-20/2023-10-19/
LOCATION:Office Conference Room\, 209 Broad St.\, Anderson\, SC\, 29621\, United States
GEO:34.5166123;-82.6520772
X-APPLE-STRUCTURED-LOCATION;VALUE=URI;X-ADDRESS=Office Conference Room 209 Broad St. Anderson SC 29621 United States;X-APPLE-RADIUS=500;X-TITLE=209 Broad St.:geo:-82.6520772,34.5166123
END:VEVENT
BEGIN:VEVENT
DTSTART;TZID=America/New_York:20231009T190000
DTEND;TZID=America/New_York:20231009T200000
DTSTAMP:20260421T023812
CREATED:20220912T001846Z
LAST-MODIFIED:20220912T001846Z
UID:10002858-1696878000-1696881600@htlc-anderson.org
SUMMARY:7PM Church Council Meeting
DESCRIPTION:Church Council Meeting
URL:https://htlc-anderson.org/event/7pm-church-council-meeting/2023-10-09/
LOCATION:Office Conference Room\, 209 Broad St.\, Anderson\, SC\, 29621\, United States
GEO:34.5166123;-82.6520772
X-APPLE-STRUCTURED-LOCATION;VALUE=URI;X-ADDRESS=Office Conference Room 209 Broad St. Anderson SC 29621 United States;X-APPLE-RADIUS=500;X-TITLE=209 Broad St.:geo:-82.6520772,34.5166123
END:VEVENT
BEGIN:VEVENT
DTSTART;TZID=America/New_York:20230911T190000
DTEND;TZID=America/New_York:20230911T200000
DTSTAMP:20260421T023812
CREATED:20220912T001846Z
LAST-MODIFIED:20220912T001846Z
UID:10002857-1694458800-1694462400@htlc-anderson.org
SUMMARY:7PM Church Council Meeting
DESCRIPTION:Church Council Meeting
URL:https://htlc-anderson.org/event/7pm-church-council-meeting/2023-09-11/
LOCATION:Office Conference Room\, 209 Broad St.\, Anderson\, SC\, 29621\, United States
GEO:34.5166123;-82.6520772
X-APPLE-STRUCTURED-LOCATION;VALUE=URI;X-ADDRESS=Office Conference Room 209 Broad St. Anderson SC 29621 United States;X-APPLE-RADIUS=500;X-TITLE=209 Broad St.:geo:-82.6520772,34.5166123
END:VEVENT
BEGIN:VEVENT
DTSTART;TZID=America/New_York:20230817T180000
DTEND;TZID=America/New_York:20230817T193000
DTSTAMP:20260421T023812
CREATED:20160912T021148Z
LAST-MODIFIED:20230218T031643Z
UID:10003941-1692295200-1692300600@htlc-anderson.org
SUMMARY:WELCA - Luther's Ladies
DESCRIPTION:Meet on the 3rd Thursday of each month in the Office Conference Room
URL:https://htlc-anderson.org/event/welca-luthers-ladies-2016-10-20/2023-08-17/
LOCATION:Office Conference Room\, 209 Broad St.\, Anderson\, SC\, 29621\, United States
GEO:34.5166123;-82.6520772
X-APPLE-STRUCTURED-LOCATION;VALUE=URI;X-ADDRESS=Office Conference Room 209 Broad St. Anderson SC 29621 United States;X-APPLE-RADIUS=500;X-TITLE=209 Broad St.:geo:-82.6520772,34.5166123
END:VEVENT
BEGIN:VEVENT
DTSTART;TZID=America/New_York:20230720T180000
DTEND;TZID=America/New_York:20230720T193000
DTSTAMP:20260421T023812
CREATED:20160912T021148Z
LAST-MODIFIED:20230218T031643Z
UID:10003940-1689876000-1689881400@htlc-anderson.org
SUMMARY:WELCA - Luther's Ladies
DESCRIPTION:Meet on the 3rd Thursday of each month in the Office Conference Room
URL:https://htlc-anderson.org/event/welca-luthers-ladies-2016-10-20/2023-07-20/
LOCATION:Office Conference Room\, 209 Broad St.\, Anderson\, SC\, 29621\, United States
GEO:34.5166123;-82.6520772
X-APPLE-STRUCTURED-LOCATION;VALUE=URI;X-ADDRESS=Office Conference Room 209 Broad St. Anderson SC 29621 United States;X-APPLE-RADIUS=500;X-TITLE=209 Broad St.:geo:-82.6520772,34.5166123
END:VEVENT
BEGIN:VEVENT
DTSTART;TZID=America/New_York:20230615T180000
DTEND;TZID=America/New_York:20230615T193000
DTSTAMP:20260421T023812
CREATED:20160912T021148Z
LAST-MODIFIED:20230218T031643Z
UID:10003939-1686852000-1686857400@htlc-anderson.org
SUMMARY:WELCA - Luther's Ladies
DESCRIPTION:Meet on the 3rd Thursday of each month in the Office Conference Room
URL:https://htlc-anderson.org/event/welca-luthers-ladies-2016-10-20/2023-06-15/
LOCATION:Office Conference Room\, 209 Broad St.\, Anderson\, SC\, 29621\, United States
GEO:34.5166123;-82.6520772
X-APPLE-STRUCTURED-LOCATION;VALUE=URI;X-ADDRESS=Office Conference Room 209 Broad St. Anderson SC 29621 United States;X-APPLE-RADIUS=500;X-TITLE=209 Broad St.:geo:-82.6520772,34.5166123
END:VEVENT
BEGIN:VEVENT
DTSTART;TZID=America/New_York:20230612T190000
DTEND;TZID=America/New_York:20230612T200000
DTSTAMP:20260421T023812
CREATED:20220912T001846Z
LAST-MODIFIED:20220912T001846Z
UID:10002854-1686596400-1686600000@htlc-anderson.org
SUMMARY:7PM Church Council Meeting
DESCRIPTION:Church Council Meeting
URL:https://htlc-anderson.org/event/7pm-church-council-meeting/2023-06-12/
LOCATION:Office Conference Room\, 209 Broad St.\, Anderson\, SC\, 29621\, United States
GEO:34.5166123;-82.6520772
X-APPLE-STRUCTURED-LOCATION;VALUE=URI;X-ADDRESS=Office Conference Room 209 Broad St. Anderson SC 29621 United States;X-APPLE-RADIUS=500;X-TITLE=209 Broad St.:geo:-82.6520772,34.5166123
END:VEVENT
BEGIN:VEVENT
DTSTART;TZID=America/New_York:20230518T180000
DTEND;TZID=America/New_York:20230518T193000
DTSTAMP:20260421T023812
CREATED:20160912T021148Z
LAST-MODIFIED:20230218T031643Z
UID:10003938-1684432800-1684438200@htlc-anderson.org
SUMMARY:WELCA - Luther's Ladies
DESCRIPTION:Meet on the 3rd Thursday of each month in the Office Conference Room
URL:https://htlc-anderson.org/event/welca-luthers-ladies-2016-10-20/2023-05-18/
LOCATION:Office Conference Room\, 209 Broad St.\, Anderson\, SC\, 29621\, United States
GEO:34.5166123;-82.6520772
X-APPLE-STRUCTURED-LOCATION;VALUE=URI;X-ADDRESS=Office Conference Room 209 Broad St. Anderson SC 29621 United States;X-APPLE-RADIUS=500;X-TITLE=209 Broad St.:geo:-82.6520772,34.5166123
END:VEVENT
END:VCALENDAR