BEGIN:VCALENDAR
VERSION:2.0
PRODID:-//HTLC - ECPv6.15.20//NONSGML v1.0//EN
CALSCALE:GREGORIAN
METHOD:PUBLISH
X-WR-CALNAME:HTLC
X-ORIGINAL-URL:https://htlc-anderson.org
X-WR-CALDESC:Events for HTLC
REFRESH-INTERVAL;VALUE=DURATION:PT1H
X-Robots-Tag:noindex
X-PUBLISHED-TTL:PT1H
BEGIN:VTIMEZONE
TZID:America/New_York
BEGIN:DAYLIGHT
TZOFFSETFROM:-0500
TZOFFSETTO:-0400
TZNAME:EDT
DTSTART:20160313T070000
END:DAYLIGHT
BEGIN:STANDARD
TZOFFSETFROM:-0400
TZOFFSETTO:-0500
TZNAME:EST
DTSTART:20161106T060000
END:STANDARD
BEGIN:DAYLIGHT
TZOFFSETFROM:-0500
TZOFFSETTO:-0400
TZNAME:EDT
DTSTART:20170312T070000
END:DAYLIGHT
BEGIN:STANDARD
TZOFFSETFROM:-0400
TZOFFSETTO:-0500
TZNAME:EST
DTSTART:20171105T060000
END:STANDARD
BEGIN:DAYLIGHT
TZOFFSETFROM:-0500
TZOFFSETTO:-0400
TZNAME:EDT
DTSTART:20180311T070000
END:DAYLIGHT
BEGIN:STANDARD
TZOFFSETFROM:-0400
TZOFFSETTO:-0500
TZNAME:EST
DTSTART:20181104T060000
END:STANDARD
END:VTIMEZONE
BEGIN:VEVENT
DTSTART;TZID=America/New_York:20171015T180000
DTEND;TZID=America/New_York:20171015T190000
DTSTAMP:20260423T012207
CREATED:20170204T191856Z
LAST-MODIFIED:20220221T000626Z
UID:10001160-1508090400-1508094000@htlc-anderson.org
SUMMARY:Beer and Hymns
DESCRIPTION:Monthly Beer and Hymn’s \nFollowing the tradition of Martin Luther\, Lutheran Churches across our country have been hosting events that have come to be known as “Beer and Hymns”. Beer and Hymns is a fun\, family-friendly event where we join together on a Sunday evening singing great hymns and gospel praises while enjoying Martin Luther’s favorite beverage. Festivities will kick off our version of Beer and Hymns at 6 PM inside Anderson’s brewery Carolina Bauernhaus located at 115 West Federal Street (park behind the Arts Center). Brenda McGowan\, Sharon Christmas and Jay Bannister have offered their musical talents to make the experience a joyous event. We are hopeful to continue this ministry and gather together every third Sunday of the month with the community in faith and fellowship. Come join us!
URL:https://htlc-anderson.org/event/beer-and-hymns/2017-10-15/
LOCATION:Churchill’s Pub\, 2005 E. Greenville\, St\, Anderson\, SC\, 29621\, United States
GEO:34.5458947;-82.6321312
X-APPLE-STRUCTURED-LOCATION;VALUE=URI;X-ADDRESS=Churchill’s Pub 2005 E. Greenville St Anderson SC 29621 United States;X-APPLE-RADIUS=500;X-TITLE=2005 E. Greenville\, St:geo:-82.6321312,34.5458947
END:VEVENT
BEGIN:VEVENT
DTSTART;TZID=America/New_York:20170917T180000
DTEND;TZID=America/New_York:20170917T190000
DTSTAMP:20260423T012207
CREATED:20170204T191856Z
LAST-MODIFIED:20220221T000626Z
UID:10001159-1505671200-1505674800@htlc-anderson.org
SUMMARY:Beer and Hymns
DESCRIPTION:Monthly Beer and Hymn’s \nFollowing the tradition of Martin Luther\, Lutheran Churches across our country have been hosting events that have come to be known as “Beer and Hymns”. Beer and Hymns is a fun\, family-friendly event where we join together on a Sunday evening singing great hymns and gospel praises while enjoying Martin Luther’s favorite beverage. Festivities will kick off our version of Beer and Hymns at 6 PM inside Anderson’s brewery Carolina Bauernhaus located at 115 West Federal Street (park behind the Arts Center). Brenda McGowan\, Sharon Christmas and Jay Bannister have offered their musical talents to make the experience a joyous event. We are hopeful to continue this ministry and gather together every third Sunday of the month with the community in faith and fellowship. Come join us!
URL:https://htlc-anderson.org/event/beer-and-hymns/2017-09-17/
LOCATION:Churchill’s Pub\, 2005 E. Greenville\, St\, Anderson\, SC\, 29621\, United States
GEO:34.5458947;-82.6321312
X-APPLE-STRUCTURED-LOCATION;VALUE=URI;X-ADDRESS=Churchill’s Pub 2005 E. Greenville St Anderson SC 29621 United States;X-APPLE-RADIUS=500;X-TITLE=2005 E. Greenville\, St:geo:-82.6321312,34.5458947
END:VEVENT
BEGIN:VEVENT
DTSTART;TZID=America/New_York:20170820T180000
DTEND;TZID=America/New_York:20170820T190000
DTSTAMP:20260423T012207
CREATED:20170204T191856Z
LAST-MODIFIED:20220221T000626Z
UID:10001158-1503252000-1503255600@htlc-anderson.org
SUMMARY:Beer and Hymns
DESCRIPTION:Monthly Beer and Hymn’s \nFollowing the tradition of Martin Luther\, Lutheran Churches across our country have been hosting events that have come to be known as “Beer and Hymns”. Beer and Hymns is a fun\, family-friendly event where we join together on a Sunday evening singing great hymns and gospel praises while enjoying Martin Luther’s favorite beverage. Festivities will kick off our version of Beer and Hymns at 6 PM inside Anderson’s brewery Carolina Bauernhaus located at 115 West Federal Street (park behind the Arts Center). Brenda McGowan\, Sharon Christmas and Jay Bannister have offered their musical talents to make the experience a joyous event. We are hopeful to continue this ministry and gather together every third Sunday of the month with the community in faith and fellowship. Come join us!
URL:https://htlc-anderson.org/event/beer-and-hymns/2017-08-20/
LOCATION:Churchill’s Pub\, 2005 E. Greenville\, St\, Anderson\, SC\, 29621\, United States
GEO:34.5458947;-82.6321312
X-APPLE-STRUCTURED-LOCATION;VALUE=URI;X-ADDRESS=Churchill’s Pub 2005 E. Greenville St Anderson SC 29621 United States;X-APPLE-RADIUS=500;X-TITLE=2005 E. Greenville\, St:geo:-82.6321312,34.5458947
END:VEVENT
BEGIN:VEVENT
DTSTART;TZID=America/New_York:20170716T180000
DTEND;TZID=America/New_York:20170716T190000
DTSTAMP:20260423T012207
CREATED:20170204T191856Z
LAST-MODIFIED:20220221T000626Z
UID:10001157-1500228000-1500231600@htlc-anderson.org
SUMMARY:Beer and Hymns
DESCRIPTION:Monthly Beer and Hymn’s \nFollowing the tradition of Martin Luther\, Lutheran Churches across our country have been hosting events that have come to be known as “Beer and Hymns”. Beer and Hymns is a fun\, family-friendly event where we join together on a Sunday evening singing great hymns and gospel praises while enjoying Martin Luther’s favorite beverage. Festivities will kick off our version of Beer and Hymns at 6 PM inside Anderson’s brewery Carolina Bauernhaus located at 115 West Federal Street (park behind the Arts Center). Brenda McGowan\, Sharon Christmas and Jay Bannister have offered their musical talents to make the experience a joyous event. We are hopeful to continue this ministry and gather together every third Sunday of the month with the community in faith and fellowship. Come join us!
URL:https://htlc-anderson.org/event/beer-and-hymns/2017-07-16/
LOCATION:Churchill’s Pub\, 2005 E. Greenville\, St\, Anderson\, SC\, 29621\, United States
GEO:34.5458947;-82.6321312
X-APPLE-STRUCTURED-LOCATION;VALUE=URI;X-ADDRESS=Churchill’s Pub 2005 E. Greenville St Anderson SC 29621 United States;X-APPLE-RADIUS=500;X-TITLE=2005 E. Greenville\, St:geo:-82.6321312,34.5458947
END:VEVENT
BEGIN:VEVENT
DTSTART;TZID=America/New_York:20170618T180000
DTEND;TZID=America/New_York:20170618T190000
DTSTAMP:20260423T012207
CREATED:20170204T191856Z
LAST-MODIFIED:20220221T000626Z
UID:10001156-1497808800-1497812400@htlc-anderson.org
SUMMARY:Beer and Hymns
DESCRIPTION:Monthly Beer and Hymn’s \nFollowing the tradition of Martin Luther\, Lutheran Churches across our country have been hosting events that have come to be known as “Beer and Hymns”. Beer and Hymns is a fun\, family-friendly event where we join together on a Sunday evening singing great hymns and gospel praises while enjoying Martin Luther’s favorite beverage. Festivities will kick off our version of Beer and Hymns at 6 PM inside Anderson’s brewery Carolina Bauernhaus located at 115 West Federal Street (park behind the Arts Center). Brenda McGowan\, Sharon Christmas and Jay Bannister have offered their musical talents to make the experience a joyous event. We are hopeful to continue this ministry and gather together every third Sunday of the month with the community in faith and fellowship. Come join us!
URL:https://htlc-anderson.org/event/beer-and-hymns/2017-06-18/
LOCATION:Churchill’s Pub\, 2005 E. Greenville\, St\, Anderson\, SC\, 29621\, United States
GEO:34.5458947;-82.6321312
X-APPLE-STRUCTURED-LOCATION;VALUE=URI;X-ADDRESS=Churchill’s Pub 2005 E. Greenville St Anderson SC 29621 United States;X-APPLE-RADIUS=500;X-TITLE=2005 E. Greenville\, St:geo:-82.6321312,34.5458947
END:VEVENT
BEGIN:VEVENT
DTSTART;TZID=America/New_York:20170319T180000
DTEND;TZID=America/New_York:20170319T190000
DTSTAMP:20260423T012207
CREATED:20170204T191856Z
LAST-MODIFIED:20220221T000626Z
UID:10001155-1489946400-1489950000@htlc-anderson.org
SUMMARY:Beer and Hymns
DESCRIPTION:Monthly Beer and Hymn’s \nFollowing the tradition of Martin Luther\, Lutheran Churches across our country have been hosting events that have come to be known as “Beer and Hymns”. Beer and Hymns is a fun\, family-friendly event where we join together on a Sunday evening singing great hymns and gospel praises while enjoying Martin Luther’s favorite beverage. Festivities will kick off our version of Beer and Hymns at 6 PM inside Anderson’s brewery Carolina Bauernhaus located at 115 West Federal Street (park behind the Arts Center). Brenda McGowan\, Sharon Christmas and Jay Bannister have offered their musical talents to make the experience a joyous event. We are hopeful to continue this ministry and gather together every third Sunday of the month with the community in faith and fellowship. Come join us!
URL:https://htlc-anderson.org/event/beer-and-hymns/2017-03-19/
LOCATION:Churchill’s Pub\, 2005 E. Greenville\, St\, Anderson\, SC\, 29621\, United States
GEO:34.5458947;-82.6321312
X-APPLE-STRUCTURED-LOCATION;VALUE=URI;X-ADDRESS=Churchill’s Pub 2005 E. Greenville St Anderson SC 29621 United States;X-APPLE-RADIUS=500;X-TITLE=2005 E. Greenville\, St:geo:-82.6321312,34.5458947
END:VEVENT
BEGIN:VEVENT
DTSTART;TZID=America/New_York:20170219T180000
DTEND;TZID=America/New_York:20170219T190000
DTSTAMP:20260423T012207
CREATED:20170204T191856Z
LAST-MODIFIED:20220221T000626Z
UID:10001154-1487527200-1487530800@htlc-anderson.org
SUMMARY:Beer and Hymns
DESCRIPTION:Monthly Beer and Hymn’s \nFollowing the tradition of Martin Luther\, Lutheran Churches across our country have been hosting events that have come to be known as “Beer and Hymns”. Beer and Hymns is a fun\, family-friendly event where we join together on a Sunday evening singing great hymns and gospel praises while enjoying Martin Luther’s favorite beverage. Festivities will kick off our version of Beer and Hymns at 6 PM inside Anderson’s brewery Carolina Bauernhaus located at 115 West Federal Street (park behind the Arts Center). Brenda McGowan\, Sharon Christmas and Jay Bannister have offered their musical talents to make the experience a joyous event. We are hopeful to continue this ministry and gather together every third Sunday of the month with the community in faith and fellowship. Come join us!
URL:https://htlc-anderson.org/event/beer-and-hymns/2017-02-19/
LOCATION:Churchill’s Pub\, 2005 E. Greenville\, St\, Anderson\, SC\, 29621\, United States
GEO:34.5458947;-82.6321312
X-APPLE-STRUCTURED-LOCATION;VALUE=URI;X-ADDRESS=Churchill’s Pub 2005 E. Greenville St Anderson SC 29621 United States;X-APPLE-RADIUS=500;X-TITLE=2005 E. Greenville\, St:geo:-82.6321312,34.5458947
END:VEVENT
END:VCALENDAR