BEGIN:VCALENDAR
VERSION:2.0
PRODID:-//HTLC - ECPv6.15.20//NONSGML v1.0//EN
CALSCALE:GREGORIAN
METHOD:PUBLISH
X-WR-CALNAME:HTLC
X-ORIGINAL-URL:https://htlc-anderson.org
X-WR-CALDESC:Events for HTLC
REFRESH-INTERVAL;VALUE=DURATION:PT1H
X-Robots-Tag:noindex
X-PUBLISHED-TTL:PT1H
BEGIN:VTIMEZONE
TZID:America/New_York
BEGIN:DAYLIGHT
TZOFFSETFROM:-0500
TZOFFSETTO:-0400
TZNAME:EDT
DTSTART:20240310T070000
END:DAYLIGHT
BEGIN:STANDARD
TZOFFSETFROM:-0400
TZOFFSETTO:-0500
TZNAME:EST
DTSTART:20241103T060000
END:STANDARD
BEGIN:DAYLIGHT
TZOFFSETFROM:-0500
TZOFFSETTO:-0400
TZNAME:EDT
DTSTART:20250309T070000
END:DAYLIGHT
BEGIN:STANDARD
TZOFFSETFROM:-0400
TZOFFSETTO:-0500
TZNAME:EST
DTSTART:20251102T060000
END:STANDARD
BEGIN:DAYLIGHT
TZOFFSETFROM:-0500
TZOFFSETTO:-0400
TZNAME:EDT
DTSTART:20260308T070000
END:DAYLIGHT
BEGIN:STANDARD
TZOFFSETFROM:-0400
TZOFFSETTO:-0500
TZNAME:EST
DTSTART:20261101T060000
END:STANDARD
END:VTIMEZONE
BEGIN:VEVENT
DTSTART;TZID=America/New_York:20251116T084500
DTEND;TZID=America/New_York:20251116T094500
DTSTAMP:20260422T175815
CREATED:20221016T221936Z
LAST-MODIFIED:20230929T224310Z
UID:10004213-1763282700-1763286300@htlc-anderson.org
SUMMARY:8:45 AM Worship Service
DESCRIPTION:8:45 AM Worship service
URL:https://htlc-anderson.org/event/845-am-worship-service-2/2025-11-16/
LOCATION:Holy Trinity Lutheran Church\, 206 Broad Street\, Anderson\, SC\, 29621\, United States
GEO:34.516162;-82.651917
X-APPLE-STRUCTURED-LOCATION;VALUE=URI;X-ADDRESS=Holy Trinity Lutheran Church 206 Broad Street Anderson SC 29621 United States;X-APPLE-RADIUS=500;X-TITLE=206 Broad Street:geo:-82.651917,34.516162
END:VEVENT
BEGIN:VEVENT
DTSTART;TZID=America/New_York:20251116T100000
DTEND;TZID=America/New_York:20251116T104500
DTSTAMP:20260422T175815
CREATED:20240913T144907Z
LAST-MODIFIED:20240913T144938Z
UID:10005079-1763287200-1763289900@htlc-anderson.org
SUMMARY:10AM Children Youth and Adult Sunday School Class
DESCRIPTION:Children Youth and Adult Sunday School Class
URL:https://htlc-anderson.org/event/10am-youth-sunday-school-class-2/2025-11-16/
LOCATION:HTLC Youth Classroom
END:VEVENT
BEGIN:VEVENT
DTSTART;TZID=America/New_York:20251116T100000
DTEND;TZID=America/New_York:20251116T105000
DTSTAMP:20260422T175815
CREATED:20221016T222050Z
LAST-MODIFIED:20230929T224516Z
UID:10004545-1763287200-1763290200@htlc-anderson.org
SUMMARY:10 AM Martin Luther Sunday School
DESCRIPTION:10 AM Martin Luther Sunday School
URL:https://htlc-anderson.org/event/10-am-martin-luther-sunday-school/2025-11-16/
LOCATION:HTLC Fellowship Hall\, 209 Broad St\, Anderson\, SC\, 29621\, United States
GEO:34.5166123;-82.6520772
X-APPLE-STRUCTURED-LOCATION;VALUE=URI;X-ADDRESS=HTLC Fellowship Hall 209 Broad St Anderson SC 29621 United States;X-APPLE-RADIUS=500;X-TITLE=209 Broad St:geo:-82.6520772,34.5166123
END:VEVENT
BEGIN:VEVENT
DTSTART;TZID=America/New_York:20251116T100000
DTEND;TZID=America/New_York:20251116T224500
DTSTAMP:20260422T175815
CREATED:20220912T001255Z
LAST-MODIFIED:20230929T224620Z
UID:10004711-1763287200-1763333100@htlc-anderson.org
SUMMARY:10 AM Early Choir Rehearsal
DESCRIPTION:8:45 AM Service Choir Rehearsal
URL:https://htlc-anderson.org/event/10-am-early-choir-rehearsal/2025-11-16/
LOCATION:HTLC Choir Room
END:VEVENT
BEGIN:VEVENT
DTSTART;TZID=America/New_York:20251116T110000
DTEND;TZID=America/New_York:20251116T120000
DTSTAMP:20260422T175815
CREATED:20230929T224148Z
LAST-MODIFIED:20230929T224149Z
UID:10004379-1763290800-1763294400@htlc-anderson.org
SUMMARY:11AM Worship Service
DESCRIPTION:11AM Worship service \n 
URL:https://htlc-anderson.org/event/11am-worship-service-7-2/2025-11-16/
LOCATION:Holy Trinity Lutheran Church\, 206 Broad Street\, Anderson\, SC\, 29621\, United States
GEO:34.516162;-82.651917
X-APPLE-STRUCTURED-LOCATION;VALUE=URI;X-ADDRESS=Holy Trinity Lutheran Church 206 Broad Street Anderson SC 29621 United States;X-APPLE-RADIUS=500;X-TITLE=206 Broad Street:geo:-82.651917,34.516162
END:VEVENT
BEGIN:VEVENT
DTSTART;TZID=America/New_York:20251119T100000
DTEND;TZID=America/New_York:20251119T110000
DTSTAMP:20260422T175815
CREATED:20220912T002858Z
LAST-MODIFIED:20220912T002858Z
UID:10005458-1763546400-1763550000@htlc-anderson.org
SUMMARY:10AM T.O.P.S. meeting
DESCRIPTION:TOPS (Taking off pounds sensibly) \n 
URL:https://htlc-anderson.org/event/10am-t-o-p-s-meeting/2025-11-19/
LOCATION:Pairs and Spares Classroom\, 209 Broad St.\, Anderson\, SC\, 29621\, United States
GEO:34.5166123;-82.6520772
X-APPLE-STRUCTURED-LOCATION;VALUE=URI;X-ADDRESS=Pairs and Spares Classroom 209 Broad St. Anderson SC 29621 United States;X-APPLE-RADIUS=500;X-TITLE=209 Broad St.:geo:-82.6520772,34.5166123
END:VEVENT
BEGIN:VEVENT
DTSTART;TZID=America/New_York:20251119T183000
DTEND;TZID=America/New_York:20251119T200000
DTSTAMP:20260422T175815
CREATED:20241110T034927Z
LAST-MODIFIED:20241110T034945Z
UID:10006356-1763577000-1763582400@htlc-anderson.org
SUMMARY:6:30PM  Late Service Choir Practice
DESCRIPTION:Late Service Choir Practice
URL:https://htlc-anderson.org/event/730pm-late-service-choir-practice-6/2025-11-19/
END:VEVENT
BEGIN:VEVENT
DTSTART;TZID=America/New_York:20251120T180000
DTEND;TZID=America/New_York:20251120T193000
DTSTAMP:20260422T175815
CREATED:20160912T021148Z
LAST-MODIFIED:20230218T031643Z
UID:10004929-1763661600-1763667000@htlc-anderson.org
SUMMARY:WELCA - Luther's Ladies
DESCRIPTION:Meet on the 3rd Thursday of each month in the Office Conference Room
URL:https://htlc-anderson.org/event/welca-luthers-ladies-2016-10-20/2025-11-20/
LOCATION:Office Conference Room\, 209 Broad St.\, Anderson\, SC\, 29621\, United States
GEO:34.5166123;-82.6520772
X-APPLE-STRUCTURED-LOCATION;VALUE=URI;X-ADDRESS=Office Conference Room 209 Broad St. Anderson SC 29621 United States;X-APPLE-RADIUS=500;X-TITLE=209 Broad St.:geo:-82.6520772,34.5166123
END:VEVENT
BEGIN:VEVENT
DTSTART;TZID=America/New_York:20251122T100000
DTEND;TZID=America/New_York:20251122T120000
DTSTAMP:20260422T175815
CREATED:20250302T221533Z
LAST-MODIFIED:20250303T155056Z
UID:10006830-1763805600-1763812800@htlc-anderson.org
SUMMARY:Quilters Group
DESCRIPTION:Quilters group
URL:https://htlc-anderson.org/event/quilters-group/2025-11-22/
LOCATION:HTLC Fellowship Hall\, 209 Broad St\, Anderson\, SC\, 29621\, United States
GEO:34.5166123;-82.6520772
X-APPLE-STRUCTURED-LOCATION;VALUE=URI;X-ADDRESS=HTLC Fellowship Hall 209 Broad St Anderson SC 29621 United States;X-APPLE-RADIUS=500;X-TITLE=209 Broad St:geo:-82.6520772,34.5166123
END:VEVENT
END:VCALENDAR