BEGIN:VCALENDAR
VERSION:2.0
PRODID:-//HTLC - ECPv6.15.20//NONSGML v1.0//EN
CALSCALE:GREGORIAN
METHOD:PUBLISH
X-ORIGINAL-URL:https://htlc-anderson.org
X-WR-CALDESC:Events for HTLC
REFRESH-INTERVAL;VALUE=DURATION:PT1H
X-Robots-Tag:noindex
X-PUBLISHED-TTL:PT1H
BEGIN:VTIMEZONE
TZID:America/New_York
BEGIN:DAYLIGHT
TZOFFSETFROM:-0500
TZOFFSETTO:-0400
TZNAME:EDT
DTSTART:20230312T070000
END:DAYLIGHT
BEGIN:STANDARD
TZOFFSETFROM:-0400
TZOFFSETTO:-0500
TZNAME:EST
DTSTART:20231105T060000
END:STANDARD
BEGIN:DAYLIGHT
TZOFFSETFROM:-0500
TZOFFSETTO:-0400
TZNAME:EDT
DTSTART:20240310T070000
END:DAYLIGHT
BEGIN:STANDARD
TZOFFSETFROM:-0400
TZOFFSETTO:-0500
TZNAME:EST
DTSTART:20241103T060000
END:STANDARD
BEGIN:DAYLIGHT
TZOFFSETFROM:-0500
TZOFFSETTO:-0400
TZNAME:EDT
DTSTART:20250309T070000
END:DAYLIGHT
BEGIN:STANDARD
TZOFFSETFROM:-0400
TZOFFSETTO:-0500
TZNAME:EST
DTSTART:20251102T060000
END:STANDARD
END:VTIMEZONE
BEGIN:VEVENT
DTSTART;TZID=America/New_York:20240707T084500
DTEND;TZID=America/New_York:20240707T094500
DTSTAMP:20260421T220748
CREATED:20221016T221936Z
LAST-MODIFIED:20230929T224310Z
UID:10003351-1720341900-1720345500@htlc-anderson.org
SUMMARY:8:45 AM Worship Service
DESCRIPTION:8:45 AM Worship service
URL:https://htlc-anderson.org/event/845-am-worship-service-2/2024-07-07/
LOCATION:Holy Trinity Lutheran Church\, 206 Broad Street\, Anderson\, SC\, 29621\, United States
GEO:34.516162;-82.651917
X-APPLE-STRUCTURED-LOCATION;VALUE=URI;X-ADDRESS=Holy Trinity Lutheran Church 206 Broad Street Anderson SC 29621 United States;X-APPLE-RADIUS=500;X-TITLE=206 Broad Street:geo:-82.651917,34.516162
END:VEVENT
BEGIN:VEVENT
DTSTART;TZID=America/New_York:20240707T100000
DTEND;TZID=America/New_York:20240707T104500
DTSTAMP:20260421T220748
CREATED:20230901T153902Z
LAST-MODIFIED:20230929T224418Z
UID:10005008-1720346400-1720349100@htlc-anderson.org
SUMMARY:10AM Youth Sunday School Class
DESCRIPTION:Youth Sunday School Class
URL:https://htlc-anderson.org/event/10am-youth-sunday-school-class/2024-07-07/
LOCATION:HTLC Youth Classroom
END:VEVENT
BEGIN:VEVENT
DTSTART;TZID=America/New_York:20240707T100000
DTEND;TZID=America/New_York:20240707T105000
DTSTAMP:20260421T220748
CREATED:20221016T222050Z
LAST-MODIFIED:20230929T224516Z
UID:10003249-1720346400-1720349400@htlc-anderson.org
SUMMARY:10 AM Martin Luther Sunday School
DESCRIPTION:10 AM Martin Luther Sunday School
URL:https://htlc-anderson.org/event/10-am-martin-luther-sunday-school/2024-07-07/
LOCATION:HTLC Fellowship Hall\, 209 Broad St\, Anderson\, SC\, 29621\, United States
GEO:34.5166123;-82.6520772
X-APPLE-STRUCTURED-LOCATION;VALUE=URI;X-ADDRESS=HTLC Fellowship Hall 209 Broad St Anderson SC 29621 United States;X-APPLE-RADIUS=500;X-TITLE=209 Broad St:geo:-82.6520772,34.5166123
END:VEVENT
BEGIN:VEVENT
DTSTART;TZID=America/New_York:20240707T100000
DTEND;TZID=America/New_York:20240707T224500
DTSTAMP:20260421T220748
CREATED:20220912T001255Z
LAST-MODIFIED:20230929T224620Z
UID:10002728-1720346400-1720392300@htlc-anderson.org
SUMMARY:10 AM Early Choir Rehearsal
DESCRIPTION:8:45 AM Service Choir Rehearsal
URL:https://htlc-anderson.org/event/10-am-early-choir-rehearsal/2024-07-07/
LOCATION:HTLC Choir Room
END:VEVENT
BEGIN:VEVENT
DTSTART;TZID=America/New_York:20240707T110000
DTEND;TZID=America/New_York:20240707T120000
DTSTAMP:20260421T220748
CREATED:20230929T224148Z
LAST-MODIFIED:20230929T224149Z
UID:10003788-1720350000-1720353600@htlc-anderson.org
SUMMARY:11AM Worship Service
DESCRIPTION:11AM Worship service \n 
URL:https://htlc-anderson.org/event/11am-worship-service-7-2/2024-07-07/
LOCATION:Holy Trinity Lutheran Church\, 206 Broad Street\, Anderson\, SC\, 29621\, United States
GEO:34.516162;-82.651917
X-APPLE-STRUCTURED-LOCATION;VALUE=URI;X-ADDRESS=Holy Trinity Lutheran Church 206 Broad Street Anderson SC 29621 United States;X-APPLE-RADIUS=500;X-TITLE=206 Broad Street:geo:-82.651917,34.516162
END:VEVENT
BEGIN:VEVENT
DTSTART;TZID=America/New_York:20240708T190000
DTEND;TZID=America/New_York:20240708T200000
DTSTAMP:20260421T220748
CREATED:20220912T001846Z
LAST-MODIFIED:20220912T001846Z
UID:10002867-1720465200-1720468800@htlc-anderson.org
SUMMARY:7PM Church Council Meeting
DESCRIPTION:Church Council Meeting
URL:https://htlc-anderson.org/event/7pm-church-council-meeting/2024-07-08/
LOCATION:Office Conference Room\, 209 Broad St.\, Anderson\, SC\, 29621\, United States
GEO:34.5166123;-82.6520772
X-APPLE-STRUCTURED-LOCATION;VALUE=URI;X-ADDRESS=Office Conference Room 209 Broad St. Anderson SC 29621 United States;X-APPLE-RADIUS=500;X-TITLE=209 Broad St.:geo:-82.6520772,34.5166123
END:VEVENT
BEGIN:VEVENT
DTSTART;TZID=America/New_York:20240709T100000
DTEND;TZID=America/New_York:20240709T110000
DTSTAMP:20260421T220748
CREATED:20230203T191740Z
LAST-MODIFIED:20230218T031527Z
UID:10003879-1720519200-1720522800@htlc-anderson.org
SUMMARY:10AM Katie’s Ladies
DESCRIPTION:Katie’s Ladies\nLeader: Beth Cribbe\nDate: Tuesday\, February 14\nTime: 10:00 a.m.\nPlace: Office Conference Room
URL:https://htlc-anderson.org/event/10am-katies-ladies/2024-07-09/
LOCATION:Office Conference Room\, 209 Broad St.\, Anderson\, SC\, 29621\, United States
GEO:34.5166123;-82.6520772
X-APPLE-STRUCTURED-LOCATION;VALUE=URI;X-ADDRESS=Office Conference Room 209 Broad St. Anderson SC 29621 United States;X-APPLE-RADIUS=500;X-TITLE=209 Broad St.:geo:-82.6520772,34.5166123
END:VEVENT
BEGIN:VEVENT
DTSTART;TZID=America/New_York:20240710T100000
DTEND;TZID=America/New_York:20240710T110000
DTSTAMP:20260421T220748
CREATED:20220912T002858Z
LAST-MODIFIED:20220912T002858Z
UID:10003009-1720605600-1720609200@htlc-anderson.org
SUMMARY:10AM T.O.P.S. meeting
DESCRIPTION:TOPS (Taking off pounds sensibly) \n 
URL:https://htlc-anderson.org/event/10am-t-o-p-s-meeting/2024-07-10/
LOCATION:Pairs and Spares Classroom\, 209 Broad St.\, Anderson\, SC\, 29621\, United States
GEO:34.5166123;-82.6520772
X-APPLE-STRUCTURED-LOCATION;VALUE=URI;X-ADDRESS=Pairs and Spares Classroom 209 Broad St. Anderson SC 29621 United States;X-APPLE-RADIUS=500;X-TITLE=209 Broad St.:geo:-82.6520772,34.5166123
END:VEVENT
BEGIN:VEVENT
DTSTART;TZID=America/New_York:20240710T180000
DTEND;TZID=America/New_York:20240710T193000
DTSTAMP:20260421T220748
CREATED:20240623T225808Z
LAST-MODIFIED:20240630T195022Z
UID:10006189-1720634400-1720639800@htlc-anderson.org
SUMMARY:6PM SUMMER FUN NIGHT
DESCRIPTION:SUMMER FUN NIGHT\nWe will gather in Fellowship Hall for a time of Food\, Fun & Fellowship around a Biblical theme. Adults and Kids of all ages are invited to join us! There will be crafts\, games\, and song. The meal will be provided.\nWHEN: Wednesday\, July 10 6:00 – 7:30 p.m.\nWHAT: “NOAH’S ARK”\nAll Children are welcome to wear swimsuits; it will be a water fun night.
URL:https://htlc-anderson.org/event/6pm-summer-fun-night-3/
LOCATION:HTLC Fellowship Hall\, 209 Broad St\, Anderson\, SC\, 29621\, United States
GEO:34.5166123;-82.6520772
X-APPLE-STRUCTURED-LOCATION;VALUE=URI;X-ADDRESS=HTLC Fellowship Hall 209 Broad St Anderson SC 29621 United States;X-APPLE-RADIUS=500;X-TITLE=209 Broad St:geo:-82.6520772,34.5166123
END:VEVENT
BEGIN:VEVENT
DTSTART;TZID=America/New_York:20240710T193000
DTEND;TZID=America/New_York:20240710T210000
DTSTAMP:20260421T220748
CREATED:20170902T011029Z
LAST-MODIFIED:20200209T235848Z
UID:10001617-1720639800-1720645200@htlc-anderson.org
SUMMARY:7:30PM  Late Service Choir Practice
DESCRIPTION:Late Service Choir Practice
URL:https://htlc-anderson.org/event/730pm-late-service-choir-practice/2024-07-10/
END:VEVENT
BEGIN:VEVENT
DTSTART;TZID=America/New_York:20240711T180000
DTEND;TZID=America/New_York:20240711T193000
DTSTAMP:20260421T220748
CREATED:20240630T195134Z
LAST-MODIFIED:20240630T195134Z
UID:10006193-1720720800-1720726200@htlc-anderson.org
SUMMARY:6PM Dining DIvas
DESCRIPTION:“Dining Divas”\nThursday\, July 11\, 2024 at 6:00 PM\nat The Social Tap\n1475 Pearman Dairy Rd. Suite D\nAnderson\, SC
URL:https://htlc-anderson.org/event/6pm-dining-divas-2/
END:VEVENT
BEGIN:VEVENT
DTSTART;TZID=America/New_York:20240711T180000
DTEND;TZID=America/New_York:20240711T200000
DTSTAMP:20260421T220748
CREATED:20240623T230229Z
LAST-MODIFIED:20240623T230229Z
UID:10006191-1720720800-1720728000@htlc-anderson.org
SUMMARY:6 PM Dining Divas
DESCRIPTION:“Dining Divas”\nThursday\, July 11\, 2024 at 6:00 PM\nat The Social Tap\n1475 Pearman Dairy Rd. Suite D\nAnderson\, SC\nPlease RSVP by June 27\nBeth Cribbe (call or text 864-617-6216\nor email bcribbe1@gmail.com
URL:https://htlc-anderson.org/event/6-pm-dining-divas/
END:VEVENT
BEGIN:VEVENT
DTSTART;VALUE=DATE:20240712
DTEND;VALUE=DATE:20240713
DTSTAMP:20260421T220748
CREATED:20220912T003052Z
LAST-MODIFIED:20220912T003052Z
UID:10003115-1720742400-1720828799@htlc-anderson.org
SUMMARY:Church Office Closed
DESCRIPTION:Office Closed   Pastors Day off
URL:https://htlc-anderson.org/event/church-office-closed/2024-07-12/
LOCATION:Holy Trinity Lutheran Church\, 206 Broad Street\, Anderson\, SC\, 29621\, United States
GEO:34.516162;-82.651917
X-APPLE-STRUCTURED-LOCATION;VALUE=URI;X-ADDRESS=Holy Trinity Lutheran Church 206 Broad Street Anderson SC 29621 United States;X-APPLE-RADIUS=500;X-TITLE=206 Broad Street:geo:-82.651917,34.516162
END:VEVENT
END:VCALENDAR