BEGIN:VCALENDAR
VERSION:2.0
PRODID:-//HTLC - ECPv6.15.20//NONSGML v1.0//EN
CALSCALE:GREGORIAN
METHOD:PUBLISH
X-ORIGINAL-URL:https://htlc-anderson.org
X-WR-CALDESC:Events for HTLC
REFRESH-INTERVAL;VALUE=DURATION:PT1H
X-Robots-Tag:noindex
X-PUBLISHED-TTL:PT1H
BEGIN:VTIMEZONE
TZID:America/New_York
BEGIN:DAYLIGHT
TZOFFSETFROM:-0500
TZOFFSETTO:-0400
TZNAME:EDT
DTSTART:20230312T070000
END:DAYLIGHT
BEGIN:STANDARD
TZOFFSETFROM:-0400
TZOFFSETTO:-0500
TZNAME:EST
DTSTART:20231105T060000
END:STANDARD
BEGIN:DAYLIGHT
TZOFFSETFROM:-0500
TZOFFSETTO:-0400
TZNAME:EDT
DTSTART:20240310T070000
END:DAYLIGHT
BEGIN:STANDARD
TZOFFSETFROM:-0400
TZOFFSETTO:-0500
TZNAME:EST
DTSTART:20241103T060000
END:STANDARD
BEGIN:DAYLIGHT
TZOFFSETFROM:-0500
TZOFFSETTO:-0400
TZNAME:EDT
DTSTART:20250309T070000
END:DAYLIGHT
BEGIN:STANDARD
TZOFFSETFROM:-0400
TZOFFSETTO:-0500
TZNAME:EST
DTSTART:20251102T060000
END:STANDARD
END:VTIMEZONE
BEGIN:VEVENT
DTSTART;TZID=America/New_York:20240630T100000
DTEND;TZID=America/New_York:20240630T110000
DTSTAMP:20260422T025943
CREATED:20240531T144142Z
LAST-MODIFIED:20240531T144142Z
UID:10006129-1719741600-1719745200@htlc-anderson.org
SUMMARY:10AM Combined Worship Service
DESCRIPTION:5th Sumday Combined Worship Service
URL:https://htlc-anderson.org/event/10am-combined-worship-service-3/
END:VEVENT
BEGIN:VEVENT
DTSTART;TZID=America/New_York:20240630T110000
DTEND;TZID=America/New_York:20240630T123000
DTSTAMP:20260422T025943
CREATED:20240531T144322Z
LAST-MODIFIED:20240531T144341Z
UID:10006130-1719745200-1719750600@htlc-anderson.org
SUMMARY:11AM Lunch and Anniversary Celebration
DESCRIPTION:Please mark your calendars for Sunday\, June 30\, as we\ncelebrate significate anniversaries with Jill and Pastor\nfor their many years of faithful service to our\ncongregation. We will be honoring Jill Helgeson for her\n25 years as our Organist/Music Director and we will be\nhonoring Pastor Fischer for his 15 years as our minister\n(and his 30th year of Ordination). With this being a 5th Sunday\, there will\nbe One-Combined Worship Service at 10:00 a.m. followed by a meal.\nThe meat\, beverages and cake will be provided at the luncheon\, but we are requesting that\nfamilies bring side dishes that will compliment the chicken and ham\, that will be provided.\nThank you for your help in making this a special day for these servants and for our congregation.\nThe Mutual Ministry Committee
URL:https://htlc-anderson.org/event/11am-lunch-and-anniversary-celebration/
LOCATION:HTLC Fellowship Hall\, 209 Broad St\, Anderson\, SC\, 29621\, United States
GEO:34.5166123;-82.6520772
X-APPLE-STRUCTURED-LOCATION;VALUE=URI;X-ADDRESS=HTLC Fellowship Hall 209 Broad St Anderson SC 29621 United States;X-APPLE-RADIUS=500;X-TITLE=209 Broad St:geo:-82.6520772,34.5166123
END:VEVENT
BEGIN:VEVENT
DTSTART;TZID=America/New_York:20240703T100000
DTEND;TZID=America/New_York:20240703T110000
DTSTAMP:20260422T025943
CREATED:20220912T002858Z
LAST-MODIFIED:20220912T002858Z
UID:10003008-1720000800-1720004400@htlc-anderson.org
SUMMARY:10AM T.O.P.S. meeting
DESCRIPTION:TOPS (Taking off pounds sensibly) \n 
URL:https://htlc-anderson.org/event/10am-t-o-p-s-meeting/2024-07-03/
LOCATION:Pairs and Spares Classroom\, 209 Broad St.\, Anderson\, SC\, 29621\, United States
GEO:34.5166123;-82.6520772
X-APPLE-STRUCTURED-LOCATION;VALUE=URI;X-ADDRESS=Pairs and Spares Classroom 209 Broad St. Anderson SC 29621 United States;X-APPLE-RADIUS=500;X-TITLE=209 Broad St.:geo:-82.6520772,34.5166123
END:VEVENT
BEGIN:VEVENT
DTSTART;TZID=America/New_York:20240703T193000
DTEND;TZID=America/New_York:20240703T210000
DTSTAMP:20260422T025943
CREATED:20170902T011029Z
LAST-MODIFIED:20200209T235848Z
UID:10001616-1720035000-1720040400@htlc-anderson.org
SUMMARY:7:30PM  Late Service Choir Practice
DESCRIPTION:Late Service Choir Practice
URL:https://htlc-anderson.org/event/730pm-late-service-choir-practice/2024-07-03/
END:VEVENT
BEGIN:VEVENT
DTSTART;VALUE=DATE:20240704
DTEND;VALUE=DATE:20240705
DTSTAMP:20260422T025943
CREATED:20240623T225954Z
LAST-MODIFIED:20240623T225954Z
UID:10006190-1720051200-1720137599@htlc-anderson.org
SUMMARY:4th of July Office Closed
DESCRIPTION:4th of July Office Closed
URL:https://htlc-anderson.org/event/4th-of-july-office-closed/
END:VEVENT
BEGIN:VEVENT
DTSTART;VALUE=DATE:20240705
DTEND;VALUE=DATE:20240706
DTSTAMP:20260422T025943
CREATED:20220912T003052Z
LAST-MODIFIED:20220912T003052Z
UID:10003114-1720137600-1720223999@htlc-anderson.org
SUMMARY:Church Office Closed
DESCRIPTION:Office Closed   Pastors Day off
URL:https://htlc-anderson.org/event/church-office-closed/2024-07-05/
LOCATION:Holy Trinity Lutheran Church\, 206 Broad Street\, Anderson\, SC\, 29621\, United States
GEO:34.516162;-82.651917
X-APPLE-STRUCTURED-LOCATION;VALUE=URI;X-ADDRESS=Holy Trinity Lutheran Church 206 Broad Street Anderson SC 29621 United States;X-APPLE-RADIUS=500;X-TITLE=206 Broad Street:geo:-82.651917,34.516162
END:VEVENT
BEGIN:VEVENT
DTSTART;TZID=America/New_York:20240706T094500
DTEND;TZID=America/New_York:20240706T120000
DTSTAMP:20260422T025943
CREATED:20240612T011301Z
LAST-MODIFIED:20240719T222643Z
UID:10006133-1720259100-1720267200@htlc-anderson.org
SUMMARY:9:45 AM Saturday Servants
DESCRIPTION:As in prior years\, HTLC will prepare bagged lunches for the Anderson Emergency Soup Kitchen\nthrough the Saturday Servants Program. Each Saturday in July (except the second Saturday) we\nwill gather in the Fellowship Hall to prepare 140 peanut butter/jelly sandwiches and 140 bologna\nand cheese sandwiches\, along with other food items. July 27th is our last Saturday. We will begin\nto pack at 10:00 a.m. NOTE THE NEW TIME. \nKroger Baker is providing the bread as in prior years. Ingles has provided all the bottled water. \nWe now have adequate food donations to cover all Saturdays of July. \nIf you have questions\, please contact Leslie Cox at 301-788-9035 or Jamie Corrigan at 864-224-\n8070\, our Service Committee Co-Chairs.
URL:https://htlc-anderson.org/event/945-am-saturday-servants/2024-07-06/
LOCATION:HTLC Fellowship Hall\, 209 Broad St\, Anderson\, SC\, 29621\, United States
GEO:34.5166123;-82.6520772
X-APPLE-STRUCTURED-LOCATION;VALUE=URI;X-ADDRESS=HTLC Fellowship Hall 209 Broad St Anderson SC 29621 United States;X-APPLE-RADIUS=500;X-TITLE=209 Broad St:geo:-82.6520772,34.5166123
END:VEVENT
END:VCALENDAR