BEGIN:VCALENDAR
VERSION:2.0
PRODID:-//HTLC - ECPv6.15.20//NONSGML v1.0//EN
CALSCALE:GREGORIAN
METHOD:PUBLISH
X-WR-CALNAME:HTLC
X-ORIGINAL-URL:https://htlc-anderson.org
X-WR-CALDESC:Events for HTLC
REFRESH-INTERVAL;VALUE=DURATION:PT1H
X-Robots-Tag:noindex
X-PUBLISHED-TTL:PT1H
BEGIN:VTIMEZONE
TZID:America/New_York
BEGIN:DAYLIGHT
TZOFFSETFROM:-0500
TZOFFSETTO:-0400
TZNAME:EDT
DTSTART:20220313T070000
END:DAYLIGHT
BEGIN:STANDARD
TZOFFSETFROM:-0400
TZOFFSETTO:-0500
TZNAME:EST
DTSTART:20221106T060000
END:STANDARD
BEGIN:DAYLIGHT
TZOFFSETFROM:-0500
TZOFFSETTO:-0400
TZNAME:EDT
DTSTART:20230312T070000
END:DAYLIGHT
BEGIN:STANDARD
TZOFFSETFROM:-0400
TZOFFSETTO:-0500
TZNAME:EST
DTSTART:20231105T060000
END:STANDARD
BEGIN:DAYLIGHT
TZOFFSETFROM:-0500
TZOFFSETTO:-0400
TZNAME:EDT
DTSTART:20240310T070000
END:DAYLIGHT
BEGIN:STANDARD
TZOFFSETFROM:-0400
TZOFFSETTO:-0500
TZNAME:EST
DTSTART:20241103T060000
END:STANDARD
END:VTIMEZONE
BEGIN:VEVENT
DTSTART;TZID=America/New_York:20231008T084500
DTEND;TZID=America/New_York:20231008T094500
DTSTAMP:20260421T185110
CREATED:20221016T221936Z
LAST-MODIFIED:20230929T224310Z
UID:10003312-1696754700-1696758300@htlc-anderson.org
SUMMARY:8:45 AM Worship Service
DESCRIPTION:8:45 AM Worship service
URL:https://htlc-anderson.org/event/845-am-worship-service-2/2023-10-08/
LOCATION:Holy Trinity Lutheran Church\, 206 Broad Street\, Anderson\, SC\, 29621\, United States
GEO:34.516162;-82.651917
X-APPLE-STRUCTURED-LOCATION;VALUE=URI;X-ADDRESS=Holy Trinity Lutheran Church 206 Broad Street Anderson SC 29621 United States;X-APPLE-RADIUS=500;X-TITLE=206 Broad Street:geo:-82.651917,34.516162
END:VEVENT
BEGIN:VEVENT
DTSTART;TZID=America/New_York:20231008T100000
DTEND;TZID=America/New_York:20231008T104500
DTSTAMP:20260421T185110
CREATED:20230901T153902Z
LAST-MODIFIED:20230929T224418Z
UID:10004969-1696759200-1696761900@htlc-anderson.org
SUMMARY:10AM Youth Sunday School Class
DESCRIPTION:Youth Sunday School Class
URL:https://htlc-anderson.org/event/10am-youth-sunday-school-class/2023-10-08/
LOCATION:HTLC Youth Classroom
END:VEVENT
BEGIN:VEVENT
DTSTART;TZID=America/New_York:20231008T100000
DTEND;TZID=America/New_York:20231008T105000
DTSTAMP:20260421T185110
CREATED:20221016T222050Z
LAST-MODIFIED:20230929T224516Z
UID:10003210-1696759200-1696762200@htlc-anderson.org
SUMMARY:10 AM Martin Luther Sunday School
DESCRIPTION:10 AM Martin Luther Sunday School
URL:https://htlc-anderson.org/event/10-am-martin-luther-sunday-school/2023-10-08/
LOCATION:HTLC Fellowship Hall\, 209 Broad St\, Anderson\, SC\, 29621\, United States
GEO:34.5166123;-82.6520772
X-APPLE-STRUCTURED-LOCATION;VALUE=URI;X-ADDRESS=HTLC Fellowship Hall 209 Broad St Anderson SC 29621 United States;X-APPLE-RADIUS=500;X-TITLE=209 Broad St:geo:-82.6520772,34.5166123
END:VEVENT
BEGIN:VEVENT
DTSTART;TZID=America/New_York:20231008T100000
DTEND;TZID=America/New_York:20231008T224500
DTSTAMP:20260421T185110
CREATED:20220912T001255Z
LAST-MODIFIED:20230929T224620Z
UID:10002689-1696759200-1696805100@htlc-anderson.org
SUMMARY:10 AM Early Choir Rehearsal
DESCRIPTION:8:45 AM Service Choir Rehearsal
URL:https://htlc-anderson.org/event/10-am-early-choir-rehearsal/2023-10-08/
LOCATION:HTLC Choir Room
END:VEVENT
BEGIN:VEVENT
DTSTART;TZID=America/New_York:20231008T110000
DTEND;TZID=America/New_York:20231008T120000
DTSTAMP:20260421T185110
CREATED:20230929T224148Z
LAST-MODIFIED:20230929T224149Z
UID:10003749-1696762800-1696766400@htlc-anderson.org
SUMMARY:11AM Worship Service
DESCRIPTION:11AM Worship service \n 
URL:https://htlc-anderson.org/event/11am-worship-service-7-2/2023-10-08/
LOCATION:Holy Trinity Lutheran Church\, 206 Broad Street\, Anderson\, SC\, 29621\, United States
GEO:34.516162;-82.651917
X-APPLE-STRUCTURED-LOCATION;VALUE=URI;X-ADDRESS=Holy Trinity Lutheran Church 206 Broad Street Anderson SC 29621 United States;X-APPLE-RADIUS=500;X-TITLE=206 Broad Street:geo:-82.651917,34.516162
END:VEVENT
BEGIN:VEVENT
DTSTART;TZID=America/New_York:20231009T190000
DTEND;TZID=America/New_York:20231009T200000
DTSTAMP:20260421T185110
CREATED:20220912T001846Z
LAST-MODIFIED:20220912T001846Z
UID:10002858-1696878000-1696881600@htlc-anderson.org
SUMMARY:7PM Church Council Meeting
DESCRIPTION:Church Council Meeting
URL:https://htlc-anderson.org/event/7pm-church-council-meeting/2023-10-09/
LOCATION:Office Conference Room\, 209 Broad St.\, Anderson\, SC\, 29621\, United States
GEO:34.5166123;-82.6520772
X-APPLE-STRUCTURED-LOCATION;VALUE=URI;X-ADDRESS=Office Conference Room 209 Broad St. Anderson SC 29621 United States;X-APPLE-RADIUS=500;X-TITLE=209 Broad St.:geo:-82.6520772,34.5166123
END:VEVENT
BEGIN:VEVENT
DTSTART;TZID=America/New_York:20231010T100000
DTEND;TZID=America/New_York:20231010T110000
DTSTAMP:20260421T185110
CREATED:20230203T191740Z
LAST-MODIFIED:20230218T031527Z
UID:10003870-1696932000-1696935600@htlc-anderson.org
SUMMARY:10AM Katie’s Ladies
DESCRIPTION:Katie’s Ladies\nLeader: Beth Cribbe\nDate: Tuesday\, February 14\nTime: 10:00 a.m.\nPlace: Office Conference Room
URL:https://htlc-anderson.org/event/10am-katies-ladies/2023-10-10/
LOCATION:Office Conference Room\, 209 Broad St.\, Anderson\, SC\, 29621\, United States
GEO:34.5166123;-82.6520772
X-APPLE-STRUCTURED-LOCATION;VALUE=URI;X-ADDRESS=Office Conference Room 209 Broad St. Anderson SC 29621 United States;X-APPLE-RADIUS=500;X-TITLE=209 Broad St.:geo:-82.6520772,34.5166123
END:VEVENT
BEGIN:VEVENT
DTSTART;TZID=America/New_York:20231010T100000
DTEND;TZID=America/New_York:20231010T113000
DTSTAMP:20260421T185110
CREATED:20230728T160803Z
LAST-MODIFIED:20230728T160803Z
UID:10004857-1696932000-1696937400@htlc-anderson.org
SUMMARY:10 AM ADULT CATECHISM CLASSES
DESCRIPTION:ADULT CATECHISM CLASSES\nThroughout the months of September and October Pastor Fischer will be leading a 6 week\nCourse. Please mark your calendars. \n  \nMorning Classes\nSeptember 5\, Tuesday\n10:00-11:30 a.m.\nSeptember 12\, Tuesday\n10:00-11:30 a.m.\nSeptember 19\, Tuesday\n10:00-11:30 a.m.\nSeptember 26\, Tuesday\n10:00-11:30 a.m.\nOctober 3\, Tuesday\n10:00-11:30 a.m.\nOctober 10\, Tuesday\n10:00-11:30 a.m. \n  \nEvening Classes\nSeptember 7\, Thursday\n7:00-8:30 p.m.\nSeptember 14\, Thursday\n7:00-8:30 p.m.\nSeptember 21\, Thursday\n7:00-8:30 p.m.\nSeptember 28\, Thursday\n7:00-8:30 p.m.\nOctober 5\, Tuesday\n7:00-8:30 p.m.\nOctober 12\, Thursday\n7:00-8:30 p.m. \n  \nTopics\nBaptism\nHoly Communion \nApostles’ Creed\n Lord’s Prayer\nTen Commandments \nLiturgy/Church Year
URL:https://htlc-anderson.org/event/10-am-adult-catechism-classes/2023-10-10/
LOCATION:Holy Trinity Lutheran Church\, 206 Broad Street\, Anderson\, SC\, 29621\, United States
GEO:34.516162;-82.651917
X-APPLE-STRUCTURED-LOCATION;VALUE=URI;X-ADDRESS=Holy Trinity Lutheran Church 206 Broad Street Anderson SC 29621 United States;X-APPLE-RADIUS=500;X-TITLE=206 Broad Street:geo:-82.651917,34.516162
END:VEVENT
BEGIN:VEVENT
DTSTART;TZID=America/New_York:20231011T100000
DTEND;TZID=America/New_York:20231011T110000
DTSTAMP:20260421T185110
CREATED:20220912T002858Z
LAST-MODIFIED:20220912T002858Z
UID:10002970-1697018400-1697022000@htlc-anderson.org
SUMMARY:10AM T.O.P.S. meeting
DESCRIPTION:TOPS (Taking off pounds sensibly) \n 
URL:https://htlc-anderson.org/event/10am-t-o-p-s-meeting/2023-10-11/
LOCATION:Pairs and Spares Classroom\, 209 Broad St.\, Anderson\, SC\, 29621\, United States
GEO:34.5166123;-82.6520772
X-APPLE-STRUCTURED-LOCATION;VALUE=URI;X-ADDRESS=Pairs and Spares Classroom 209 Broad St. Anderson SC 29621 United States;X-APPLE-RADIUS=500;X-TITLE=209 Broad St.:geo:-82.6520772,34.5166123
END:VEVENT
BEGIN:VEVENT
DTSTART;TZID=America/New_York:20231011T173000
DTEND;TZID=America/New_York:20231011T190000
DTSTAMP:20260421T185110
CREATED:20230929T230258Z
LAST-MODIFIED:20230929T230258Z
UID:10005289-1697045400-1697050800@htlc-anderson.org
SUMMARY:5:30PM Family Fun Night
DESCRIPTION:FAMILY FUN NIGHT\nOur next Family Fun Night will be on Wednesday\, October 11th . We will meet in Fellowship\nHall for a time of Food\, Fun & Fellowship around a Biblical theme. Adults and Kids of all ages\nare invited to join us! There will be crafts\, games\, and song. The meal will be provided.\nWHEN: Wednesday\, October 11th\nJESUS CALLS THE FISHERMEN TO BE HIS DISCIPLES\nTIME: 5:30 – 7:00 p.m.
URL:https://htlc-anderson.org/event/530pm-family-fun-night-8/
LOCATION:HTLC Fellowship Hall\, 209 Broad St\, Anderson\, SC\, 29621\, United States
GEO:34.5166123;-82.6520772
X-APPLE-STRUCTURED-LOCATION;VALUE=URI;X-ADDRESS=HTLC Fellowship Hall 209 Broad St Anderson SC 29621 United States;X-APPLE-RADIUS=500;X-TITLE=209 Broad St:geo:-82.6520772,34.5166123
END:VEVENT
BEGIN:VEVENT
DTSTART;TZID=America/New_York:20231011T193000
DTEND;TZID=America/New_York:20231011T210000
DTSTAMP:20260421T185110
CREATED:20170902T011029Z
LAST-MODIFIED:20200209T235848Z
UID:10001578-1697052600-1697058000@htlc-anderson.org
SUMMARY:7:30PM  Late Service Choir Practice
DESCRIPTION:Late Service Choir Practice
URL:https://htlc-anderson.org/event/730pm-late-service-choir-practice/2023-10-11/
END:VEVENT
BEGIN:VEVENT
DTSTART;TZID=America/New_York:20231012T190000
DTEND;TZID=America/New_York:20231012T203000
DTSTAMP:20260421T185110
CREATED:20230728T160928Z
LAST-MODIFIED:20230728T160928Z
UID:10004863-1697137200-1697142600@htlc-anderson.org
SUMMARY:7PM ADULT CATECHISM CLASSES
DESCRIPTION:ADULT CATECHISM CLASSES\nThroughout the months of September and October Pastor Fischer will be leading a 6 week\nCourse. Please mark your calendars. \n  \nMorning Classes\nSeptember 5\, Tuesday\n10:00-11:30 a.m.\nSeptember 12\, Tuesday\n10:00-11:30 a.m.\nSeptember 19\, Tuesday\n10:00-11:30 a.m.\nSeptember 26\, Tuesday\n10:00-11:30 a.m.\nOctober 3\, Tuesday\n10:00-11:30 a.m.\nOctober 10\, Tuesday\n10:00-11:30 a.m. \n  \nEvening Classes\nSeptember 7\, Thursday\n7:00-8:30 p.m.\nSeptember 14\, Thursday\n7:00-8:30 p.m.\nSeptember 21\, Thursday\n7:00-8:30 p.m.\nSeptember 28\, Thursday\n7:00-8:30 p.m.\nOctober 5\, Tuesday\n7:00-8:30 p.m.\nOctober 12\, Thursday\n7:00-8:30 p.m. \n  \nTopics\nBaptism\nHoly Communion \nApostles’ Creed\n Lord’s Prayer\nTen Commandments \nLiturgy/Church Year
URL:https://htlc-anderson.org/event/7pm-adult-catechism-classes/2023-10-12/
LOCATION:Holy Trinity Lutheran Church\, 206 Broad Street\, Anderson\, SC\, 29621\, United States
GEO:34.516162;-82.651917
X-APPLE-STRUCTURED-LOCATION;VALUE=URI;X-ADDRESS=Holy Trinity Lutheran Church 206 Broad Street Anderson SC 29621 United States;X-APPLE-RADIUS=500;X-TITLE=206 Broad Street:geo:-82.651917,34.516162
END:VEVENT
BEGIN:VEVENT
DTSTART;VALUE=DATE:20231013
DTEND;VALUE=DATE:20231014
DTSTAMP:20260421T185110
CREATED:20220912T003052Z
LAST-MODIFIED:20220912T003052Z
UID:10003076-1697155200-1697241599@htlc-anderson.org
SUMMARY:Church Office Closed
DESCRIPTION:Office Closed   Pastors Day off
URL:https://htlc-anderson.org/event/church-office-closed/2023-10-13/
LOCATION:Holy Trinity Lutheran Church\, 206 Broad Street\, Anderson\, SC\, 29621\, United States
GEO:34.516162;-82.651917
X-APPLE-STRUCTURED-LOCATION;VALUE=URI;X-ADDRESS=Holy Trinity Lutheran Church 206 Broad Street Anderson SC 29621 United States;X-APPLE-RADIUS=500;X-TITLE=206 Broad Street:geo:-82.651917,34.516162
END:VEVENT
END:VCALENDAR