BEGIN:VCALENDAR
VERSION:2.0
PRODID:-//HTLC - ECPv6.15.20//NONSGML v1.0//EN
CALSCALE:GREGORIAN
METHOD:PUBLISH
X-WR-CALNAME:HTLC
X-ORIGINAL-URL:https://htlc-anderson.org
X-WR-CALDESC:Events for HTLC
REFRESH-INTERVAL;VALUE=DURATION:PT1H
X-Robots-Tag:noindex
X-PUBLISHED-TTL:PT1H
BEGIN:VTIMEZONE
TZID:America/New_York
BEGIN:DAYLIGHT
TZOFFSETFROM:-0500
TZOFFSETTO:-0400
TZNAME:EDT
DTSTART:20210314T070000
END:DAYLIGHT
BEGIN:STANDARD
TZOFFSETFROM:-0400
TZOFFSETTO:-0500
TZNAME:EST
DTSTART:20211107T060000
END:STANDARD
BEGIN:DAYLIGHT
TZOFFSETFROM:-0500
TZOFFSETTO:-0400
TZNAME:EDT
DTSTART:20220313T070000
END:DAYLIGHT
BEGIN:STANDARD
TZOFFSETFROM:-0400
TZOFFSETTO:-0500
TZNAME:EST
DTSTART:20221106T060000
END:STANDARD
BEGIN:DAYLIGHT
TZOFFSETFROM:-0500
TZOFFSETTO:-0400
TZNAME:EDT
DTSTART:20230312T070000
END:DAYLIGHT
BEGIN:STANDARD
TZOFFSETFROM:-0400
TZOFFSETTO:-0500
TZNAME:EST
DTSTART:20231105T060000
END:STANDARD
END:VTIMEZONE
BEGIN:VEVENT
DTSTART;VALUE=DATE:20221023
DTEND;VALUE=DATE:20221024
DTSTAMP:20260425T001219
CREATED:20221007T034130Z
LAST-MODIFIED:20221007T034130Z
UID:10003159-1666483200-1666569599@htlc-anderson.org
SUMMARY:October BREAST CANCER AWARENESS MONTH
DESCRIPTION:October is BREAST CANCER AWARENESS MONTH\nOn Sunday\, October 23TH everyone is asked to wear PINK in honor of all\nsurvivors and in memory of loved ones who have been victims of breast\ncancer.
URL:https://htlc-anderson.org/event/october-breast-cancer-awareness-month/
END:VEVENT
BEGIN:VEVENT
DTSTART;TZID=America/New_York:20221023T084500
DTEND;TZID=America/New_York:20221023T094500
DTSTAMP:20260425T001219
CREATED:20221016T222547Z
LAST-MODIFIED:20221016T222547Z
UID:10003370-1666514700-1666518300@htlc-anderson.org
SUMMARY:8:45 AM Worship Service
DESCRIPTION:8:45 AM Worship Service
URL:https://htlc-anderson.org/event/845-am-worship-service-3/2022-10-23/
LOCATION:Holy Trinity Lutheran Church\, 206 Broad Street\, Anderson\, SC\, 29621\, United States
GEO:34.516162;-82.651917
X-APPLE-STRUCTURED-LOCATION;VALUE=URI;X-ADDRESS=Holy Trinity Lutheran Church 206 Broad Street Anderson SC 29621 United States;X-APPLE-RADIUS=500;X-TITLE=206 Broad Street:geo:-82.651917,34.516162
END:VEVENT
BEGIN:VEVENT
DTSTART;TZID=America/New_York:20221023T100000
DTEND;TZID=America/New_York:20221023T105000
DTSTAMP:20260425T001219
CREATED:20221016T222917Z
LAST-MODIFIED:20221016T222917Z
UID:10003378-1666519200-1666522200@htlc-anderson.org
SUMMARY:10 AM Martin Luther Sunday School
DESCRIPTION:10 AM Martin Luther Sunday School
URL:https://htlc-anderson.org/event/10-am-martin-luther-sunday-school-2/2022-10-23/
LOCATION:HTLC Fellowship Hall\, 209 Broad St\, Anderson\, SC\, 29621\, United States
GEO:34.5166123;-82.6520772
X-APPLE-STRUCTURED-LOCATION;VALUE=URI;X-ADDRESS=HTLC Fellowship Hall 209 Broad St Anderson SC 29621 United States;X-APPLE-RADIUS=500;X-TITLE=209 Broad St:geo:-82.6520772,34.5166123
END:VEVENT
BEGIN:VEVENT
DTSTART;TZID=America/New_York:20221023T100000
DTEND;TZID=America/New_York:20221023T224500
DTSTAMP:20260425T001219
CREATED:20220912T001255Z
LAST-MODIFIED:20230929T224620Z
UID:10002639-1666519200-1666565100@htlc-anderson.org
SUMMARY:10 AM Early Choir Rehearsal
DESCRIPTION:8:45 AM Service Choir Rehearsal
URL:https://htlc-anderson.org/event/10-am-early-choir-rehearsal/2022-10-23/
LOCATION:HTLC Choir Room
END:VEVENT
BEGIN:VEVENT
DTSTART;TZID=America/New_York:20221023T110000
DTEND;TZID=America/New_York:20221023T120000
DTSTAMP:20260425T001219
CREATED:20221016T222703Z
LAST-MODIFIED:20221016T222703Z
UID:10003374-1666522800-1666526400@htlc-anderson.org
SUMMARY:11AM Worship Service
DESCRIPTION:11AM Worship service
URL:https://htlc-anderson.org/event/11am-worship-service-6/2022-10-23/
LOCATION:Holy Trinity Lutheran Church\, 206 Broad Street\, Anderson\, SC\, 29621\, United States
GEO:34.516162;-82.651917
X-APPLE-STRUCTURED-LOCATION;VALUE=URI;X-ADDRESS=Holy Trinity Lutheran Church 206 Broad Street Anderson SC 29621 United States;X-APPLE-RADIUS=500;X-TITLE=206 Broad Street:geo:-82.651917,34.516162
END:VEVENT
BEGIN:VEVENT
DTSTART;TZID=America/New_York:20221023T120000
DTEND;TZID=America/New_York:20221023T140000
DTSTAMP:20260425T001219
CREATED:20221007T032502Z
LAST-MODIFIED:20221007T032502Z
UID:10003154-1666526400-1666533600@htlc-anderson.org
SUMMARY:12PM Trick -or-Treat- So- Others- May- Eat
DESCRIPTION:YOUTH\nTrick -or-Treat- So- Others- May- Eat The Youth will meet after the Late Service on October 23rd\nfor lunch and then go into our three assigned neighborhoods to distribute the bags. We will once\nagain have bags available for the congregation to make food donations. The congregation is asked to\npick up their bag on the 23rd and bring it back on the 30th filled with food items and then place them\nin the room off the Narthex. Then on October 30th\, the Youth will return to the neighborhoods to pick\nup the filled bags. We will need some vehicles to help with the pick-up. If you are able to help\, please\nsee Amy Goodson.
URL:https://htlc-anderson.org/event/12pm-trick-or-treat-so-others-may-eat/2022-10-23/
END:VEVENT
BEGIN:VEVENT
DTSTART;TZID=America/New_York:20221024T183000
DTEND;TZID=America/New_York:20221024T193000
DTSTAMP:20260425T001219
CREATED:20220912T002108Z
LAST-MODIFIED:20220912T002108Z
UID:10002871-1666636200-1666639800@htlc-anderson.org
SUMMARY:6:30PM Lutheran Men in Mission Meeting
DESCRIPTION:
URL:https://htlc-anderson.org/event/630pm-lutheran-men-in-mission-meeting-2/2022-10-24/
LOCATION:HTLC Fellowship Hall\, 209 Broad St\, Anderson\, SC\, 29621\, United States
GEO:34.5166123;-82.6520772
X-APPLE-STRUCTURED-LOCATION;VALUE=URI;X-ADDRESS=HTLC Fellowship Hall 209 Broad St Anderson SC 29621 United States;X-APPLE-RADIUS=500;X-TITLE=209 Broad St:geo:-82.6520772,34.5166123
END:VEVENT
BEGIN:VEVENT
DTSTART;TZID=America/New_York:20221026T100000
DTEND;TZID=America/New_York:20221026T110000
DTSTAMP:20260425T001219
CREATED:20220912T002858Z
LAST-MODIFIED:20220912T002858Z
UID:10002920-1666778400-1666782000@htlc-anderson.org
SUMMARY:10AM T.O.P.S. meeting
DESCRIPTION:TOPS (Taking off pounds sensibly) \n 
URL:https://htlc-anderson.org/event/10am-t-o-p-s-meeting/2022-10-26/
LOCATION:Pairs and Spares Classroom\, 209 Broad St.\, Anderson\, SC\, 29621\, United States
GEO:34.5166123;-82.6520772
X-APPLE-STRUCTURED-LOCATION;VALUE=URI;X-ADDRESS=Pairs and Spares Classroom 209 Broad St. Anderson SC 29621 United States;X-APPLE-RADIUS=500;X-TITLE=209 Broad St.:geo:-82.6520772,34.5166123
END:VEVENT
BEGIN:VEVENT
DTSTART;TZID=America/New_York:20221026T193000
DTEND;TZID=America/New_York:20221026T210000
DTSTAMP:20260425T001219
CREATED:20170902T011029Z
LAST-MODIFIED:20200209T235848Z
UID:10001528-1666812600-1666818000@htlc-anderson.org
SUMMARY:7:30PM  Late Service Choir Practice
DESCRIPTION:Late Service Choir Practice
URL:https://htlc-anderson.org/event/730pm-late-service-choir-practice/2022-10-26/
END:VEVENT
BEGIN:VEVENT
DTSTART;VALUE=DATE:20221028
DTEND;VALUE=DATE:20221029
DTSTAMP:20260425T001219
CREATED:20220912T003052Z
LAST-MODIFIED:20220912T003052Z
UID:10003026-1666915200-1667001599@htlc-anderson.org
SUMMARY:Church Office Closed
DESCRIPTION:Office Closed   Pastors Day off
URL:https://htlc-anderson.org/event/church-office-closed/2022-10-28/
LOCATION:Holy Trinity Lutheran Church\, 206 Broad Street\, Anderson\, SC\, 29621\, United States
GEO:34.516162;-82.651917
X-APPLE-STRUCTURED-LOCATION;VALUE=URI;X-ADDRESS=Holy Trinity Lutheran Church 206 Broad Street Anderson SC 29621 United States;X-APPLE-RADIUS=500;X-TITLE=206 Broad Street:geo:-82.651917,34.516162
END:VEVENT
BEGIN:VEVENT
DTSTART;TZID=America/New_York:20221029T100000
DTEND;TZID=America/New_York:20221029T140000
DTSTAMP:20260425T001219
CREATED:20221007T033002Z
LAST-MODIFIED:20221007T033002Z
UID:10003156-1667037600-1667052000@htlc-anderson.org
SUMMARY:10AM WELCA Fall Foothills Conference Meeting
DESCRIPTION:WELCA Fall Foothills Conference Meeting\nSaturday\, October 29th\, 2022Immanuel Lutheran Church\n501 E. Creswell Avenue\nGreenwood\, SC 29646\nThe women of the WELCA unit at Immanuel Lutheran Church\, Greenwood SC are excited to host the\nFall Conference for the Foothills region on Saturday\, October 29th from 10:00 a.m. to 2:00 p.m.\nwith registration beginning at 9:30 a.m. A light lunch will be served.\nPlease plan to join us as we come together in Thanksgiving as a community of women called to\ndiscipleship in Jesus Christ. As His disciples\, we are called to serve and love God’s children in our\ncommunity\, our state\, and the world.\nOur guest speaker will be Ms. Sabrina Miller\, Executive Director of The Boys and Girls Clubs of the\nLakelands Region. This nonprofit organization’s mission is to enable all young people\, especially\nthose who need it the most\, to reach their full potential as productive\, caring\, responsible citizens.\nTwo of their programs include the Be Great Academy after school program and the Starz24 Teen\nCenter.\nPlease let Beth Fischer\, WELCA Congregational President\, know you will be attending by\nWednesday\, October 19 at (864) 933-7446 or fischerfive@att.net.\nHOPE TO SEE YOU THERE!
URL:https://htlc-anderson.org/event/10am-welca-fall-foothills-conference-meeting/
END:VEVENT
END:VCALENDAR