BEGIN:VCALENDAR
VERSION:2.0
PRODID:-//HTLC - ECPv6.15.20//NONSGML v1.0//EN
CALSCALE:GREGORIAN
METHOD:PUBLISH
X-ORIGINAL-URL:https://htlc-anderson.org
X-WR-CALDESC:Events for HTLC
REFRESH-INTERVAL;VALUE=DURATION:PT1H
X-Robots-Tag:noindex
X-PUBLISHED-TTL:PT1H
BEGIN:VTIMEZONE
TZID:America/New_York
BEGIN:DAYLIGHT
TZOFFSETFROM:-0500
TZOFFSETTO:-0400
TZNAME:EDT
DTSTART:20160313T070000
END:DAYLIGHT
BEGIN:STANDARD
TZOFFSETFROM:-0400
TZOFFSETTO:-0500
TZNAME:EST
DTSTART:20161106T060000
END:STANDARD
BEGIN:DAYLIGHT
TZOFFSETFROM:-0500
TZOFFSETTO:-0400
TZNAME:EDT
DTSTART:20170312T070000
END:DAYLIGHT
BEGIN:STANDARD
TZOFFSETFROM:-0400
TZOFFSETTO:-0500
TZNAME:EST
DTSTART:20171105T060000
END:STANDARD
BEGIN:DAYLIGHT
TZOFFSETFROM:-0500
TZOFFSETTO:-0400
TZNAME:EDT
DTSTART:20180311T070000
END:DAYLIGHT
BEGIN:STANDARD
TZOFFSETFROM:-0400
TZOFFSETTO:-0500
TZNAME:EST
DTSTART:20181104T060000
END:STANDARD
END:VTIMEZONE
BEGIN:VEVENT
DTSTART;TZID=America/New_York:20171105T084500
DTEND;TZID=America/New_York:20171105T094500
DTSTAMP:20260421T002421
CREATED:20160730T023732Z
LAST-MODIFIED:20220220T162708Z
UID:10000316-1509871500-1509875100@htlc-anderson.org
SUMMARY:8:45 AM Worship Service
DESCRIPTION:8:45 AM Worship Service
URL:https://htlc-anderson.org/event/845-am-worship-service/2017-11-05/
LOCATION:Holy Trinity Lutheran Church\, 206 Broad Street\, Anderson\, SC\, 29621\, United States
GEO:34.516162;-82.651917
X-APPLE-STRUCTURED-LOCATION;VALUE=URI;X-ADDRESS=Holy Trinity Lutheran Church 206 Broad Street Anderson SC 29621 United States;X-APPLE-RADIUS=500;X-TITLE=206 Broad Street:geo:-82.651917,34.516162
END:VEVENT
BEGIN:VEVENT
DTSTART;TZID=America/New_York:20171105T110000
DTEND;TZID=America/New_York:20171105T120000
DTSTAMP:20260421T002421
CREATED:20160730T023955Z
LAST-MODIFIED:20220220T163138Z
UID:10000634-1509879600-1509883200@htlc-anderson.org
SUMMARY:11:00 AM Worship Service
DESCRIPTION:Late Worship Service 11 AM
URL:https://htlc-anderson.org/event/1100-am-worship-service/2017-11-05/
LOCATION:Holy Trinity Lutheran Church\, 206 Broad Street\, Anderson\, SC\, 29621\, United States
GEO:34.516162;-82.651917
X-APPLE-STRUCTURED-LOCATION;VALUE=URI;X-ADDRESS=Holy Trinity Lutheran Church 206 Broad Street Anderson SC 29621 United States;X-APPLE-RADIUS=500;X-TITLE=206 Broad Street:geo:-82.651917,34.516162
END:VEVENT
BEGIN:VEVENT
DTSTART;TZID=America/New_York:20171106T100000
DTEND;TZID=America/New_York:20171106T230000
DTSTAMP:20260421T002421
CREATED:20160912T020615Z
LAST-MODIFIED:20190124T033859Z
UID:10000962-1509962400-1510009200@htlc-anderson.org
SUMMARY:WELCA Morning Group
DESCRIPTION:Leader Janet Uhl \nMeeting in the Fellowship Hall \n1st Thursday of each month
URL:https://htlc-anderson.org/event/welca-morning-group/2017-11-06/
LOCATION:HTLC Fellowship Hall\, 209 Broad St\, Anderson\, SC\, 29621\, United States
GEO:34.5166123;-82.6520772
X-APPLE-STRUCTURED-LOCATION;VALUE=URI;X-ADDRESS=HTLC Fellowship Hall 209 Broad St Anderson SC 29621 United States;X-APPLE-RADIUS=500;X-TITLE=209 Broad St:geo:-82.6520772,34.5166123
END:VEVENT
BEGIN:VEVENT
DTSTART;TZID=America/New_York:20171107T140000
DTEND;TZID=America/New_York:20171107T153000
DTSTAMP:20260421T002421
CREATED:20160912T014003Z
LAST-MODIFIED:20220221T000847Z
UID:10000826-1510063200-1510068600@htlc-anderson.org
SUMMARY:Good News Club
DESCRIPTION:Good News Club \nConcord Elementary School
URL:https://htlc-anderson.org/event/good-news-club/2017-11-07/
LOCATION:Concord Elementary School\, 2701 Calrossie Rd\, Anderson\, SC\, 29621\, United States
GEO:34.535885;-82.657649
X-APPLE-STRUCTURED-LOCATION;VALUE=URI;X-ADDRESS=Concord Elementary School 2701 Calrossie Rd Anderson SC 29621 United States;X-APPLE-RADIUS=500;X-TITLE=2701 Calrossie Rd:geo:-82.657649,34.535885
END:VEVENT
BEGIN:VEVENT
DTSTART;TZID=America/New_York:20171108T193000
DTEND;TZID=America/New_York:20171108T210000
DTSTAMP:20260421T002421
CREATED:20170902T011029Z
LAST-MODIFIED:20200209T235848Z
UID:10001269-1510169400-1510174800@htlc-anderson.org
SUMMARY:7:30PM  Late Service Choir Practice
DESCRIPTION:Late Service Choir Practice
URL:https://htlc-anderson.org/event/730pm-late-service-choir-practice/2017-11-08/
END:VEVENT
END:VCALENDAR