BEGIN:VCALENDAR
VERSION:2.0
PRODID:-//HTLC - ECPv6.15.20//NONSGML v1.0//EN
CALSCALE:GREGORIAN
METHOD:PUBLISH
X-ORIGINAL-URL:https://htlc-anderson.org
X-WR-CALDESC:Events for HTLC
REFRESH-INTERVAL;VALUE=DURATION:PT1H
X-Robots-Tag:noindex
X-PUBLISHED-TTL:PT1H
BEGIN:VTIMEZONE
TZID:America/New_York
BEGIN:DAYLIGHT
TZOFFSETFROM:-0500
TZOFFSETTO:-0400
TZNAME:EDT
DTSTART:20150308T070000
END:DAYLIGHT
BEGIN:STANDARD
TZOFFSETFROM:-0400
TZOFFSETTO:-0500
TZNAME:EST
DTSTART:20151101T060000
END:STANDARD
BEGIN:DAYLIGHT
TZOFFSETFROM:-0500
TZOFFSETTO:-0400
TZNAME:EDT
DTSTART:20160313T070000
END:DAYLIGHT
BEGIN:STANDARD
TZOFFSETFROM:-0400
TZOFFSETTO:-0500
TZNAME:EST
DTSTART:20161106T060000
END:STANDARD
BEGIN:DAYLIGHT
TZOFFSETFROM:-0500
TZOFFSETTO:-0400
TZNAME:EDT
DTSTART:20170312T070000
END:DAYLIGHT
BEGIN:STANDARD
TZOFFSETFROM:-0400
TZOFFSETTO:-0500
TZNAME:EST
DTSTART:20171105T060000
END:STANDARD
END:VTIMEZONE
BEGIN:VEVENT
DTSTART;VALUE=DATE:20161030
DTEND;VALUE=DATE:20161031
DTSTAMP:20260422T180308
CREATED:20160926T005359Z
LAST-MODIFIED:20161009T213519Z
UID:10001128-1477785600-1477871999@htlc-anderson.org
SUMMARY:Reformation Sunday
DESCRIPTION:Reformation Sunday \nPlease wear red to the service.
URL:https://htlc-anderson.org/event/reformation-sunday/
END:VEVENT
BEGIN:VEVENT
DTSTART;TZID=America/New_York:20161030T084500
DTEND;TZID=America/New_York:20161030T094500
DTSTAMP:20260422T180308
CREATED:20160730T023732Z
LAST-MODIFIED:20220220T162708Z
UID:10000263-1477817100-1477820700@htlc-anderson.org
SUMMARY:8:45 AM Worship Service
DESCRIPTION:8:45 AM Worship Service
URL:https://htlc-anderson.org/event/845-am-worship-service/2016-10-30/
LOCATION:Holy Trinity Lutheran Church\, 206 Broad Street\, Anderson\, SC\, 29621\, United States
GEO:34.516162;-82.651917
X-APPLE-STRUCTURED-LOCATION;VALUE=URI;X-ADDRESS=Holy Trinity Lutheran Church 206 Broad Street Anderson SC 29621 United States;X-APPLE-RADIUS=500;X-TITLE=206 Broad Street:geo:-82.651917,34.516162
END:VEVENT
BEGIN:VEVENT
DTSTART;TZID=America/New_York:20161030T090000
DTEND;TZID=America/New_York:20161030T094500
DTSTAMP:20260422T180308
CREATED:20160730T024806Z
LAST-MODIFIED:20161009T214035Z
UID:10000572-1477818000-1477820700@htlc-anderson.org
SUMMARY:9:00 AM Sunday Church School
DESCRIPTION:5th Sunday/Reformation Sunday \n(Please wear Red) \nCombined Worship Service \nSunday School 9AM \nOne Combined Worship 10 AM \nPotluck Lunch to Follow\n(bring your favorite dish to share)
URL:https://htlc-anderson.org/event/sunday-church-school-2016-10-30/
LOCATION:Holy Trinity Lutheran Church\, 206 Broad Street\, Anderson\, SC\, 29621\, United States
GEO:34.516162;-82.651917
X-APPLE-STRUCTURED-LOCATION;VALUE=URI;X-ADDRESS=Holy Trinity Lutheran Church 206 Broad Street Anderson SC 29621 United States;X-APPLE-RADIUS=500;X-TITLE=206 Broad Street:geo:-82.651917,34.516162
END:VEVENT
BEGIN:VEVENT
DTSTART;TZID=America/New_York:20161030T100000
DTEND;TZID=America/New_York:20161030T110000
DTSTAMP:20260422T180308
CREATED:20160730T023732Z
LAST-MODIFIED:20161009T213833Z
UID:10000451-1477821600-1477825200@htlc-anderson.org
SUMMARY:10 AM Combined Worship Service
DESCRIPTION:5th Sunday/Reformation Sunday \n(Please wear Red) \nCombined Worship Service \nSunday School 9AM \nOne Combined Worship 10 AM \nPotluck Lunch to Follow\n(bring your favorite dish to share)
URL:https://htlc-anderson.org/event/845-am-worship-service-2016-10-30/
LOCATION:Holy Trinity Lutheran Church\, 206 Broad Street\, Anderson\, SC\, 29621\, United States
GEO:34.516162;-82.651917
X-APPLE-STRUCTURED-LOCATION;VALUE=URI;X-ADDRESS=Holy Trinity Lutheran Church 206 Broad Street Anderson SC 29621 United States;X-APPLE-RADIUS=500;X-TITLE=206 Broad Street:geo:-82.651917,34.516162
END:VEVENT
BEGIN:VEVENT
DTSTART;TZID=America/New_York:20161030T111500
DTEND;TZID=America/New_York:20161030T123000
DTSTAMP:20260422T180308
CREATED:20161023T214243Z
LAST-MODIFIED:20161023T214243Z
UID:10001134-1477826100-1477830600@htlc-anderson.org
SUMMARY:11:15 AM Potluck Lunch
DESCRIPTION:Potluck Lunch to follow worship service.\nBring your favorite dish to share
URL:https://htlc-anderson.org/event/1115-am-potluck-lunch/
LOCATION:HTLC Fellowship Hall\, 209 Broad St\, Anderson\, SC\, 29621\, United States
GEO:34.5166123;-82.6520772
X-APPLE-STRUCTURED-LOCATION;VALUE=URI;X-ADDRESS=HTLC Fellowship Hall 209 Broad St Anderson SC 29621 United States;X-APPLE-RADIUS=500;X-TITLE=209 Broad St:geo:-82.6520772,34.5166123
END:VEVENT
BEGIN:VEVENT
DTSTART;TZID=America/New_York:20161030T180000
DTEND;TZID=America/New_York:20161030T190000
DTSTAMP:20260422T180308
CREATED:20160730T021601Z
LAST-MODIFIED:20220911T175008Z
UID:10000213-1477850400-1477854000@htlc-anderson.org
SUMMARY:6PM Family Promise Meeting
DESCRIPTION:Family Promise Meeting
URL:https://htlc-anderson.org/event/family-promise-meeting/2016-10-30/
LOCATION:HTLC Fellowship Hall\, 209 Broad St\, Anderson\, SC\, 29621\, United States
GEO:34.5166123;-82.6520772
X-APPLE-STRUCTURED-LOCATION;VALUE=URI;X-ADDRESS=HTLC Fellowship Hall 209 Broad St Anderson SC 29621 United States;X-APPLE-RADIUS=500;X-TITLE=209 Broad St:geo:-82.6520772,34.5166123
END:VEVENT
BEGIN:VEVENT
DTSTART;TZID=America/New_York:20161101T140000
DTEND;TZID=America/New_York:20161101T153000
DTSTAMP:20260422T180308
CREATED:20160912T014003Z
LAST-MODIFIED:20220221T000847Z
UID:10000776-1478008800-1478014200@htlc-anderson.org
SUMMARY:Good News Club
DESCRIPTION:Good News Club \nConcord Elementary School
URL:https://htlc-anderson.org/event/good-news-club/2016-11-01/
LOCATION:Concord Elementary School\, 2701 Calrossie Rd\, Anderson\, SC\, 29621\, United States
GEO:34.535885;-82.657649
X-APPLE-STRUCTURED-LOCATION;VALUE=URI;X-ADDRESS=Concord Elementary School 2701 Calrossie Rd Anderson SC 29621 United States;X-APPLE-RADIUS=500;X-TITLE=2701 Calrossie Rd:geo:-82.657649,34.535885
END:VEVENT
END:VCALENDAR