BEGIN:VCALENDAR
VERSION:2.0
PRODID:-//HTLC - ECPv6.15.20//NONSGML v1.0//EN
CALSCALE:GREGORIAN
METHOD:PUBLISH
X-WR-CALNAME:HTLC
X-ORIGINAL-URL:https://htlc-anderson.org
X-WR-CALDESC:Events for HTLC
REFRESH-INTERVAL;VALUE=DURATION:PT1H
X-Robots-Tag:noindex
X-PUBLISHED-TTL:PT1H
BEGIN:VTIMEZONE
TZID:America/New_York
BEGIN:DAYLIGHT
TZOFFSETFROM:-0500
TZOFFSETTO:-0400
TZNAME:EDT
DTSTART:20290311T070000
END:DAYLIGHT
BEGIN:STANDARD
TZOFFSETFROM:-0400
TZOFFSETTO:-0500
TZNAME:EST
DTSTART:20291104T060000
END:STANDARD
BEGIN:DAYLIGHT
TZOFFSETFROM:-0500
TZOFFSETTO:-0400
TZNAME:EDT
DTSTART:20300310T070000
END:DAYLIGHT
BEGIN:STANDARD
TZOFFSETFROM:-0400
TZOFFSETTO:-0500
TZNAME:EST
DTSTART:20301103T060000
END:STANDARD
BEGIN:DAYLIGHT
TZOFFSETFROM:-0500
TZOFFSETTO:-0400
TZNAME:EDT
DTSTART:20310309T070000
END:DAYLIGHT
BEGIN:STANDARD
TZOFFSETFROM:-0400
TZOFFSETTO:-0500
TZNAME:EST
DTSTART:20311102T060000
END:STANDARD
END:VTIMEZONE
BEGIN:VEVENT
DTSTART;TZID=America/New_York:20300313T100000
DTEND;TZID=America/New_York:20300313T110000
DTSTAMP:20260425T175520
CREATED:20220912T002858Z
LAST-MODIFIED:20220912T002858Z
UID:10007466-1899626400-1899630000@htlc-anderson.org
SUMMARY:10AM T.O.P.S. meeting
DESCRIPTION:TOPS (Taking off pounds sensibly) \n 
URL:https://htlc-anderson.org/event/10am-t-o-p-s-meeting/2030-03-13/
LOCATION:Pairs and Spares Classroom\, 209 Broad St.\, Anderson\, SC\, 29621\, United States
GEO:34.5166123;-82.6520772
X-APPLE-STRUCTURED-LOCATION;VALUE=URI;X-ADDRESS=Pairs and Spares Classroom 209 Broad St. Anderson SC 29621 United States;X-APPLE-RADIUS=500;X-TITLE=209 Broad St.:geo:-82.6520772,34.5166123
END:VEVENT
BEGIN:VEVENT
DTSTART;TZID=America/New_York:20300313T183000
DTEND;TZID=America/New_York:20300313T200000
DTSTAMP:20260425T175520
CREATED:20241110T034927Z
LAST-MODIFIED:20241110T034945Z
UID:10007413-1899657000-1899662400@htlc-anderson.org
SUMMARY:6:30PM  Late Service Choir Practice
DESCRIPTION:Late Service Choir Practice
URL:https://htlc-anderson.org/event/730pm-late-service-choir-practice-6/2030-03-13/
END:VEVENT
BEGIN:VEVENT
DTSTART;VALUE=DATE:20300315
DTEND;VALUE=DATE:20300316
DTSTAMP:20260425T175520
CREATED:20260326T215157Z
LAST-MODIFIED:20260326T215157Z
UID:10008173-1899763200-1899849599@htlc-anderson.org
SUMMARY:Church Office Closed
DESCRIPTION:Church office closed
URL:https://htlc-anderson.org/event/church-office-closed-6/2030-03-15/
END:VEVENT
BEGIN:VEVENT
DTSTART;TZID=America/New_York:20300317T084500
DTEND;TZID=America/New_York:20300317T094500
DTSTAMP:20260425T175520
CREATED:20221016T221936Z
LAST-MODIFIED:20230929T224310Z
UID:10007054-1899967500-1899971100@htlc-anderson.org
SUMMARY:8:45 AM Worship Service
DESCRIPTION:8:45 AM Worship service
URL:https://htlc-anderson.org/event/845-am-worship-service-2/2030-03-17/
LOCATION:Holy Trinity Lutheran Church\, 206 Broad Street\, Anderson\, SC\, 29621\, United States
GEO:34.516162;-82.651917
X-APPLE-STRUCTURED-LOCATION;VALUE=URI;X-ADDRESS=Holy Trinity Lutheran Church 206 Broad Street Anderson SC 29621 United States;X-APPLE-RADIUS=500;X-TITLE=206 Broad Street:geo:-82.651917,34.516162
END:VEVENT
BEGIN:VEVENT
DTSTART;TZID=America/New_York:20300317T100000
DTEND;TZID=America/New_York:20300317T104500
DTSTAMP:20260425T175520
CREATED:20240913T144907Z
LAST-MODIFIED:20240913T144938Z
UID:10007090-1899972000-1899974700@htlc-anderson.org
SUMMARY:10AM Children Youth and Adult Sunday School Class
DESCRIPTION:Children Youth and Adult Sunday School Class
URL:https://htlc-anderson.org/event/10am-youth-sunday-school-class-2/2030-03-17/
LOCATION:HTLC Youth Classroom
END:VEVENT
BEGIN:VEVENT
DTSTART;TZID=America/New_York:20300317T100000
DTEND;TZID=America/New_York:20300317T105000
DTSTAMP:20260425T175520
CREATED:20221016T222050Z
LAST-MODIFIED:20230929T224516Z
UID:10007066-1899972000-1899975000@htlc-anderson.org
SUMMARY:10 AM Martin Luther Sunday School
DESCRIPTION:10 AM Martin Luther Sunday School
URL:https://htlc-anderson.org/event/10-am-martin-luther-sunday-school/2030-03-17/
LOCATION:HTLC Fellowship Hall\, 209 Broad St\, Anderson\, SC\, 29621\, United States
GEO:34.5166123;-82.6520772
X-APPLE-STRUCTURED-LOCATION;VALUE=URI;X-ADDRESS=HTLC Fellowship Hall 209 Broad St Anderson SC 29621 United States;X-APPLE-RADIUS=500;X-TITLE=209 Broad St:geo:-82.6520772,34.5166123
END:VEVENT
BEGIN:VEVENT
DTSTART;TZID=America/New_York:20300317T100000
DTEND;TZID=America/New_York:20300317T110000
DTSTAMP:20260425T175520
CREATED:20260115T233304Z
LAST-MODIFIED:20260115T233304Z
UID:10007781-1899972000-1899975600@htlc-anderson.org
SUMMARY:10 AM Whole Story Adult Sunday School Class
DESCRIPTION:The Whole Story Adult Sunday School Class\nAll adults are invited to attend at 10:00 AM Sunday in\nthe Pairs and Spares Room.
URL:https://htlc-anderson.org/event/10-am-whole-story-adult-sunday-school-class/2030-03-17/
LOCATION:Pairs and Spares Classroom\, 209 Broad St.\, Anderson\, SC\, 29621\, United States
GEO:34.5166123;-82.6520772
X-APPLE-STRUCTURED-LOCATION;VALUE=URI;X-ADDRESS=Pairs and Spares Classroom 209 Broad St. Anderson SC 29621 United States;X-APPLE-RADIUS=500;X-TITLE=209 Broad St.:geo:-82.6520772,34.5166123
END:VEVENT
BEGIN:VEVENT
DTSTART;TZID=America/New_York:20300317T100000
DTEND;TZID=America/New_York:20300317T224500
DTSTAMP:20260425T175520
CREATED:20220912T001255Z
LAST-MODIFIED:20230929T224620Z
UID:10007078-1899972000-1900017900@htlc-anderson.org
SUMMARY:10 AM Early Choir Rehearsal
DESCRIPTION:8:45 AM Service Choir Rehearsal
URL:https://htlc-anderson.org/event/10-am-early-choir-rehearsal/2030-03-17/
LOCATION:HTLC Choir Room
END:VEVENT
BEGIN:VEVENT
DTSTART;TZID=America/New_York:20300317T110000
DTEND;TZID=America/New_York:20300317T120000
DTSTAMP:20260425T175520
CREATED:20230929T224148Z
LAST-MODIFIED:20230929T224149Z
UID:10007102-1899975600-1899979200@htlc-anderson.org
SUMMARY:11AM Worship Service
DESCRIPTION:11AM Worship service \n 
URL:https://htlc-anderson.org/event/11am-worship-service-7-2/2030-03-17/
LOCATION:Holy Trinity Lutheran Church\, 206 Broad Street\, Anderson\, SC\, 29621\, United States
GEO:34.516162;-82.651917
X-APPLE-STRUCTURED-LOCATION;VALUE=URI;X-ADDRESS=Holy Trinity Lutheran Church 206 Broad Street Anderson SC 29621 United States;X-APPLE-RADIUS=500;X-TITLE=206 Broad Street:geo:-82.651917,34.516162
END:VEVENT
BEGIN:VEVENT
DTSTART;TZID=America/New_York:20300319T183000
DTEND;TZID=America/New_York:20300319T193000
DTSTAMP:20260425T175520
CREATED:20160912T020946Z
LAST-MODIFIED:20190124T032056Z
UID:10007033-1900175400-1900179000@htlc-anderson.org
SUMMARY:WELCA - Katie's Ladies
DESCRIPTION:Meet in the Office Conference Room on the 3rd Tuesday of each month
URL:https://htlc-anderson.org/event/welca-katies-ladies-2016-10-11/2030-03-19/
LOCATION:Office Conference Room\, 209 Broad St.\, Anderson\, SC\, 29621\, United States
GEO:34.5166123;-82.6520772
X-APPLE-STRUCTURED-LOCATION;VALUE=URI;X-ADDRESS=Office Conference Room 209 Broad St. Anderson SC 29621 United States;X-APPLE-RADIUS=500;X-TITLE=209 Broad St.:geo:-82.6520772,34.5166123
END:VEVENT
BEGIN:VEVENT
DTSTART;TZID=America/New_York:20300320T100000
DTEND;TZID=America/New_York:20300320T110000
DTSTAMP:20260425T175520
CREATED:20220912T002858Z
LAST-MODIFIED:20220912T002858Z
UID:10007467-1900231200-1900234800@htlc-anderson.org
SUMMARY:10AM T.O.P.S. meeting
DESCRIPTION:TOPS (Taking off pounds sensibly) \n 
URL:https://htlc-anderson.org/event/10am-t-o-p-s-meeting/2030-03-20/
LOCATION:Pairs and Spares Classroom\, 209 Broad St.\, Anderson\, SC\, 29621\, United States
GEO:34.5166123;-82.6520772
X-APPLE-STRUCTURED-LOCATION;VALUE=URI;X-ADDRESS=Pairs and Spares Classroom 209 Broad St. Anderson SC 29621 United States;X-APPLE-RADIUS=500;X-TITLE=209 Broad St.:geo:-82.6520772,34.5166123
END:VEVENT
BEGIN:VEVENT
DTSTART;TZID=America/New_York:20300320T183000
DTEND;TZID=America/New_York:20300320T200000
DTSTAMP:20260425T175520
CREATED:20241110T034927Z
LAST-MODIFIED:20241110T034945Z
UID:10007414-1900261800-1900267200@htlc-anderson.org
SUMMARY:6:30PM  Late Service Choir Practice
DESCRIPTION:Late Service Choir Practice
URL:https://htlc-anderson.org/event/730pm-late-service-choir-practice-6/2030-03-20/
END:VEVENT
BEGIN:VEVENT
DTSTART;TZID=America/New_York:20300321T180000
DTEND;TZID=America/New_York:20300321T190000
DTSTAMP:20260425T175520
CREATED:20250327T004021Z
LAST-MODIFIED:20250327T004021Z
UID:10007021-1900346400-1900350000@htlc-anderson.org
SUMMARY:6PM Luther's Ladies
DESCRIPTION:Luther’s Ladies meeting
URL:https://htlc-anderson.org/event/6pm-luthers-ladies-2/2030-03-21/
LOCATION:HTLC Fellowship Hall\, 209 Broad St\, Anderson\, SC\, 29621\, United States
GEO:34.5166123;-82.6520772
X-APPLE-STRUCTURED-LOCATION;VALUE=URI;X-ADDRESS=HTLC Fellowship Hall 209 Broad St Anderson SC 29621 United States;X-APPLE-RADIUS=500;X-TITLE=209 Broad St:geo:-82.6520772,34.5166123
END:VEVENT
BEGIN:VEVENT
DTSTART;TZID=America/New_York:20300321T180000
DTEND;TZID=America/New_York:20300321T193000
DTSTAMP:20260425T175520
CREATED:20160912T021148Z
LAST-MODIFIED:20230218T031643Z
UID:10007122-1900346400-1900351800@htlc-anderson.org
SUMMARY:WELCA - Luther's Ladies
DESCRIPTION:Meet on the 3rd Thursday of each month in the Office Conference Room
URL:https://htlc-anderson.org/event/welca-luthers-ladies-2016-10-20/2030-03-21/
LOCATION:Office Conference Room\, 209 Broad St.\, Anderson\, SC\, 29621\, United States
GEO:34.5166123;-82.6520772
X-APPLE-STRUCTURED-LOCATION;VALUE=URI;X-ADDRESS=Office Conference Room 209 Broad St. Anderson SC 29621 United States;X-APPLE-RADIUS=500;X-TITLE=209 Broad St.:geo:-82.6520772,34.5166123
END:VEVENT
BEGIN:VEVENT
DTSTART;VALUE=DATE:20300322
DTEND;VALUE=DATE:20300323
DTSTAMP:20260425T175520
CREATED:20260326T215157Z
LAST-MODIFIED:20260326T215157Z
UID:10008174-1900368000-1900454399@htlc-anderson.org
SUMMARY:Church Office Closed
DESCRIPTION:Church office closed
URL:https://htlc-anderson.org/event/church-office-closed-6/2030-03-22/
END:VEVENT
BEGIN:VEVENT
DTSTART;TZID=America/New_York:20300323T100000
DTEND;TZID=America/New_York:20300323T120000
DTSTAMP:20260425T175520
CREATED:20250302T221533Z
LAST-MODIFIED:20250303T155056Z
UID:10007540-1900490400-1900497600@htlc-anderson.org
SUMMARY:Quilters Group
DESCRIPTION:Quilters group
URL:https://htlc-anderson.org/event/quilters-group/2030-03-23/
LOCATION:HTLC Fellowship Hall\, 209 Broad St\, Anderson\, SC\, 29621\, United States
GEO:34.5166123;-82.6520772
X-APPLE-STRUCTURED-LOCATION;VALUE=URI;X-ADDRESS=HTLC Fellowship Hall 209 Broad St Anderson SC 29621 United States;X-APPLE-RADIUS=500;X-TITLE=209 Broad St:geo:-82.6520772,34.5166123
END:VEVENT
BEGIN:VEVENT
DTSTART;TZID=America/New_York:20300324T084500
DTEND;TZID=America/New_York:20300324T094500
DTSTAMP:20260425T175520
CREATED:20221016T221936Z
LAST-MODIFIED:20230929T224310Z
UID:10007055-1900572300-1900575900@htlc-anderson.org
SUMMARY:8:45 AM Worship Service
DESCRIPTION:8:45 AM Worship service
URL:https://htlc-anderson.org/event/845-am-worship-service-2/2030-03-24/
LOCATION:Holy Trinity Lutheran Church\, 206 Broad Street\, Anderson\, SC\, 29621\, United States
GEO:34.516162;-82.651917
X-APPLE-STRUCTURED-LOCATION;VALUE=URI;X-ADDRESS=Holy Trinity Lutheran Church 206 Broad Street Anderson SC 29621 United States;X-APPLE-RADIUS=500;X-TITLE=206 Broad Street:geo:-82.651917,34.516162
END:VEVENT
BEGIN:VEVENT
DTSTART;TZID=America/New_York:20300324T100000
DTEND;TZID=America/New_York:20300324T104500
DTSTAMP:20260425T175520
CREATED:20240913T144907Z
LAST-MODIFIED:20240913T144938Z
UID:10007091-1900576800-1900579500@htlc-anderson.org
SUMMARY:10AM Children Youth and Adult Sunday School Class
DESCRIPTION:Children Youth and Adult Sunday School Class
URL:https://htlc-anderson.org/event/10am-youth-sunday-school-class-2/2030-03-24/
LOCATION:HTLC Youth Classroom
END:VEVENT
BEGIN:VEVENT
DTSTART;TZID=America/New_York:20300324T100000
DTEND;TZID=America/New_York:20300324T105000
DTSTAMP:20260425T175520
CREATED:20221016T222050Z
LAST-MODIFIED:20230929T224516Z
UID:10007067-1900576800-1900579800@htlc-anderson.org
SUMMARY:10 AM Martin Luther Sunday School
DESCRIPTION:10 AM Martin Luther Sunday School
URL:https://htlc-anderson.org/event/10-am-martin-luther-sunday-school/2030-03-24/
LOCATION:HTLC Fellowship Hall\, 209 Broad St\, Anderson\, SC\, 29621\, United States
GEO:34.5166123;-82.6520772
X-APPLE-STRUCTURED-LOCATION;VALUE=URI;X-ADDRESS=HTLC Fellowship Hall 209 Broad St Anderson SC 29621 United States;X-APPLE-RADIUS=500;X-TITLE=209 Broad St:geo:-82.6520772,34.5166123
END:VEVENT
BEGIN:VEVENT
DTSTART;TZID=America/New_York:20300324T100000
DTEND;TZID=America/New_York:20300324T110000
DTSTAMP:20260425T175520
CREATED:20260115T233304Z
LAST-MODIFIED:20260115T233304Z
UID:10007782-1900576800-1900580400@htlc-anderson.org
SUMMARY:10 AM Whole Story Adult Sunday School Class
DESCRIPTION:The Whole Story Adult Sunday School Class\nAll adults are invited to attend at 10:00 AM Sunday in\nthe Pairs and Spares Room.
URL:https://htlc-anderson.org/event/10-am-whole-story-adult-sunday-school-class/2030-03-24/
LOCATION:Pairs and Spares Classroom\, 209 Broad St.\, Anderson\, SC\, 29621\, United States
GEO:34.5166123;-82.6520772
X-APPLE-STRUCTURED-LOCATION;VALUE=URI;X-ADDRESS=Pairs and Spares Classroom 209 Broad St. Anderson SC 29621 United States;X-APPLE-RADIUS=500;X-TITLE=209 Broad St.:geo:-82.6520772,34.5166123
END:VEVENT
BEGIN:VEVENT
DTSTART;TZID=America/New_York:20300324T100000
DTEND;TZID=America/New_York:20300324T224500
DTSTAMP:20260425T175520
CREATED:20220912T001255Z
LAST-MODIFIED:20230929T224620Z
UID:10007079-1900576800-1900622700@htlc-anderson.org
SUMMARY:10 AM Early Choir Rehearsal
DESCRIPTION:8:45 AM Service Choir Rehearsal
URL:https://htlc-anderson.org/event/10-am-early-choir-rehearsal/2030-03-24/
LOCATION:HTLC Choir Room
END:VEVENT
BEGIN:VEVENT
DTSTART;TZID=America/New_York:20300324T110000
DTEND;TZID=America/New_York:20300324T120000
DTSTAMP:20260425T175520
CREATED:20230929T224148Z
LAST-MODIFIED:20230929T224149Z
UID:10007103-1900580400-1900584000@htlc-anderson.org
SUMMARY:11AM Worship Service
DESCRIPTION:11AM Worship service \n 
URL:https://htlc-anderson.org/event/11am-worship-service-7-2/2030-03-24/
LOCATION:Holy Trinity Lutheran Church\, 206 Broad Street\, Anderson\, SC\, 29621\, United States
GEO:34.516162;-82.651917
X-APPLE-STRUCTURED-LOCATION;VALUE=URI;X-ADDRESS=Holy Trinity Lutheran Church 206 Broad Street Anderson SC 29621 United States;X-APPLE-RADIUS=500;X-TITLE=206 Broad Street:geo:-82.651917,34.516162
END:VEVENT
BEGIN:VEVENT
DTSTART;TZID=America/New_York:20300325T180000
DTEND;TZID=America/New_York:20300325T190000
DTSTAMP:20260425T175520
CREATED:20230421T160009Z
LAST-MODIFIED:20230421T160009Z
UID:10007039-1900692000-1900695600@htlc-anderson.org
SUMMARY:6PM Lutheran Men in Mission Meeting
DESCRIPTION:
URL:https://htlc-anderson.org/event/630pm-lutheran-men-in-mission-meeting-2-2/2030-03-25/
LOCATION:HTLC Fellowship Hall\, 209 Broad St\, Anderson\, SC\, 29621\, United States
GEO:34.5166123;-82.6520772
X-APPLE-STRUCTURED-LOCATION;VALUE=URI;X-ADDRESS=HTLC Fellowship Hall 209 Broad St Anderson SC 29621 United States;X-APPLE-RADIUS=500;X-TITLE=209 Broad St:geo:-82.6520772,34.5166123
END:VEVENT
BEGIN:VEVENT
DTSTART;TZID=America/New_York:20300327T100000
DTEND;TZID=America/New_York:20300327T110000
DTSTAMP:20260425T175520
CREATED:20220912T002858Z
LAST-MODIFIED:20220912T002858Z
UID:10007468-1900836000-1900839600@htlc-anderson.org
SUMMARY:10AM T.O.P.S. meeting
DESCRIPTION:TOPS (Taking off pounds sensibly) \n 
URL:https://htlc-anderson.org/event/10am-t-o-p-s-meeting/2030-03-27/
LOCATION:Pairs and Spares Classroom\, 209 Broad St.\, Anderson\, SC\, 29621\, United States
GEO:34.5166123;-82.6520772
X-APPLE-STRUCTURED-LOCATION;VALUE=URI;X-ADDRESS=Pairs and Spares Classroom 209 Broad St. Anderson SC 29621 United States;X-APPLE-RADIUS=500;X-TITLE=209 Broad St.:geo:-82.6520772,34.5166123
END:VEVENT
BEGIN:VEVENT
DTSTART;TZID=America/New_York:20300327T183000
DTEND;TZID=America/New_York:20300327T200000
DTSTAMP:20260425T175520
CREATED:20241110T034927Z
LAST-MODIFIED:20241110T034945Z
UID:10007415-1900866600-1900872000@htlc-anderson.org
SUMMARY:6:30PM  Late Service Choir Practice
DESCRIPTION:Late Service Choir Practice
URL:https://htlc-anderson.org/event/730pm-late-service-choir-practice-6/2030-03-27/
END:VEVENT
BEGIN:VEVENT
DTSTART;VALUE=DATE:20300329
DTEND;VALUE=DATE:20300330
DTSTAMP:20260425T175520
CREATED:20260326T215157Z
LAST-MODIFIED:20260326T215157Z
UID:10008175-1900972800-1901059199@htlc-anderson.org
SUMMARY:Church Office Closed
DESCRIPTION:Church office closed
URL:https://htlc-anderson.org/event/church-office-closed-6/2030-03-29/
END:VEVENT
BEGIN:VEVENT
DTSTART;TZID=America/New_York:20300331T084500
DTEND;TZID=America/New_York:20300331T094500
DTSTAMP:20260425T175520
CREATED:20221016T221936Z
LAST-MODIFIED:20230929T224310Z
UID:10007056-1901177100-1901180700@htlc-anderson.org
SUMMARY:8:45 AM Worship Service
DESCRIPTION:8:45 AM Worship service
URL:https://htlc-anderson.org/event/845-am-worship-service-2/2030-03-31/
LOCATION:Holy Trinity Lutheran Church\, 206 Broad Street\, Anderson\, SC\, 29621\, United States
GEO:34.516162;-82.651917
X-APPLE-STRUCTURED-LOCATION;VALUE=URI;X-ADDRESS=Holy Trinity Lutheran Church 206 Broad Street Anderson SC 29621 United States;X-APPLE-RADIUS=500;X-TITLE=206 Broad Street:geo:-82.651917,34.516162
END:VEVENT
BEGIN:VEVENT
DTSTART;TZID=America/New_York:20300331T100000
DTEND;TZID=America/New_York:20300331T104500
DTSTAMP:20260425T175520
CREATED:20240913T144907Z
LAST-MODIFIED:20240913T144938Z
UID:10007092-1901181600-1901184300@htlc-anderson.org
SUMMARY:10AM Children Youth and Adult Sunday School Class
DESCRIPTION:Children Youth and Adult Sunday School Class
URL:https://htlc-anderson.org/event/10am-youth-sunday-school-class-2/2030-03-31/
LOCATION:HTLC Youth Classroom
END:VEVENT
BEGIN:VEVENT
DTSTART;TZID=America/New_York:20300331T100000
DTEND;TZID=America/New_York:20300331T105000
DTSTAMP:20260425T175520
CREATED:20221016T222050Z
LAST-MODIFIED:20230929T224516Z
UID:10007068-1901181600-1901184600@htlc-anderson.org
SUMMARY:10 AM Martin Luther Sunday School
DESCRIPTION:10 AM Martin Luther Sunday School
URL:https://htlc-anderson.org/event/10-am-martin-luther-sunday-school/2030-03-31/
LOCATION:HTLC Fellowship Hall\, 209 Broad St\, Anderson\, SC\, 29621\, United States
GEO:34.5166123;-82.6520772
X-APPLE-STRUCTURED-LOCATION;VALUE=URI;X-ADDRESS=HTLC Fellowship Hall 209 Broad St Anderson SC 29621 United States;X-APPLE-RADIUS=500;X-TITLE=209 Broad St:geo:-82.6520772,34.5166123
END:VEVENT
BEGIN:VEVENT
DTSTART;TZID=America/New_York:20300331T100000
DTEND;TZID=America/New_York:20300331T110000
DTSTAMP:20260425T175520
CREATED:20260115T233304Z
LAST-MODIFIED:20260115T233304Z
UID:10007783-1901181600-1901185200@htlc-anderson.org
SUMMARY:10 AM Whole Story Adult Sunday School Class
DESCRIPTION:The Whole Story Adult Sunday School Class\nAll adults are invited to attend at 10:00 AM Sunday in\nthe Pairs and Spares Room.
URL:https://htlc-anderson.org/event/10-am-whole-story-adult-sunday-school-class/2030-03-31/
LOCATION:Pairs and Spares Classroom\, 209 Broad St.\, Anderson\, SC\, 29621\, United States
GEO:34.5166123;-82.6520772
X-APPLE-STRUCTURED-LOCATION;VALUE=URI;X-ADDRESS=Pairs and Spares Classroom 209 Broad St. Anderson SC 29621 United States;X-APPLE-RADIUS=500;X-TITLE=209 Broad St.:geo:-82.6520772,34.5166123
END:VEVENT
END:VCALENDAR