BEGIN:VCALENDAR
VERSION:2.0
PRODID:-//HTLC - ECPv6.15.20//NONSGML v1.0//EN
CALSCALE:GREGORIAN
METHOD:PUBLISH
X-WR-CALNAME:HTLC
X-ORIGINAL-URL:https://htlc-anderson.org
X-WR-CALDESC:Events for HTLC
REFRESH-INTERVAL;VALUE=DURATION:PT1H
X-Robots-Tag:noindex
X-PUBLISHED-TTL:PT1H
BEGIN:VTIMEZONE
TZID:America/New_York
BEGIN:DAYLIGHT
TZOFFSETFROM:-0500
TZOFFSETTO:-0400
TZNAME:EDT
DTSTART:20290311T070000
END:DAYLIGHT
BEGIN:STANDARD
TZOFFSETFROM:-0400
TZOFFSETTO:-0500
TZNAME:EST
DTSTART:20291104T060000
END:STANDARD
BEGIN:DAYLIGHT
TZOFFSETFROM:-0500
TZOFFSETTO:-0400
TZNAME:EDT
DTSTART:20300310T070000
END:DAYLIGHT
BEGIN:STANDARD
TZOFFSETFROM:-0400
TZOFFSETTO:-0500
TZNAME:EST
DTSTART:20301103T060000
END:STANDARD
BEGIN:DAYLIGHT
TZOFFSETFROM:-0500
TZOFFSETTO:-0400
TZNAME:EDT
DTSTART:20310309T070000
END:DAYLIGHT
BEGIN:STANDARD
TZOFFSETFROM:-0400
TZOFFSETTO:-0500
TZNAME:EST
DTSTART:20311102T060000
END:STANDARD
END:VTIMEZONE
BEGIN:VEVENT
DTSTART;TZID=America/New_York:20300327T183000
DTEND;TZID=America/New_York:20300327T200000
DTSTAMP:20260425T175544
CREATED:20241110T034927Z
LAST-MODIFIED:20241110T034945Z
UID:10007415-1900866600-1900872000@htlc-anderson.org
SUMMARY:6:30PM  Late Service Choir Practice
DESCRIPTION:Late Service Choir Practice
URL:https://htlc-anderson.org/event/730pm-late-service-choir-practice-6/2030-03-27/
END:VEVENT
BEGIN:VEVENT
DTSTART;VALUE=DATE:20300329
DTEND;VALUE=DATE:20300330
DTSTAMP:20260425T175544
CREATED:20260326T215157Z
LAST-MODIFIED:20260326T215157Z
UID:10008175-1900972800-1901059199@htlc-anderson.org
SUMMARY:Church Office Closed
DESCRIPTION:Church office closed
URL:https://htlc-anderson.org/event/church-office-closed-6/2030-03-29/
END:VEVENT
BEGIN:VEVENT
DTSTART;TZID=America/New_York:20300331T084500
DTEND;TZID=America/New_York:20300331T094500
DTSTAMP:20260425T175544
CREATED:20221016T221936Z
LAST-MODIFIED:20230929T224310Z
UID:10007056-1901177100-1901180700@htlc-anderson.org
SUMMARY:8:45 AM Worship Service
DESCRIPTION:8:45 AM Worship service
URL:https://htlc-anderson.org/event/845-am-worship-service-2/2030-03-31/
LOCATION:Holy Trinity Lutheran Church\, 206 Broad Street\, Anderson\, SC\, 29621\, United States
GEO:34.516162;-82.651917
X-APPLE-STRUCTURED-LOCATION;VALUE=URI;X-ADDRESS=Holy Trinity Lutheran Church 206 Broad Street Anderson SC 29621 United States;X-APPLE-RADIUS=500;X-TITLE=206 Broad Street:geo:-82.651917,34.516162
END:VEVENT
BEGIN:VEVENT
DTSTART;TZID=America/New_York:20300331T100000
DTEND;TZID=America/New_York:20300331T104500
DTSTAMP:20260425T175544
CREATED:20240913T144907Z
LAST-MODIFIED:20240913T144938Z
UID:10007092-1901181600-1901184300@htlc-anderson.org
SUMMARY:10AM Children Youth and Adult Sunday School Class
DESCRIPTION:Children Youth and Adult Sunday School Class
URL:https://htlc-anderson.org/event/10am-youth-sunday-school-class-2/2030-03-31/
LOCATION:HTLC Youth Classroom
END:VEVENT
BEGIN:VEVENT
DTSTART;TZID=America/New_York:20300331T100000
DTEND;TZID=America/New_York:20300331T105000
DTSTAMP:20260425T175544
CREATED:20221016T222050Z
LAST-MODIFIED:20230929T224516Z
UID:10007068-1901181600-1901184600@htlc-anderson.org
SUMMARY:10 AM Martin Luther Sunday School
DESCRIPTION:10 AM Martin Luther Sunday School
URL:https://htlc-anderson.org/event/10-am-martin-luther-sunday-school/2030-03-31/
LOCATION:HTLC Fellowship Hall\, 209 Broad St\, Anderson\, SC\, 29621\, United States
GEO:34.5166123;-82.6520772
X-APPLE-STRUCTURED-LOCATION;VALUE=URI;X-ADDRESS=HTLC Fellowship Hall 209 Broad St Anderson SC 29621 United States;X-APPLE-RADIUS=500;X-TITLE=209 Broad St:geo:-82.6520772,34.5166123
END:VEVENT
BEGIN:VEVENT
DTSTART;TZID=America/New_York:20300331T100000
DTEND;TZID=America/New_York:20300331T110000
DTSTAMP:20260425T175544
CREATED:20260115T233304Z
LAST-MODIFIED:20260115T233304Z
UID:10007783-1901181600-1901185200@htlc-anderson.org
SUMMARY:10 AM Whole Story Adult Sunday School Class
DESCRIPTION:The Whole Story Adult Sunday School Class\nAll adults are invited to attend at 10:00 AM Sunday in\nthe Pairs and Spares Room.
URL:https://htlc-anderson.org/event/10-am-whole-story-adult-sunday-school-class/2030-03-31/
LOCATION:Pairs and Spares Classroom\, 209 Broad St.\, Anderson\, SC\, 29621\, United States
GEO:34.5166123;-82.6520772
X-APPLE-STRUCTURED-LOCATION;VALUE=URI;X-ADDRESS=Pairs and Spares Classroom 209 Broad St. Anderson SC 29621 United States;X-APPLE-RADIUS=500;X-TITLE=209 Broad St.:geo:-82.6520772,34.5166123
END:VEVENT
BEGIN:VEVENT
DTSTART;TZID=America/New_York:20300331T100000
DTEND;TZID=America/New_York:20300331T224500
DTSTAMP:20260425T175544
CREATED:20220912T001255Z
LAST-MODIFIED:20230929T224620Z
UID:10007080-1901181600-1901227500@htlc-anderson.org
SUMMARY:10 AM Early Choir Rehearsal
DESCRIPTION:8:45 AM Service Choir Rehearsal
URL:https://htlc-anderson.org/event/10-am-early-choir-rehearsal/2030-03-31/
LOCATION:HTLC Choir Room
END:VEVENT
BEGIN:VEVENT
DTSTART;TZID=America/New_York:20300331T110000
DTEND;TZID=America/New_York:20300331T120000
DTSTAMP:20260425T175544
CREATED:20230929T224148Z
LAST-MODIFIED:20230929T224149Z
UID:10007104-1901185200-1901188800@htlc-anderson.org
SUMMARY:11AM Worship Service
DESCRIPTION:11AM Worship service \n 
URL:https://htlc-anderson.org/event/11am-worship-service-7-2/2030-03-31/
LOCATION:Holy Trinity Lutheran Church\, 206 Broad Street\, Anderson\, SC\, 29621\, United States
GEO:34.516162;-82.651917
X-APPLE-STRUCTURED-LOCATION;VALUE=URI;X-ADDRESS=Holy Trinity Lutheran Church 206 Broad Street Anderson SC 29621 United States;X-APPLE-RADIUS=500;X-TITLE=206 Broad Street:geo:-82.651917,34.516162
END:VEVENT
BEGIN:VEVENT
DTSTART;TZID=America/New_York:20300403T100000
DTEND;TZID=America/New_York:20300403T110000
DTSTAMP:20260425T175544
CREATED:20220912T002858Z
LAST-MODIFIED:20220912T002858Z
UID:10007469-1901440800-1901444400@htlc-anderson.org
SUMMARY:10AM T.O.P.S. meeting
DESCRIPTION:TOPS (Taking off pounds sensibly) \n 
URL:https://htlc-anderson.org/event/10am-t-o-p-s-meeting/2030-04-03/
LOCATION:Pairs and Spares Classroom\, 209 Broad St.\, Anderson\, SC\, 29621\, United States
GEO:34.5166123;-82.6520772
X-APPLE-STRUCTURED-LOCATION;VALUE=URI;X-ADDRESS=Pairs and Spares Classroom 209 Broad St. Anderson SC 29621 United States;X-APPLE-RADIUS=500;X-TITLE=209 Broad St.:geo:-82.6520772,34.5166123
END:VEVENT
BEGIN:VEVENT
DTSTART;TZID=America/New_York:20300403T183000
DTEND;TZID=America/New_York:20300403T200000
DTSTAMP:20260425T175544
CREATED:20241110T034927Z
LAST-MODIFIED:20241110T034945Z
UID:10007416-1901471400-1901476800@htlc-anderson.org
SUMMARY:6:30PM  Late Service Choir Practice
DESCRIPTION:Late Service Choir Practice
URL:https://htlc-anderson.org/event/730pm-late-service-choir-practice-6/2030-04-03/
END:VEVENT
BEGIN:VEVENT
DTSTART;TZID=America/New_York:20300404T180000
DTEND;TZID=America/New_York:20300404T200000
DTSTAMP:20260425T175544
CREATED:20250303T222123Z
LAST-MODIFIED:20250303T222123Z
UID:10007044-1901556000-1901563200@htlc-anderson.org
SUMMARY:Dining Divas
DESCRIPTION:Dining Divas
URL:https://htlc-anderson.org/event/dining-divas-2/2030-04-04/
END:VEVENT
BEGIN:VEVENT
DTSTART;VALUE=DATE:20300405
DTEND;VALUE=DATE:20300406
DTSTAMP:20260425T175544
CREATED:20260326T215157Z
LAST-MODIFIED:20260326T215157Z
UID:10008176-1901577600-1901663999@htlc-anderson.org
SUMMARY:Church Office Closed
DESCRIPTION:Church office closed
URL:https://htlc-anderson.org/event/church-office-closed-6/2030-04-05/
END:VEVENT
BEGIN:VEVENT
DTSTART;TZID=America/New_York:20300407T084500
DTEND;TZID=America/New_York:20300407T094500
DTSTAMP:20260425T175544
CREATED:20221016T221936Z
LAST-MODIFIED:20230929T224310Z
UID:10007057-1901781900-1901785500@htlc-anderson.org
SUMMARY:8:45 AM Worship Service
DESCRIPTION:8:45 AM Worship service
URL:https://htlc-anderson.org/event/845-am-worship-service-2/2030-04-07/
LOCATION:Holy Trinity Lutheran Church\, 206 Broad Street\, Anderson\, SC\, 29621\, United States
GEO:34.516162;-82.651917
X-APPLE-STRUCTURED-LOCATION;VALUE=URI;X-ADDRESS=Holy Trinity Lutheran Church 206 Broad Street Anderson SC 29621 United States;X-APPLE-RADIUS=500;X-TITLE=206 Broad Street:geo:-82.651917,34.516162
END:VEVENT
BEGIN:VEVENT
DTSTART;TZID=America/New_York:20300407T100000
DTEND;TZID=America/New_York:20300407T104500
DTSTAMP:20260425T175544
CREATED:20240913T144907Z
LAST-MODIFIED:20240913T144938Z
UID:10007093-1901786400-1901789100@htlc-anderson.org
SUMMARY:10AM Children Youth and Adult Sunday School Class
DESCRIPTION:Children Youth and Adult Sunday School Class
URL:https://htlc-anderson.org/event/10am-youth-sunday-school-class-2/2030-04-07/
LOCATION:HTLC Youth Classroom
END:VEVENT
BEGIN:VEVENT
DTSTART;TZID=America/New_York:20300407T100000
DTEND;TZID=America/New_York:20300407T105000
DTSTAMP:20260425T175544
CREATED:20221016T222050Z
LAST-MODIFIED:20230929T224516Z
UID:10007069-1901786400-1901789400@htlc-anderson.org
SUMMARY:10 AM Martin Luther Sunday School
DESCRIPTION:10 AM Martin Luther Sunday School
URL:https://htlc-anderson.org/event/10-am-martin-luther-sunday-school/2030-04-07/
LOCATION:HTLC Fellowship Hall\, 209 Broad St\, Anderson\, SC\, 29621\, United States
GEO:34.5166123;-82.6520772
X-APPLE-STRUCTURED-LOCATION;VALUE=URI;X-ADDRESS=HTLC Fellowship Hall 209 Broad St Anderson SC 29621 United States;X-APPLE-RADIUS=500;X-TITLE=209 Broad St:geo:-82.6520772,34.5166123
END:VEVENT
BEGIN:VEVENT
DTSTART;TZID=America/New_York:20300407T100000
DTEND;TZID=America/New_York:20300407T110000
DTSTAMP:20260425T175544
CREATED:20260115T233304Z
LAST-MODIFIED:20260115T233304Z
UID:10007784-1901786400-1901790000@htlc-anderson.org
SUMMARY:10 AM Whole Story Adult Sunday School Class
DESCRIPTION:The Whole Story Adult Sunday School Class\nAll adults are invited to attend at 10:00 AM Sunday in\nthe Pairs and Spares Room.
URL:https://htlc-anderson.org/event/10-am-whole-story-adult-sunday-school-class/2030-04-07/
LOCATION:Pairs and Spares Classroom\, 209 Broad St.\, Anderson\, SC\, 29621\, United States
GEO:34.5166123;-82.6520772
X-APPLE-STRUCTURED-LOCATION;VALUE=URI;X-ADDRESS=Pairs and Spares Classroom 209 Broad St. Anderson SC 29621 United States;X-APPLE-RADIUS=500;X-TITLE=209 Broad St.:geo:-82.6520772,34.5166123
END:VEVENT
BEGIN:VEVENT
DTSTART;TZID=America/New_York:20300407T100000
DTEND;TZID=America/New_York:20300407T224500
DTSTAMP:20260425T175544
CREATED:20220912T001255Z
LAST-MODIFIED:20230929T224620Z
UID:10007081-1901786400-1901832300@htlc-anderson.org
SUMMARY:10 AM Early Choir Rehearsal
DESCRIPTION:8:45 AM Service Choir Rehearsal
URL:https://htlc-anderson.org/event/10-am-early-choir-rehearsal/2030-04-07/
LOCATION:HTLC Choir Room
END:VEVENT
BEGIN:VEVENT
DTSTART;TZID=America/New_York:20300407T110000
DTEND;TZID=America/New_York:20300407T120000
DTSTAMP:20260425T175544
CREATED:20230929T224148Z
LAST-MODIFIED:20230929T224149Z
UID:10007105-1901790000-1901793600@htlc-anderson.org
SUMMARY:11AM Worship Service
DESCRIPTION:11AM Worship service \n 
URL:https://htlc-anderson.org/event/11am-worship-service-7-2/2030-04-07/
LOCATION:Holy Trinity Lutheran Church\, 206 Broad Street\, Anderson\, SC\, 29621\, United States
GEO:34.516162;-82.651917
X-APPLE-STRUCTURED-LOCATION;VALUE=URI;X-ADDRESS=Holy Trinity Lutheran Church 206 Broad Street Anderson SC 29621 United States;X-APPLE-RADIUS=500;X-TITLE=206 Broad Street:geo:-82.651917,34.516162
END:VEVENT
BEGIN:VEVENT
DTSTART;TZID=America/New_York:20300408T190000
DTEND;TZID=America/New_York:20300408T200000
DTSTAMP:20260425T175544
CREATED:20220912T001846Z
LAST-MODIFIED:20220912T001846Z
UID:10007151-1901905200-1901908800@htlc-anderson.org
SUMMARY:7PM Church Council Meeting
DESCRIPTION:Church Council Meeting
URL:https://htlc-anderson.org/event/7pm-church-council-meeting/2030-04-08/
LOCATION:Office Conference Room\, 209 Broad St.\, Anderson\, SC\, 29621\, United States
GEO:34.5166123;-82.6520772
X-APPLE-STRUCTURED-LOCATION;VALUE=URI;X-ADDRESS=Office Conference Room 209 Broad St. Anderson SC 29621 United States;X-APPLE-RADIUS=500;X-TITLE=209 Broad St.:geo:-82.6520772,34.5166123
END:VEVENT
BEGIN:VEVENT
DTSTART;TZID=America/New_York:20300409T100000
DTEND;TZID=America/New_York:20300409T110000
DTSTAMP:20260425T175544
CREATED:20230203T191740Z
LAST-MODIFIED:20230218T031527Z
UID:10007032-1901959200-1901962800@htlc-anderson.org
SUMMARY:10AM Katie’s Ladies
DESCRIPTION:Katie’s Ladies\nLeader: Beth Cribbe\nDate: Tuesday\, February 14\nTime: 10:00 a.m.\nPlace: Office Conference Room
URL:https://htlc-anderson.org/event/10am-katies-ladies/2030-04-09/
LOCATION:Office Conference Room\, 209 Broad St.\, Anderson\, SC\, 29621\, United States
GEO:34.5166123;-82.6520772
X-APPLE-STRUCTURED-LOCATION;VALUE=URI;X-ADDRESS=Office Conference Room 209 Broad St. Anderson SC 29621 United States;X-APPLE-RADIUS=500;X-TITLE=209 Broad St.:geo:-82.6520772,34.5166123
END:VEVENT
BEGIN:VEVENT
DTSTART;TZID=America/New_York:20300410T100000
DTEND;TZID=America/New_York:20300410T110000
DTSTAMP:20260425T175544
CREATED:20220912T002858Z
LAST-MODIFIED:20220912T002858Z
UID:10007470-1902045600-1902049200@htlc-anderson.org
SUMMARY:10AM T.O.P.S. meeting
DESCRIPTION:TOPS (Taking off pounds sensibly) \n 
URL:https://htlc-anderson.org/event/10am-t-o-p-s-meeting/2030-04-10/
LOCATION:Pairs and Spares Classroom\, 209 Broad St.\, Anderson\, SC\, 29621\, United States
GEO:34.5166123;-82.6520772
X-APPLE-STRUCTURED-LOCATION;VALUE=URI;X-ADDRESS=Pairs and Spares Classroom 209 Broad St. Anderson SC 29621 United States;X-APPLE-RADIUS=500;X-TITLE=209 Broad St.:geo:-82.6520772,34.5166123
END:VEVENT
BEGIN:VEVENT
DTSTART;TZID=America/New_York:20300410T183000
DTEND;TZID=America/New_York:20300410T200000
DTSTAMP:20260425T175544
CREATED:20241110T034927Z
LAST-MODIFIED:20241110T034945Z
UID:10007417-1902076200-1902081600@htlc-anderson.org
SUMMARY:6:30PM  Late Service Choir Practice
DESCRIPTION:Late Service Choir Practice
URL:https://htlc-anderson.org/event/730pm-late-service-choir-practice-6/2030-04-10/
END:VEVENT
BEGIN:VEVENT
DTSTART;VALUE=DATE:20300412
DTEND;VALUE=DATE:20300413
DTSTAMP:20260425T175544
CREATED:20260326T215157Z
LAST-MODIFIED:20260326T215157Z
UID:10008177-1902182400-1902268799@htlc-anderson.org
SUMMARY:Church Office Closed
DESCRIPTION:Church office closed
URL:https://htlc-anderson.org/event/church-office-closed-6/2030-04-12/
END:VEVENT
BEGIN:VEVENT
DTSTART;TZID=America/New_York:20300414T084500
DTEND;TZID=America/New_York:20300414T094500
DTSTAMP:20260425T175544
CREATED:20221016T221936Z
LAST-MODIFIED:20230929T224310Z
UID:10007058-1902386700-1902390300@htlc-anderson.org
SUMMARY:8:45 AM Worship Service
DESCRIPTION:8:45 AM Worship service
URL:https://htlc-anderson.org/event/845-am-worship-service-2/2030-04-14/
LOCATION:Holy Trinity Lutheran Church\, 206 Broad Street\, Anderson\, SC\, 29621\, United States
GEO:34.516162;-82.651917
X-APPLE-STRUCTURED-LOCATION;VALUE=URI;X-ADDRESS=Holy Trinity Lutheran Church 206 Broad Street Anderson SC 29621 United States;X-APPLE-RADIUS=500;X-TITLE=206 Broad Street:geo:-82.651917,34.516162
END:VEVENT
BEGIN:VEVENT
DTSTART;TZID=America/New_York:20300414T100000
DTEND;TZID=America/New_York:20300414T104500
DTSTAMP:20260425T175544
CREATED:20240913T144907Z
LAST-MODIFIED:20240913T144938Z
UID:10007094-1902391200-1902393900@htlc-anderson.org
SUMMARY:10AM Children Youth and Adult Sunday School Class
DESCRIPTION:Children Youth and Adult Sunday School Class
URL:https://htlc-anderson.org/event/10am-youth-sunday-school-class-2/2030-04-14/
LOCATION:HTLC Youth Classroom
END:VEVENT
BEGIN:VEVENT
DTSTART;TZID=America/New_York:20300414T100000
DTEND;TZID=America/New_York:20300414T105000
DTSTAMP:20260425T175544
CREATED:20221016T222050Z
LAST-MODIFIED:20230929T224516Z
UID:10007070-1902391200-1902394200@htlc-anderson.org
SUMMARY:10 AM Martin Luther Sunday School
DESCRIPTION:10 AM Martin Luther Sunday School
URL:https://htlc-anderson.org/event/10-am-martin-luther-sunday-school/2030-04-14/
LOCATION:HTLC Fellowship Hall\, 209 Broad St\, Anderson\, SC\, 29621\, United States
GEO:34.5166123;-82.6520772
X-APPLE-STRUCTURED-LOCATION;VALUE=URI;X-ADDRESS=HTLC Fellowship Hall 209 Broad St Anderson SC 29621 United States;X-APPLE-RADIUS=500;X-TITLE=209 Broad St:geo:-82.6520772,34.5166123
END:VEVENT
BEGIN:VEVENT
DTSTART;TZID=America/New_York:20300414T100000
DTEND;TZID=America/New_York:20300414T110000
DTSTAMP:20260425T175544
CREATED:20260115T233304Z
LAST-MODIFIED:20260115T233304Z
UID:10007785-1902391200-1902394800@htlc-anderson.org
SUMMARY:10 AM Whole Story Adult Sunday School Class
DESCRIPTION:The Whole Story Adult Sunday School Class\nAll adults are invited to attend at 10:00 AM Sunday in\nthe Pairs and Spares Room.
URL:https://htlc-anderson.org/event/10-am-whole-story-adult-sunday-school-class/2030-04-14/
LOCATION:Pairs and Spares Classroom\, 209 Broad St.\, Anderson\, SC\, 29621\, United States
GEO:34.5166123;-82.6520772
X-APPLE-STRUCTURED-LOCATION;VALUE=URI;X-ADDRESS=Pairs and Spares Classroom 209 Broad St. Anderson SC 29621 United States;X-APPLE-RADIUS=500;X-TITLE=209 Broad St.:geo:-82.6520772,34.5166123
END:VEVENT
BEGIN:VEVENT
DTSTART;TZID=America/New_York:20300414T100000
DTEND;TZID=America/New_York:20300414T224500
DTSTAMP:20260425T175544
CREATED:20220912T001255Z
LAST-MODIFIED:20230929T224620Z
UID:10007082-1902391200-1902437100@htlc-anderson.org
SUMMARY:10 AM Early Choir Rehearsal
DESCRIPTION:8:45 AM Service Choir Rehearsal
URL:https://htlc-anderson.org/event/10-am-early-choir-rehearsal/2030-04-14/
LOCATION:HTLC Choir Room
END:VEVENT
BEGIN:VEVENT
DTSTART;TZID=America/New_York:20300414T110000
DTEND;TZID=America/New_York:20300414T120000
DTSTAMP:20260425T175544
CREATED:20230929T224148Z
LAST-MODIFIED:20230929T224149Z
UID:10007106-1902394800-1902398400@htlc-anderson.org
SUMMARY:11AM Worship Service
DESCRIPTION:11AM Worship service \n 
URL:https://htlc-anderson.org/event/11am-worship-service-7-2/2030-04-14/
LOCATION:Holy Trinity Lutheran Church\, 206 Broad Street\, Anderson\, SC\, 29621\, United States
GEO:34.516162;-82.651917
X-APPLE-STRUCTURED-LOCATION;VALUE=URI;X-ADDRESS=Holy Trinity Lutheran Church 206 Broad Street Anderson SC 29621 United States;X-APPLE-RADIUS=500;X-TITLE=206 Broad Street:geo:-82.651917,34.516162
END:VEVENT
BEGIN:VEVENT
DTSTART;TZID=America/New_York:20300416T183000
DTEND;TZID=America/New_York:20300416T193000
DTSTAMP:20260425T175544
CREATED:20160912T020946Z
LAST-MODIFIED:20190124T032056Z
UID:10007034-1902594600-1902598200@htlc-anderson.org
SUMMARY:WELCA - Katie's Ladies
DESCRIPTION:Meet in the Office Conference Room on the 3rd Tuesday of each month
URL:https://htlc-anderson.org/event/welca-katies-ladies-2016-10-11/2030-04-16/
LOCATION:Office Conference Room\, 209 Broad St.\, Anderson\, SC\, 29621\, United States
GEO:34.5166123;-82.6520772
X-APPLE-STRUCTURED-LOCATION;VALUE=URI;X-ADDRESS=Office Conference Room 209 Broad St. Anderson SC 29621 United States;X-APPLE-RADIUS=500;X-TITLE=209 Broad St.:geo:-82.6520772,34.5166123
END:VEVENT
END:VCALENDAR