BEGIN:VCALENDAR
VERSION:2.0
PRODID:-//HTLC - ECPv6.15.20//NONSGML v1.0//EN
CALSCALE:GREGORIAN
METHOD:PUBLISH
X-ORIGINAL-URL:https://htlc-anderson.org
X-WR-CALDESC:Events for HTLC
REFRESH-INTERVAL;VALUE=DURATION:PT1H
X-Robots-Tag:noindex
X-PUBLISHED-TTL:PT1H
BEGIN:VTIMEZONE
TZID:America/New_York
BEGIN:DAYLIGHT
TZOFFSETFROM:-0500
TZOFFSETTO:-0400
TZNAME:EDT
DTSTART:20200308T070000
END:DAYLIGHT
BEGIN:STANDARD
TZOFFSETFROM:-0400
TZOFFSETTO:-0500
TZNAME:EST
DTSTART:20201101T060000
END:STANDARD
BEGIN:DAYLIGHT
TZOFFSETFROM:-0500
TZOFFSETTO:-0400
TZNAME:EDT
DTSTART:20210314T070000
END:DAYLIGHT
BEGIN:STANDARD
TZOFFSETFROM:-0400
TZOFFSETTO:-0500
TZNAME:EST
DTSTART:20211107T060000
END:STANDARD
BEGIN:DAYLIGHT
TZOFFSETFROM:-0500
TZOFFSETTO:-0400
TZNAME:EDT
DTSTART:20220313T070000
END:DAYLIGHT
BEGIN:STANDARD
TZOFFSETFROM:-0400
TZOFFSETTO:-0500
TZNAME:EST
DTSTART:20221106T060000
END:STANDARD
END:VTIMEZONE
BEGIN:VEVENT
DTSTART;TZID=America/New_York:20211006T100000
DTEND;TZID=America/New_York:20211006T110000
DTSTAMP:20260422T181536
CREATED:20160728T151229Z
LAST-MODIFIED:20220901T012722Z
UID:10000166-1633514400-1633518000@htlc-anderson.org
SUMMARY:10 AM Kiwanis "Golden K" meeting
DESCRIPTION:
URL:https://htlc-anderson.org/event/kiwanis-golden-k-meeting-2018-08-08/2021-10-06/
LOCATION:HTLC Fellowship Hall\, 209 Broad St\, Anderson\, SC\, 29621\, United States
ATTACH;FMTTYPE=image/png:https://htlc-anderson.org/wp-content/uploads/2016/07/kiwanis-logo.png
GEO:34.5166123;-82.6520772
X-APPLE-STRUCTURED-LOCATION;VALUE=URI;X-ADDRESS=HTLC Fellowship Hall 209 Broad St Anderson SC 29621 United States;X-APPLE-RADIUS=500;X-TITLE=209 Broad St:geo:-82.6520772,34.5166123
END:VEVENT
BEGIN:VEVENT
DTSTART;TZID=America/New_York:20211006T193000
DTEND;TZID=America/New_York:20211006T210000
DTSTAMP:20260422T181536
CREATED:20170902T011029Z
LAST-MODIFIED:20200209T235848Z
UID:10001473-1633548600-1633554000@htlc-anderson.org
SUMMARY:7:30PM  Late Service Choir Practice
DESCRIPTION:Late Service Choir Practice
URL:https://htlc-anderson.org/event/730pm-late-service-choir-practice/2021-10-06/
END:VEVENT
BEGIN:VEVENT
DTSTART;VALUE=DATE:20211010
DTEND;VALUE=DATE:20211011
DTSTAMP:20260422T181536
CREATED:20211001T022356Z
LAST-MODIFIED:20211001T023613Z
UID:10002434-1633824000-1633910399@htlc-anderson.org
SUMMARY:Breast Cancer Awareness Sunday
DESCRIPTION:everyone is invited to wear PINK in honor of all Survivors and in memory of loved ones who have been victims of breast cancer.
URL:https://htlc-anderson.org/event/breast-cancer-awareness-sunday-2/
LOCATION:Holy Trinity Lutheran Church\, 206 Broad Street\, Anderson\, SC\, 29621\, United States
GEO:34.516162;-82.651917
X-APPLE-STRUCTURED-LOCATION;VALUE=URI;X-ADDRESS=Holy Trinity Lutheran Church 206 Broad Street Anderson SC 29621 United States;X-APPLE-RADIUS=500;X-TITLE=206 Broad Street:geo:-82.651917,34.516162
END:VEVENT
BEGIN:VEVENT
DTSTART;TZID=America/New_York:20211013T100000
DTEND;TZID=America/New_York:20211013T110000
DTSTAMP:20260422T181536
CREATED:20160728T151229Z
LAST-MODIFIED:20220901T012722Z
UID:10000167-1634119200-1634122800@htlc-anderson.org
SUMMARY:10 AM Kiwanis "Golden K" meeting
DESCRIPTION:
URL:https://htlc-anderson.org/event/kiwanis-golden-k-meeting-2018-08-08/2021-10-13/
LOCATION:HTLC Fellowship Hall\, 209 Broad St\, Anderson\, SC\, 29621\, United States
ATTACH;FMTTYPE=image/png:https://htlc-anderson.org/wp-content/uploads/2016/07/kiwanis-logo.png
GEO:34.5166123;-82.6520772
X-APPLE-STRUCTURED-LOCATION;VALUE=URI;X-ADDRESS=HTLC Fellowship Hall 209 Broad St Anderson SC 29621 United States;X-APPLE-RADIUS=500;X-TITLE=209 Broad St:geo:-82.6520772,34.5166123
END:VEVENT
BEGIN:VEVENT
DTSTART;TZID=America/New_York:20211013T193000
DTEND;TZID=America/New_York:20211013T210000
DTSTAMP:20260422T181536
CREATED:20170902T011029Z
LAST-MODIFIED:20200209T235848Z
UID:10001474-1634153400-1634158800@htlc-anderson.org
SUMMARY:7:30PM  Late Service Choir Practice
DESCRIPTION:Late Service Choir Practice
URL:https://htlc-anderson.org/event/730pm-late-service-choir-practice/2021-10-13/
END:VEVENT
BEGIN:VEVENT
DTSTART;TZID=America/New_York:20211017T123000
DTEND;TZID=America/New_York:20211017T133000
DTSTAMP:20260422T181536
CREATED:20211001T023503Z
LAST-MODIFIED:20211001T023503Z
UID:10002439-1634473800-1634477400@htlc-anderson.org
SUMMARY:Worship and Music Committee Meeting
DESCRIPTION:Worship and Music Committee Meeting
URL:https://htlc-anderson.org/event/worship-and-music-committee-meeting-3/
LOCATION:HTLC Fellowship Hall\, 209 Broad St\, Anderson\, SC\, 29621\, United States
GEO:34.5166123;-82.6520772
X-APPLE-STRUCTURED-LOCATION;VALUE=URI;X-ADDRESS=HTLC Fellowship Hall 209 Broad St Anderson SC 29621 United States;X-APPLE-RADIUS=500;X-TITLE=209 Broad St:geo:-82.6520772,34.5166123
END:VEVENT
BEGIN:VEVENT
DTSTART;TZID=America/New_York:20211019T183000
DTEND;TZID=America/New_York:20211019T193000
DTSTAMP:20260422T181536
CREATED:20160912T020946Z
LAST-MODIFIED:20190124T032056Z
UID:10001009-1634668200-1634671800@htlc-anderson.org
SUMMARY:WELCA - Katie's Ladies
DESCRIPTION:Meet in the Office Conference Room on the 3rd Tuesday of each month
URL:https://htlc-anderson.org/event/welca-katies-ladies-2016-10-11/2021-10-19/
LOCATION:Office Conference Room\, 209 Broad St.\, Anderson\, SC\, 29621\, United States
GEO:34.5166123;-82.6520772
X-APPLE-STRUCTURED-LOCATION;VALUE=URI;X-ADDRESS=Office Conference Room 209 Broad St. Anderson SC 29621 United States;X-APPLE-RADIUS=500;X-TITLE=209 Broad St.:geo:-82.6520772,34.5166123
END:VEVENT
BEGIN:VEVENT
DTSTART;TZID=America/New_York:20211020T100000
DTEND;TZID=America/New_York:20211020T110000
DTSTAMP:20260422T181536
CREATED:20160728T151229Z
LAST-MODIFIED:20220901T012722Z
UID:10000168-1634724000-1634727600@htlc-anderson.org
SUMMARY:10 AM Kiwanis "Golden K" meeting
DESCRIPTION:
URL:https://htlc-anderson.org/event/kiwanis-golden-k-meeting-2018-08-08/2021-10-20/
LOCATION:HTLC Fellowship Hall\, 209 Broad St\, Anderson\, SC\, 29621\, United States
ATTACH;FMTTYPE=image/png:https://htlc-anderson.org/wp-content/uploads/2016/07/kiwanis-logo.png
GEO:34.5166123;-82.6520772
X-APPLE-STRUCTURED-LOCATION;VALUE=URI;X-ADDRESS=HTLC Fellowship Hall 209 Broad St Anderson SC 29621 United States;X-APPLE-RADIUS=500;X-TITLE=209 Broad St:geo:-82.6520772,34.5166123
END:VEVENT
BEGIN:VEVENT
DTSTART;TZID=America/New_York:20211020T193000
DTEND;TZID=America/New_York:20211020T210000
DTSTAMP:20260422T181536
CREATED:20170902T011029Z
LAST-MODIFIED:20200209T235848Z
UID:10001475-1634758200-1634763600@htlc-anderson.org
SUMMARY:7:30PM  Late Service Choir Practice
DESCRIPTION:Late Service Choir Practice
URL:https://htlc-anderson.org/event/730pm-late-service-choir-practice/2021-10-20/
END:VEVENT
BEGIN:VEVENT
DTSTART;TZID=America/New_York:20211021T180000
DTEND;TZID=America/New_York:20211021T193000
DTSTAMP:20260422T181536
CREATED:20160912T021148Z
LAST-MODIFIED:20230218T031643Z
UID:10003919-1634839200-1634844600@htlc-anderson.org
SUMMARY:WELCA - Luther's Ladies
DESCRIPTION:Meet on the 3rd Thursday of each month in the Office Conference Room
URL:https://htlc-anderson.org/event/welca-luthers-ladies-2016-10-20/2021-10-21/
LOCATION:Office Conference Room\, 209 Broad St.\, Anderson\, SC\, 29621\, United States
GEO:34.5166123;-82.6520772
X-APPLE-STRUCTURED-LOCATION;VALUE=URI;X-ADDRESS=Office Conference Room 209 Broad St. Anderson SC 29621 United States;X-APPLE-RADIUS=500;X-TITLE=209 Broad St.:geo:-82.6520772,34.5166123
END:VEVENT
BEGIN:VEVENT
DTSTART;TZID=America/New_York:20211023T090000
DTEND;TZID=America/New_York:20211023T120000
DTSTAMP:20260422T181536
CREATED:20210604T004138Z
LAST-MODIFIED:20220220T164328Z
UID:10002426-1634979600-1634990400@htlc-anderson.org
SUMMARY:Quilters meeting
DESCRIPTION:Quilters meeting in the quilters room
URL:https://htlc-anderson.org/event/quilters-meeting-2/2021-10-23/
END:VEVENT
BEGIN:VEVENT
DTSTART;TZID=America/New_York:20211025T183000
DTEND;TZID=America/New_York:20211025T193000
DTSTAMP:20260422T181536
CREATED:20211001T023135Z
LAST-MODIFIED:20211001T023135Z
UID:10002437-1635186600-1635190200@htlc-anderson.org
SUMMARY:6:30 PM Lutheran Men in Mission Meeting
DESCRIPTION:
URL:https://htlc-anderson.org/event/630-pm-lutheran-men-in-mission-meeting/
END:VEVENT
BEGIN:VEVENT
DTSTART;TZID=America/New_York:20211027T100000
DTEND;TZID=America/New_York:20211027T110000
DTSTAMP:20260422T181536
CREATED:20160728T151229Z
LAST-MODIFIED:20220901T012722Z
UID:10000169-1635328800-1635332400@htlc-anderson.org
SUMMARY:10 AM Kiwanis "Golden K" meeting
DESCRIPTION:
URL:https://htlc-anderson.org/event/kiwanis-golden-k-meeting-2018-08-08/2021-10-27/
LOCATION:HTLC Fellowship Hall\, 209 Broad St\, Anderson\, SC\, 29621\, United States
ATTACH;FMTTYPE=image/png:https://htlc-anderson.org/wp-content/uploads/2016/07/kiwanis-logo.png
GEO:34.5166123;-82.6520772
X-APPLE-STRUCTURED-LOCATION;VALUE=URI;X-ADDRESS=HTLC Fellowship Hall 209 Broad St Anderson SC 29621 United States;X-APPLE-RADIUS=500;X-TITLE=209 Broad St:geo:-82.6520772,34.5166123
END:VEVENT
BEGIN:VEVENT
DTSTART;TZID=America/New_York:20211027T193000
DTEND;TZID=America/New_York:20211027T210000
DTSTAMP:20260422T181536
CREATED:20170902T011029Z
LAST-MODIFIED:20200209T235848Z
UID:10001476-1635363000-1635368400@htlc-anderson.org
SUMMARY:7:30PM  Late Service Choir Practice
DESCRIPTION:Late Service Choir Practice
URL:https://htlc-anderson.org/event/730pm-late-service-choir-practice/2021-10-27/
END:VEVENT
BEGIN:VEVENT
DTSTART;VALUE=DATE:20211031
DTEND;VALUE=DATE:20211101
DTSTAMP:20260422T181536
CREATED:20211001T023249Z
LAST-MODIFIED:20211001T023250Z
UID:10002438-1635638400-1635724799@htlc-anderson.org
SUMMARY:Reformation Sunday
DESCRIPTION:Please wear red
URL:https://htlc-anderson.org/event/reformation-sunday-4/
END:VEVENT
BEGIN:VEVENT
DTSTART;VALUE=DATE:20211031
DTEND;VALUE=DATE:20211101
DTSTAMP:20260422T181536
CREATED:20211028T214127Z
LAST-MODIFIED:20211028T214127Z
UID:10002441-1635638400-1635724799@htlc-anderson.org
SUMMARY:REFORMATION SUNDAY
DESCRIPTION:REFORMATION SUNDAY
URL:https://htlc-anderson.org/event/reformation-sunday-5/
END:VEVENT
END:VCALENDAR