BEGIN:VCALENDAR
VERSION:2.0
PRODID:-//HTLC - ECPv6.15.20//NONSGML v1.0//EN
CALSCALE:GREGORIAN
METHOD:PUBLISH
X-WR-CALNAME:HTLC
X-ORIGINAL-URL:https://htlc-anderson.org
X-WR-CALDESC:Events for HTLC
REFRESH-INTERVAL;VALUE=DURATION:PT1H
X-Robots-Tag:noindex
X-PUBLISHED-TTL:PT1H
BEGIN:VTIMEZONE
TZID:America/New_York
BEGIN:DAYLIGHT
TZOFFSETFROM:-0500
TZOFFSETTO:-0400
TZNAME:EDT
DTSTART:20290311T070000
END:DAYLIGHT
BEGIN:STANDARD
TZOFFSETFROM:-0400
TZOFFSETTO:-0500
TZNAME:EST
DTSTART:20291104T060000
END:STANDARD
BEGIN:DAYLIGHT
TZOFFSETFROM:-0500
TZOFFSETTO:-0400
TZNAME:EDT
DTSTART:20300310T070000
END:DAYLIGHT
BEGIN:STANDARD
TZOFFSETFROM:-0400
TZOFFSETTO:-0500
TZNAME:EST
DTSTART:20301103T060000
END:STANDARD
BEGIN:DAYLIGHT
TZOFFSETFROM:-0500
TZOFFSETTO:-0400
TZNAME:EDT
DTSTART:20310309T070000
END:DAYLIGHT
BEGIN:STANDARD
TZOFFSETFROM:-0400
TZOFFSETTO:-0500
TZNAME:EST
DTSTART:20311102T060000
END:STANDARD
END:VTIMEZONE
BEGIN:VEVENT
DTSTART;TZID=America/New_York:20300203T100000
DTEND;TZID=America/New_York:20300203T224500
DTSTAMP:20260421T215950
CREATED:20220912T001255Z
LAST-MODIFIED:20230929T224620Z
UID:10006744-1896343200-1896389100@htlc-anderson.org
SUMMARY:10 AM Early Choir Rehearsal
DESCRIPTION:8:45 AM Service Choir Rehearsal
URL:https://htlc-anderson.org/event/10-am-early-choir-rehearsal/2030-02-03/
LOCATION:HTLC Choir Room
END:VEVENT
BEGIN:VEVENT
DTSTART;TZID=America/New_York:20300203T110000
DTEND;TZID=America/New_York:20300203T120000
DTSTAMP:20260421T215950
CREATED:20230929T224148Z
LAST-MODIFIED:20230929T224149Z
UID:10006783-1896346800-1896350400@htlc-anderson.org
SUMMARY:11AM Worship Service
DESCRIPTION:11AM Worship service \n 
URL:https://htlc-anderson.org/event/11am-worship-service-7-2/2030-02-03/
LOCATION:Holy Trinity Lutheran Church\, 206 Broad Street\, Anderson\, SC\, 29621\, United States
GEO:34.516162;-82.651917
X-APPLE-STRUCTURED-LOCATION;VALUE=URI;X-ADDRESS=Holy Trinity Lutheran Church 206 Broad Street Anderson SC 29621 United States;X-APPLE-RADIUS=500;X-TITLE=206 Broad Street:geo:-82.651917,34.516162
END:VEVENT
BEGIN:VEVENT
DTSTART;TZID=America/New_York:20300206T100000
DTEND;TZID=America/New_York:20300206T110000
DTSTAMP:20260421T215950
CREATED:20220912T002858Z
LAST-MODIFIED:20220912T002858Z
UID:10007461-1896602400-1896606000@htlc-anderson.org
SUMMARY:10AM T.O.P.S. meeting
DESCRIPTION:TOPS (Taking off pounds sensibly) \n 
URL:https://htlc-anderson.org/event/10am-t-o-p-s-meeting/2030-02-06/
LOCATION:Pairs and Spares Classroom\, 209 Broad St.\, Anderson\, SC\, 29621\, United States
GEO:34.5166123;-82.6520772
X-APPLE-STRUCTURED-LOCATION;VALUE=URI;X-ADDRESS=Pairs and Spares Classroom 209 Broad St. Anderson SC 29621 United States;X-APPLE-RADIUS=500;X-TITLE=209 Broad St.:geo:-82.6520772,34.5166123
END:VEVENT
BEGIN:VEVENT
DTSTART;TZID=America/New_York:20300206T183000
DTEND;TZID=America/New_York:20300206T200000
DTSTAMP:20260421T215950
CREATED:20241110T034927Z
LAST-MODIFIED:20241110T034945Z
UID:10007408-1896633000-1896638400@htlc-anderson.org
SUMMARY:6:30PM  Late Service Choir Practice
DESCRIPTION:Late Service Choir Practice
URL:https://htlc-anderson.org/event/730pm-late-service-choir-practice-6/2030-02-06/
END:VEVENT
BEGIN:VEVENT
DTSTART;TZID=America/New_York:20300207T180000
DTEND;TZID=America/New_York:20300207T200000
DTSTAMP:20260421T215950
CREATED:20250303T222123Z
LAST-MODIFIED:20250303T222123Z
UID:10006940-1896717600-1896724800@htlc-anderson.org
SUMMARY:Dining Divas
DESCRIPTION:Dining Divas
URL:https://htlc-anderson.org/event/dining-divas-2/2030-02-07/
END:VEVENT
BEGIN:VEVENT
DTSTART;VALUE=DATE:20300208
DTEND;VALUE=DATE:20300209
DTSTAMP:20260421T215950
CREATED:20260326T215157Z
LAST-MODIFIED:20260326T215157Z
UID:10008168-1896739200-1896825599@htlc-anderson.org
SUMMARY:Church Office Closed
DESCRIPTION:Church office closed
URL:https://htlc-anderson.org/event/church-office-closed-6/2030-02-08/
END:VEVENT
BEGIN:VEVENT
DTSTART;TZID=America/New_York:20300210T084500
DTEND;TZID=America/New_York:20300210T094500
DTSTAMP:20260421T215950
CREATED:20221016T221936Z
LAST-MODIFIED:20230929T224310Z
UID:10006643-1896943500-1896947100@htlc-anderson.org
SUMMARY:8:45 AM Worship Service
DESCRIPTION:8:45 AM Worship service
URL:https://htlc-anderson.org/event/845-am-worship-service-2/2030-02-10/
LOCATION:Holy Trinity Lutheran Church\, 206 Broad Street\, Anderson\, SC\, 29621\, United States
GEO:34.516162;-82.651917
X-APPLE-STRUCTURED-LOCATION;VALUE=URI;X-ADDRESS=Holy Trinity Lutheran Church 206 Broad Street Anderson SC 29621 United States;X-APPLE-RADIUS=500;X-TITLE=206 Broad Street:geo:-82.651917,34.516162
END:VEVENT
BEGIN:VEVENT
DTSTART;TZID=America/New_York:20300210T100000
DTEND;TZID=America/New_York:20300210T104500
DTSTAMP:20260421T215950
CREATED:20240913T144907Z
LAST-MODIFIED:20240913T144938Z
UID:10006667-1896948000-1896950700@htlc-anderson.org
SUMMARY:10AM Children Youth and Adult Sunday School Class
DESCRIPTION:Children Youth and Adult Sunday School Class
URL:https://htlc-anderson.org/event/10am-youth-sunday-school-class-2/2030-02-10/
LOCATION:HTLC Youth Classroom
END:VEVENT
BEGIN:VEVENT
DTSTART;TZID=America/New_York:20300210T100000
DTEND;TZID=America/New_York:20300210T105000
DTSTAMP:20260421T215950
CREATED:20221016T222050Z
LAST-MODIFIED:20230929T224516Z
UID:10006706-1896948000-1896951000@htlc-anderson.org
SUMMARY:10 AM Martin Luther Sunday School
DESCRIPTION:10 AM Martin Luther Sunday School
URL:https://htlc-anderson.org/event/10-am-martin-luther-sunday-school/2030-02-10/
LOCATION:HTLC Fellowship Hall\, 209 Broad St\, Anderson\, SC\, 29621\, United States
GEO:34.5166123;-82.6520772
X-APPLE-STRUCTURED-LOCATION;VALUE=URI;X-ADDRESS=HTLC Fellowship Hall 209 Broad St Anderson SC 29621 United States;X-APPLE-RADIUS=500;X-TITLE=209 Broad St:geo:-82.6520772,34.5166123
END:VEVENT
BEGIN:VEVENT
DTSTART;TZID=America/New_York:20300210T100000
DTEND;TZID=America/New_York:20300210T110000
DTSTAMP:20260421T215950
CREATED:20260115T233304Z
LAST-MODIFIED:20260115T233304Z
UID:10007776-1896948000-1896951600@htlc-anderson.org
SUMMARY:10 AM Whole Story Adult Sunday School Class
DESCRIPTION:The Whole Story Adult Sunday School Class\nAll adults are invited to attend at 10:00 AM Sunday in\nthe Pairs and Spares Room.
URL:https://htlc-anderson.org/event/10-am-whole-story-adult-sunday-school-class/2030-02-10/
LOCATION:Pairs and Spares Classroom\, 209 Broad St.\, Anderson\, SC\, 29621\, United States
GEO:34.5166123;-82.6520772
X-APPLE-STRUCTURED-LOCATION;VALUE=URI;X-ADDRESS=Pairs and Spares Classroom 209 Broad St. Anderson SC 29621 United States;X-APPLE-RADIUS=500;X-TITLE=209 Broad St.:geo:-82.6520772,34.5166123
END:VEVENT
BEGIN:VEVENT
DTSTART;TZID=America/New_York:20300210T100000
DTEND;TZID=America/New_York:20300210T224500
DTSTAMP:20260421T215950
CREATED:20220912T001255Z
LAST-MODIFIED:20230929T224620Z
UID:10006745-1896948000-1896993900@htlc-anderson.org
SUMMARY:10 AM Early Choir Rehearsal
DESCRIPTION:8:45 AM Service Choir Rehearsal
URL:https://htlc-anderson.org/event/10-am-early-choir-rehearsal/2030-02-10/
LOCATION:HTLC Choir Room
END:VEVENT
BEGIN:VEVENT
DTSTART;TZID=America/New_York:20300210T110000
DTEND;TZID=America/New_York:20300210T120000
DTSTAMP:20260421T215950
CREATED:20230929T224148Z
LAST-MODIFIED:20230929T224149Z
UID:10006784-1896951600-1896955200@htlc-anderson.org
SUMMARY:11AM Worship Service
DESCRIPTION:11AM Worship service \n 
URL:https://htlc-anderson.org/event/11am-worship-service-7-2/2030-02-10/
LOCATION:Holy Trinity Lutheran Church\, 206 Broad Street\, Anderson\, SC\, 29621\, United States
GEO:34.516162;-82.651917
X-APPLE-STRUCTURED-LOCATION;VALUE=URI;X-ADDRESS=Holy Trinity Lutheran Church 206 Broad Street Anderson SC 29621 United States;X-APPLE-RADIUS=500;X-TITLE=206 Broad Street:geo:-82.651917,34.516162
END:VEVENT
BEGIN:VEVENT
DTSTART;TZID=America/New_York:20300211T190000
DTEND;TZID=America/New_York:20300211T200000
DTSTAMP:20260421T215950
CREATED:20220912T001846Z
LAST-MODIFIED:20220912T001846Z
UID:10007149-1897066800-1897070400@htlc-anderson.org
SUMMARY:7PM Church Council Meeting
DESCRIPTION:Church Council Meeting
URL:https://htlc-anderson.org/event/7pm-church-council-meeting/2030-02-11/
LOCATION:Office Conference Room\, 209 Broad St.\, Anderson\, SC\, 29621\, United States
GEO:34.5166123;-82.6520772
X-APPLE-STRUCTURED-LOCATION;VALUE=URI;X-ADDRESS=Office Conference Room 209 Broad St. Anderson SC 29621 United States;X-APPLE-RADIUS=500;X-TITLE=209 Broad St.:geo:-82.6520772,34.5166123
END:VEVENT
BEGIN:VEVENT
DTSTART;TZID=America/New_York:20300212T100000
DTEND;TZID=America/New_York:20300212T110000
DTSTAMP:20260421T215950
CREATED:20230203T191740Z
LAST-MODIFIED:20230218T031527Z
UID:10006806-1897120800-1897124400@htlc-anderson.org
SUMMARY:10AM Katie’s Ladies
DESCRIPTION:Katie’s Ladies\nLeader: Beth Cribbe\nDate: Tuesday\, February 14\nTime: 10:00 a.m.\nPlace: Office Conference Room
URL:https://htlc-anderson.org/event/10am-katies-ladies/2030-02-12/
LOCATION:Office Conference Room\, 209 Broad St.\, Anderson\, SC\, 29621\, United States
GEO:34.5166123;-82.6520772
X-APPLE-STRUCTURED-LOCATION;VALUE=URI;X-ADDRESS=Office Conference Room 209 Broad St. Anderson SC 29621 United States;X-APPLE-RADIUS=500;X-TITLE=209 Broad St.:geo:-82.6520772,34.5166123
END:VEVENT
BEGIN:VEVENT
DTSTART;TZID=America/New_York:20300213T100000
DTEND;TZID=America/New_York:20300213T110000
DTSTAMP:20260421T215950
CREATED:20220912T002858Z
LAST-MODIFIED:20220912T002858Z
UID:10007462-1897207200-1897210800@htlc-anderson.org
SUMMARY:10AM T.O.P.S. meeting
DESCRIPTION:TOPS (Taking off pounds sensibly) \n 
URL:https://htlc-anderson.org/event/10am-t-o-p-s-meeting/2030-02-13/
LOCATION:Pairs and Spares Classroom\, 209 Broad St.\, Anderson\, SC\, 29621\, United States
GEO:34.5166123;-82.6520772
X-APPLE-STRUCTURED-LOCATION;VALUE=URI;X-ADDRESS=Pairs and Spares Classroom 209 Broad St. Anderson SC 29621 United States;X-APPLE-RADIUS=500;X-TITLE=209 Broad St.:geo:-82.6520772,34.5166123
END:VEVENT
BEGIN:VEVENT
DTSTART;TZID=America/New_York:20300213T183000
DTEND;TZID=America/New_York:20300213T200000
DTSTAMP:20260421T215950
CREATED:20241110T034927Z
LAST-MODIFIED:20241110T034945Z
UID:10007409-1897237800-1897243200@htlc-anderson.org
SUMMARY:6:30PM  Late Service Choir Practice
DESCRIPTION:Late Service Choir Practice
URL:https://htlc-anderson.org/event/730pm-late-service-choir-practice-6/2030-02-13/
END:VEVENT
BEGIN:VEVENT
DTSTART;VALUE=DATE:20300215
DTEND;VALUE=DATE:20300216
DTSTAMP:20260421T215950
CREATED:20260326T215157Z
LAST-MODIFIED:20260326T215157Z
UID:10008169-1897344000-1897430399@htlc-anderson.org
SUMMARY:Church Office Closed
DESCRIPTION:Church office closed
URL:https://htlc-anderson.org/event/church-office-closed-6/2030-02-15/
END:VEVENT
BEGIN:VEVENT
DTSTART;TZID=America/New_York:20300217T084500
DTEND;TZID=America/New_York:20300217T094500
DTSTAMP:20260421T215950
CREATED:20221016T221936Z
LAST-MODIFIED:20230929T224310Z
UID:10006644-1897548300-1897551900@htlc-anderson.org
SUMMARY:8:45 AM Worship Service
DESCRIPTION:8:45 AM Worship service
URL:https://htlc-anderson.org/event/845-am-worship-service-2/2030-02-17/
LOCATION:Holy Trinity Lutheran Church\, 206 Broad Street\, Anderson\, SC\, 29621\, United States
GEO:34.516162;-82.651917
X-APPLE-STRUCTURED-LOCATION;VALUE=URI;X-ADDRESS=Holy Trinity Lutheran Church 206 Broad Street Anderson SC 29621 United States;X-APPLE-RADIUS=500;X-TITLE=206 Broad Street:geo:-82.651917,34.516162
END:VEVENT
BEGIN:VEVENT
DTSTART;TZID=America/New_York:20300217T100000
DTEND;TZID=America/New_York:20300217T104500
DTSTAMP:20260421T215950
CREATED:20240913T144907Z
LAST-MODIFIED:20240913T144938Z
UID:10006668-1897552800-1897555500@htlc-anderson.org
SUMMARY:10AM Children Youth and Adult Sunday School Class
DESCRIPTION:Children Youth and Adult Sunday School Class
URL:https://htlc-anderson.org/event/10am-youth-sunday-school-class-2/2030-02-17/
LOCATION:HTLC Youth Classroom
END:VEVENT
BEGIN:VEVENT
DTSTART;TZID=America/New_York:20300217T100000
DTEND;TZID=America/New_York:20300217T105000
DTSTAMP:20260421T215950
CREATED:20221016T222050Z
LAST-MODIFIED:20230929T224516Z
UID:10006707-1897552800-1897555800@htlc-anderson.org
SUMMARY:10 AM Martin Luther Sunday School
DESCRIPTION:10 AM Martin Luther Sunday School
URL:https://htlc-anderson.org/event/10-am-martin-luther-sunday-school/2030-02-17/
LOCATION:HTLC Fellowship Hall\, 209 Broad St\, Anderson\, SC\, 29621\, United States
GEO:34.5166123;-82.6520772
X-APPLE-STRUCTURED-LOCATION;VALUE=URI;X-ADDRESS=HTLC Fellowship Hall 209 Broad St Anderson SC 29621 United States;X-APPLE-RADIUS=500;X-TITLE=209 Broad St:geo:-82.6520772,34.5166123
END:VEVENT
BEGIN:VEVENT
DTSTART;TZID=America/New_York:20300217T100000
DTEND;TZID=America/New_York:20300217T110000
DTSTAMP:20260421T215950
CREATED:20260115T233304Z
LAST-MODIFIED:20260115T233304Z
UID:10007777-1897552800-1897556400@htlc-anderson.org
SUMMARY:10 AM Whole Story Adult Sunday School Class
DESCRIPTION:The Whole Story Adult Sunday School Class\nAll adults are invited to attend at 10:00 AM Sunday in\nthe Pairs and Spares Room.
URL:https://htlc-anderson.org/event/10-am-whole-story-adult-sunday-school-class/2030-02-17/
LOCATION:Pairs and Spares Classroom\, 209 Broad St.\, Anderson\, SC\, 29621\, United States
GEO:34.5166123;-82.6520772
X-APPLE-STRUCTURED-LOCATION;VALUE=URI;X-ADDRESS=Pairs and Spares Classroom 209 Broad St. Anderson SC 29621 United States;X-APPLE-RADIUS=500;X-TITLE=209 Broad St.:geo:-82.6520772,34.5166123
END:VEVENT
BEGIN:VEVENT
DTSTART;TZID=America/New_York:20300217T100000
DTEND;TZID=America/New_York:20300217T224500
DTSTAMP:20260421T215950
CREATED:20220912T001255Z
LAST-MODIFIED:20230929T224620Z
UID:10006746-1897552800-1897598700@htlc-anderson.org
SUMMARY:10 AM Early Choir Rehearsal
DESCRIPTION:8:45 AM Service Choir Rehearsal
URL:https://htlc-anderson.org/event/10-am-early-choir-rehearsal/2030-02-17/
LOCATION:HTLC Choir Room
END:VEVENT
BEGIN:VEVENT
DTSTART;TZID=America/New_York:20300217T110000
DTEND;TZID=America/New_York:20300217T120000
DTSTAMP:20260421T215950
CREATED:20230929T224148Z
LAST-MODIFIED:20230929T224149Z
UID:10006785-1897556400-1897560000@htlc-anderson.org
SUMMARY:11AM Worship Service
DESCRIPTION:11AM Worship service \n 
URL:https://htlc-anderson.org/event/11am-worship-service-7-2/2030-02-17/
LOCATION:Holy Trinity Lutheran Church\, 206 Broad Street\, Anderson\, SC\, 29621\, United States
GEO:34.516162;-82.651917
X-APPLE-STRUCTURED-LOCATION;VALUE=URI;X-ADDRESS=Holy Trinity Lutheran Church 206 Broad Street Anderson SC 29621 United States;X-APPLE-RADIUS=500;X-TITLE=206 Broad Street:geo:-82.651917,34.516162
END:VEVENT
BEGIN:VEVENT
DTSTART;TZID=America/New_York:20300219T183000
DTEND;TZID=America/New_York:20300219T193000
DTSTAMP:20260421T215950
CREATED:20160912T020946Z
LAST-MODIFIED:20190124T032056Z
UID:10006822-1897756200-1897759800@htlc-anderson.org
SUMMARY:WELCA - Katie's Ladies
DESCRIPTION:Meet in the Office Conference Room on the 3rd Tuesday of each month
URL:https://htlc-anderson.org/event/welca-katies-ladies-2016-10-11/2030-02-19/
LOCATION:Office Conference Room\, 209 Broad St.\, Anderson\, SC\, 29621\, United States
GEO:34.5166123;-82.6520772
X-APPLE-STRUCTURED-LOCATION;VALUE=URI;X-ADDRESS=Office Conference Room 209 Broad St. Anderson SC 29621 United States;X-APPLE-RADIUS=500;X-TITLE=209 Broad St.:geo:-82.6520772,34.5166123
END:VEVENT
BEGIN:VEVENT
DTSTART;TZID=America/New_York:20300220T100000
DTEND;TZID=America/New_York:20300220T110000
DTSTAMP:20260421T215950
CREATED:20220912T002858Z
LAST-MODIFIED:20220912T002858Z
UID:10007463-1897812000-1897815600@htlc-anderson.org
SUMMARY:10AM T.O.P.S. meeting
DESCRIPTION:TOPS (Taking off pounds sensibly) \n 
URL:https://htlc-anderson.org/event/10am-t-o-p-s-meeting/2030-02-20/
LOCATION:Pairs and Spares Classroom\, 209 Broad St.\, Anderson\, SC\, 29621\, United States
GEO:34.5166123;-82.6520772
X-APPLE-STRUCTURED-LOCATION;VALUE=URI;X-ADDRESS=Pairs and Spares Classroom 209 Broad St. Anderson SC 29621 United States;X-APPLE-RADIUS=500;X-TITLE=209 Broad St.:geo:-82.6520772,34.5166123
END:VEVENT
BEGIN:VEVENT
DTSTART;TZID=America/New_York:20300220T183000
DTEND;TZID=America/New_York:20300220T200000
DTSTAMP:20260421T215950
CREATED:20241110T034927Z
LAST-MODIFIED:20241110T034945Z
UID:10007410-1897842600-1897848000@htlc-anderson.org
SUMMARY:6:30PM  Late Service Choir Practice
DESCRIPTION:Late Service Choir Practice
URL:https://htlc-anderson.org/event/730pm-late-service-choir-practice-6/2030-02-20/
END:VEVENT
BEGIN:VEVENT
DTSTART;TZID=America/New_York:20300221T180000
DTEND;TZID=America/New_York:20300221T190000
DTSTAMP:20260421T215950
CREATED:20250327T004021Z
LAST-MODIFIED:20250327T004021Z
UID:10007020-1897927200-1897930800@htlc-anderson.org
SUMMARY:6PM Luther's Ladies
DESCRIPTION:Luther’s Ladies meeting
URL:https://htlc-anderson.org/event/6pm-luthers-ladies-2/2030-02-21/
LOCATION:HTLC Fellowship Hall\, 209 Broad St\, Anderson\, SC\, 29621\, United States
GEO:34.5166123;-82.6520772
X-APPLE-STRUCTURED-LOCATION;VALUE=URI;X-ADDRESS=HTLC Fellowship Hall 209 Broad St Anderson SC 29621 United States;X-APPLE-RADIUS=500;X-TITLE=209 Broad St:geo:-82.6520772,34.5166123
END:VEVENT
BEGIN:VEVENT
DTSTART;TZID=America/New_York:20300221T180000
DTEND;TZID=America/New_York:20300221T193000
DTSTAMP:20260421T215950
CREATED:20160912T021148Z
LAST-MODIFIED:20230218T031643Z
UID:10006602-1897927200-1897932600@htlc-anderson.org
SUMMARY:WELCA - Luther's Ladies
DESCRIPTION:Meet on the 3rd Thursday of each month in the Office Conference Room
URL:https://htlc-anderson.org/event/welca-luthers-ladies-2016-10-20/2030-02-21/
LOCATION:Office Conference Room\, 209 Broad St.\, Anderson\, SC\, 29621\, United States
GEO:34.5166123;-82.6520772
X-APPLE-STRUCTURED-LOCATION;VALUE=URI;X-ADDRESS=Office Conference Room 209 Broad St. Anderson SC 29621 United States;X-APPLE-RADIUS=500;X-TITLE=209 Broad St.:geo:-82.6520772,34.5166123
END:VEVENT
BEGIN:VEVENT
DTSTART;VALUE=DATE:20300222
DTEND;VALUE=DATE:20300223
DTSTAMP:20260421T215950
CREATED:20260326T215157Z
LAST-MODIFIED:20260326T215157Z
UID:10008170-1897948800-1898035199@htlc-anderson.org
SUMMARY:Church Office Closed
DESCRIPTION:Church office closed
URL:https://htlc-anderson.org/event/church-office-closed-6/2030-02-22/
END:VEVENT
BEGIN:VEVENT
DTSTART;TZID=America/New_York:20300223T100000
DTEND;TZID=America/New_York:20300223T120000
DTSTAMP:20260421T215950
CREATED:20250302T221533Z
LAST-MODIFIED:20250303T155056Z
UID:10006881-1898071200-1898078400@htlc-anderson.org
SUMMARY:Quilters Group
DESCRIPTION:Quilters group
URL:https://htlc-anderson.org/event/quilters-group/2030-02-23/
LOCATION:HTLC Fellowship Hall\, 209 Broad St\, Anderson\, SC\, 29621\, United States
GEO:34.5166123;-82.6520772
X-APPLE-STRUCTURED-LOCATION;VALUE=URI;X-ADDRESS=HTLC Fellowship Hall 209 Broad St Anderson SC 29621 United States;X-APPLE-RADIUS=500;X-TITLE=209 Broad St:geo:-82.6520772,34.5166123
END:VEVENT
END:VCALENDAR