BEGIN:VCALENDAR
VERSION:2.0
PRODID:-//HTLC - ECPv6.15.20//NONSGML v1.0//EN
CALSCALE:GREGORIAN
METHOD:PUBLISH
X-WR-CALNAME:HTLC
X-ORIGINAL-URL:https://htlc-anderson.org
X-WR-CALDESC:Events for HTLC
REFRESH-INTERVAL;VALUE=DURATION:PT1H
X-Robots-Tag:noindex
X-PUBLISHED-TTL:PT1H
BEGIN:VTIMEZONE
TZID:America/New_York
BEGIN:DAYLIGHT
TZOFFSETFROM:-0500
TZOFFSETTO:-0400
TZNAME:EDT
DTSTART:20230312T070000
END:DAYLIGHT
BEGIN:STANDARD
TZOFFSETFROM:-0400
TZOFFSETTO:-0500
TZNAME:EST
DTSTART:20231105T060000
END:STANDARD
BEGIN:DAYLIGHT
TZOFFSETFROM:-0500
TZOFFSETTO:-0400
TZNAME:EDT
DTSTART:20240310T070000
END:DAYLIGHT
BEGIN:STANDARD
TZOFFSETFROM:-0400
TZOFFSETTO:-0500
TZNAME:EST
DTSTART:20241103T060000
END:STANDARD
BEGIN:DAYLIGHT
TZOFFSETFROM:-0500
TZOFFSETTO:-0400
TZNAME:EDT
DTSTART:20250309T070000
END:DAYLIGHT
BEGIN:STANDARD
TZOFFSETFROM:-0400
TZOFFSETTO:-0500
TZNAME:EST
DTSTART:20251102T060000
END:STANDARD
END:VTIMEZONE
BEGIN:VEVENT
DTSTART;TZID=America/New_York:20240905T180000
DTEND;TZID=America/New_York:20240905T193000
DTSTAMP:20260423T004143
CREATED:20240823T164644Z
LAST-MODIFIED:20240823T164644Z
UID:10006209-1725559200-1725564600@htlc-anderson.org
SUMMARY:6PM Dining Divas
DESCRIPTION:“Dining Divas”\nThursday\, September 5 at 6:00 PM\nDining Divas will be dining in our Fellowship Hall with a meal prepared by Chef Aaron Shedd on Thursday\, September 5 at 6:00 PM.\nIf you did not get an email about this from Beth Cribbe\, please contact her for details. You must have paid reservations\, or a meal will not be available for you.\nCall or text 864-617-6216. Her email address is bcribbe1@gmail.com Thursday\, September 5 at 6:00 PM
URL:https://htlc-anderson.org/event/6pm-dining-divas-5/
END:VEVENT
END:VCALENDAR