BEGIN:VCALENDAR
VERSION:2.0
PRODID:-//HTLC - ECPv6.15.20//NONSGML v1.0//EN
CALSCALE:GREGORIAN
METHOD:PUBLISH
X-ORIGINAL-URL:https://htlc-anderson.org
X-WR-CALDESC:Events for HTLC
REFRESH-INTERVAL;VALUE=DURATION:PT1H
X-Robots-Tag:noindex
X-PUBLISHED-TTL:PT1H
BEGIN:VTIMEZONE
TZID:America/New_York
BEGIN:DAYLIGHT
TZOFFSETFROM:-0500
TZOFFSETTO:-0400
TZNAME:EDT
DTSTART:20230312T070000
END:DAYLIGHT
BEGIN:STANDARD
TZOFFSETFROM:-0400
TZOFFSETTO:-0500
TZNAME:EST
DTSTART:20231105T060000
END:STANDARD
BEGIN:DAYLIGHT
TZOFFSETFROM:-0500
TZOFFSETTO:-0400
TZNAME:EDT
DTSTART:20240310T070000
END:DAYLIGHT
BEGIN:STANDARD
TZOFFSETFROM:-0400
TZOFFSETTO:-0500
TZNAME:EST
DTSTART:20241103T060000
END:STANDARD
BEGIN:DAYLIGHT
TZOFFSETFROM:-0500
TZOFFSETTO:-0400
TZNAME:EDT
DTSTART:20250309T070000
END:DAYLIGHT
BEGIN:STANDARD
TZOFFSETFROM:-0400
TZOFFSETTO:-0500
TZNAME:EST
DTSTART:20251102T060000
END:STANDARD
END:VTIMEZONE
BEGIN:VEVENT
DTSTART;TZID=America/New_York:20240714T084500
DTEND;TZID=America/New_York:20240714T094500
DTSTAMP:20260425T092758
CREATED:20221016T221936Z
LAST-MODIFIED:20230929T224310Z
UID:10003352-1720946700-1720950300@htlc-anderson.org
SUMMARY:8:45 AM Worship Service
DESCRIPTION:8:45 AM Worship service
URL:https://htlc-anderson.org/event/845-am-worship-service-2/2024-07-14/
LOCATION:Holy Trinity Lutheran Church\, 206 Broad Street\, Anderson\, SC\, 29621\, United States
GEO:34.516162;-82.651917
X-APPLE-STRUCTURED-LOCATION;VALUE=URI;X-ADDRESS=Holy Trinity Lutheran Church 206 Broad Street Anderson SC 29621 United States;X-APPLE-RADIUS=500;X-TITLE=206 Broad Street:geo:-82.651917,34.516162
END:VEVENT
BEGIN:VEVENT
DTSTART;TZID=America/New_York:20240714T100000
DTEND;TZID=America/New_York:20240714T104500
DTSTAMP:20260425T092758
CREATED:20230901T153902Z
LAST-MODIFIED:20230929T224418Z
UID:10005009-1720951200-1720953900@htlc-anderson.org
SUMMARY:10AM Youth Sunday School Class
DESCRIPTION:Youth Sunday School Class
URL:https://htlc-anderson.org/event/10am-youth-sunday-school-class/2024-07-14/
LOCATION:HTLC Youth Classroom
END:VEVENT
BEGIN:VEVENT
DTSTART;TZID=America/New_York:20240714T100000
DTEND;TZID=America/New_York:20240714T105000
DTSTAMP:20260425T092758
CREATED:20221016T222050Z
LAST-MODIFIED:20230929T224516Z
UID:10003250-1720951200-1720954200@htlc-anderson.org
SUMMARY:10 AM Martin Luther Sunday School
DESCRIPTION:10 AM Martin Luther Sunday School
URL:https://htlc-anderson.org/event/10-am-martin-luther-sunday-school/2024-07-14/
LOCATION:HTLC Fellowship Hall\, 209 Broad St\, Anderson\, SC\, 29621\, United States
GEO:34.5166123;-82.6520772
X-APPLE-STRUCTURED-LOCATION;VALUE=URI;X-ADDRESS=HTLC Fellowship Hall 209 Broad St Anderson SC 29621 United States;X-APPLE-RADIUS=500;X-TITLE=209 Broad St:geo:-82.6520772,34.5166123
END:VEVENT
BEGIN:VEVENT
DTSTART;TZID=America/New_York:20240714T100000
DTEND;TZID=America/New_York:20240714T224500
DTSTAMP:20260425T092758
CREATED:20220912T001255Z
LAST-MODIFIED:20230929T224620Z
UID:10002729-1720951200-1720997100@htlc-anderson.org
SUMMARY:10 AM Early Choir Rehearsal
DESCRIPTION:8:45 AM Service Choir Rehearsal
URL:https://htlc-anderson.org/event/10-am-early-choir-rehearsal/2024-07-14/
LOCATION:HTLC Choir Room
END:VEVENT
BEGIN:VEVENT
DTSTART;TZID=America/New_York:20240714T110000
DTEND;TZID=America/New_York:20240714T120000
DTSTAMP:20260425T092758
CREATED:20230929T224148Z
LAST-MODIFIED:20230929T224149Z
UID:10003789-1720954800-1720958400@htlc-anderson.org
SUMMARY:11AM Worship Service
DESCRIPTION:11AM Worship service \n 
URL:https://htlc-anderson.org/event/11am-worship-service-7-2/2024-07-14/
LOCATION:Holy Trinity Lutheran Church\, 206 Broad Street\, Anderson\, SC\, 29621\, United States
GEO:34.516162;-82.651917
X-APPLE-STRUCTURED-LOCATION;VALUE=URI;X-ADDRESS=Holy Trinity Lutheran Church 206 Broad Street Anderson SC 29621 United States;X-APPLE-RADIUS=500;X-TITLE=206 Broad Street:geo:-82.651917,34.516162
END:VEVENT
BEGIN:VEVENT
DTSTART;TZID=America/New_York:20240714T120000
DTEND;TZID=America/New_York:20240714T130000
DTSTAMP:20260425T092758
CREATED:20240621T161750Z
LAST-MODIFIED:20240621T161750Z
UID:10006188-1720958400-1720962000@htlc-anderson.org
SUMMARY:12PM Youth Group pre-Gathering planning session
DESCRIPTION:On July 14th\, the Youth Group will be having a pre-Gathering planning session immediately following the Late\nService in Fellowship Hall.
URL:https://htlc-anderson.org/event/12pm-youth-group-pre-gathering-planning-session/
LOCATION:HTLC Fellowship Hall\, 209 Broad St\, Anderson\, SC\, 29621\, United States
GEO:34.5166123;-82.6520772
X-APPLE-STRUCTURED-LOCATION;VALUE=URI;X-ADDRESS=HTLC Fellowship Hall 209 Broad St Anderson SC 29621 United States;X-APPLE-RADIUS=500;X-TITLE=209 Broad St:geo:-82.6520772,34.5166123
END:VEVENT
END:VCALENDAR