BEGIN:VCALENDAR
VERSION:2.0
PRODID:-//HTLC - ECPv6.15.20//NONSGML v1.0//EN
CALSCALE:GREGORIAN
METHOD:PUBLISH
X-ORIGINAL-URL:https://htlc-anderson.org
X-WR-CALDESC:Events for HTLC
REFRESH-INTERVAL;VALUE=DURATION:PT1H
X-Robots-Tag:noindex
X-PUBLISHED-TTL:PT1H
BEGIN:VTIMEZONE
TZID:America/New_York
BEGIN:DAYLIGHT
TZOFFSETFROM:-0500
TZOFFSETTO:-0400
TZNAME:EDT
DTSTART:20230312T070000
END:DAYLIGHT
BEGIN:STANDARD
TZOFFSETFROM:-0400
TZOFFSETTO:-0500
TZNAME:EST
DTSTART:20231105T060000
END:STANDARD
BEGIN:DAYLIGHT
TZOFFSETFROM:-0500
TZOFFSETTO:-0400
TZNAME:EDT
DTSTART:20240310T070000
END:DAYLIGHT
BEGIN:STANDARD
TZOFFSETFROM:-0400
TZOFFSETTO:-0500
TZNAME:EST
DTSTART:20241103T060000
END:STANDARD
BEGIN:DAYLIGHT
TZOFFSETFROM:-0500
TZOFFSETTO:-0400
TZNAME:EDT
DTSTART:20250309T070000
END:DAYLIGHT
BEGIN:STANDARD
TZOFFSETFROM:-0400
TZOFFSETTO:-0500
TZNAME:EST
DTSTART:20251102T060000
END:STANDARD
END:VTIMEZONE
BEGIN:VEVENT
DTSTART;TZID=America/New_York:20240526T084500
DTEND;TZID=America/New_York:20240526T094500
DTSTAMP:20260422T012335
CREATED:20221016T221936Z
LAST-MODIFIED:20230929T224310Z
UID:10003345-1716713100-1716716700@htlc-anderson.org
SUMMARY:8:45 AM Worship Service
DESCRIPTION:8:45 AM Worship service
URL:https://htlc-anderson.org/event/845-am-worship-service-2/2024-05-26/
LOCATION:Holy Trinity Lutheran Church\, 206 Broad Street\, Anderson\, SC\, 29621\, United States
GEO:34.516162;-82.651917
X-APPLE-STRUCTURED-LOCATION;VALUE=URI;X-ADDRESS=Holy Trinity Lutheran Church 206 Broad Street Anderson SC 29621 United States;X-APPLE-RADIUS=500;X-TITLE=206 Broad Street:geo:-82.651917,34.516162
END:VEVENT
BEGIN:VEVENT
DTSTART;TZID=America/New_York:20240526T100000
DTEND;TZID=America/New_York:20240526T104500
DTSTAMP:20260422T012335
CREATED:20230901T153902Z
LAST-MODIFIED:20230929T224418Z
UID:10005002-1716717600-1716720300@htlc-anderson.org
SUMMARY:10AM Youth Sunday School Class
DESCRIPTION:Youth Sunday School Class
URL:https://htlc-anderson.org/event/10am-youth-sunday-school-class/2024-05-26/
LOCATION:HTLC Youth Classroom
END:VEVENT
BEGIN:VEVENT
DTSTART;TZID=America/New_York:20240526T100000
DTEND;TZID=America/New_York:20240526T105000
DTSTAMP:20260422T012335
CREATED:20221016T222050Z
LAST-MODIFIED:20230929T224516Z
UID:10003243-1716717600-1716720600@htlc-anderson.org
SUMMARY:10 AM Martin Luther Sunday School
DESCRIPTION:10 AM Martin Luther Sunday School
URL:https://htlc-anderson.org/event/10-am-martin-luther-sunday-school/2024-05-26/
LOCATION:HTLC Fellowship Hall\, 209 Broad St\, Anderson\, SC\, 29621\, United States
GEO:34.5166123;-82.6520772
X-APPLE-STRUCTURED-LOCATION;VALUE=URI;X-ADDRESS=HTLC Fellowship Hall 209 Broad St Anderson SC 29621 United States;X-APPLE-RADIUS=500;X-TITLE=209 Broad St:geo:-82.6520772,34.5166123
END:VEVENT
BEGIN:VEVENT
DTSTART;TZID=America/New_York:20240526T100000
DTEND;TZID=America/New_York:20240526T224500
DTSTAMP:20260422T012335
CREATED:20220912T001255Z
LAST-MODIFIED:20230929T224620Z
UID:10002722-1716717600-1716763500@htlc-anderson.org
SUMMARY:10 AM Early Choir Rehearsal
DESCRIPTION:8:45 AM Service Choir Rehearsal
URL:https://htlc-anderson.org/event/10-am-early-choir-rehearsal/2024-05-26/
LOCATION:HTLC Choir Room
END:VEVENT
BEGIN:VEVENT
DTSTART;TZID=America/New_York:20240526T104500
DTEND;TZID=America/New_York:20240526T123000
DTSTAMP:20260422T012335
CREATED:20240425T230117Z
LAST-MODIFIED:20240425T230117Z
UID:10006032-1716720300-1716726600@htlc-anderson.org
SUMMARY:10:45 AM and 12PM Prayer Garden Drop In
DESCRIPTION:Prayer Garden Drop In\nSunday May 26th\, 2024\nImmediately following the 8:45 a.m. and 11:00 a.m. worship services:\nJoin the Prayer Garden Committee in the garden for light refreshments and beverages. You will have the opportunity to view the landscape design and vision for the upcoming refurbishment and update of the Alton Clark Memorial Garden. We envision this area to be a place where one may come to pray\, reflect\, visit with a loved one and to let your mind rest from outside distractions.\nThe irrigation has been installed and a new metal gazebo is being designed by a local metalwork artist. We hope to begin the purchase of the landscape plantings in the next few months. On the day of the event\, you will have the option to select a landscape planting from the garden cart to contribute In Memory Of or In Honor Of someone who encouraged\, nurtured or inspired your spiritual growth. Hope to see you on May 26th!\nPrayer Garden Committee:\nAnna Caldwell\nConnor Caldwell\nBonnie Emanuel\nClaude Calloway\nMary Ann Hobbs
URL:https://htlc-anderson.org/event/1045-am-and-12pm-prayer-garden-drop-in/
LOCATION:Holy Trinity Lutheran Church\, 206 Broad Street\, Anderson\, SC\, 29621\, United States
GEO:34.516162;-82.651917
X-APPLE-STRUCTURED-LOCATION;VALUE=URI;X-ADDRESS=Holy Trinity Lutheran Church 206 Broad Street Anderson SC 29621 United States;X-APPLE-RADIUS=500;X-TITLE=206 Broad Street:geo:-82.651917,34.516162
END:VEVENT
BEGIN:VEVENT
DTSTART;TZID=America/New_York:20240526T110000
DTEND;TZID=America/New_York:20240526T120000
DTSTAMP:20260422T012335
CREATED:20230929T224148Z
LAST-MODIFIED:20230929T224149Z
UID:10003782-1716721200-1716724800@htlc-anderson.org
SUMMARY:11AM Worship Service
DESCRIPTION:11AM Worship service \n 
URL:https://htlc-anderson.org/event/11am-worship-service-7-2/2024-05-26/
LOCATION:Holy Trinity Lutheran Church\, 206 Broad Street\, Anderson\, SC\, 29621\, United States
GEO:34.516162;-82.651917
X-APPLE-STRUCTURED-LOCATION;VALUE=URI;X-ADDRESS=Holy Trinity Lutheran Church 206 Broad Street Anderson SC 29621 United States;X-APPLE-RADIUS=500;X-TITLE=206 Broad Street:geo:-82.651917,34.516162
END:VEVENT
END:VCALENDAR