BEGIN:VCALENDAR
VERSION:2.0
PRODID:-//HTLC - ECPv6.15.20//NONSGML v1.0//EN
CALSCALE:GREGORIAN
METHOD:PUBLISH
X-ORIGINAL-URL:https://htlc-anderson.org
X-WR-CALDESC:Events for HTLC
REFRESH-INTERVAL;VALUE=DURATION:PT1H
X-Robots-Tag:noindex
X-PUBLISHED-TTL:PT1H
BEGIN:VTIMEZONE
TZID:America/New_York
BEGIN:DAYLIGHT
TZOFFSETFROM:-0500
TZOFFSETTO:-0400
TZNAME:EDT
DTSTART:20230312T070000
END:DAYLIGHT
BEGIN:STANDARD
TZOFFSETFROM:-0400
TZOFFSETTO:-0500
TZNAME:EST
DTSTART:20231105T060000
END:STANDARD
BEGIN:DAYLIGHT
TZOFFSETFROM:-0500
TZOFFSETTO:-0400
TZNAME:EDT
DTSTART:20240310T070000
END:DAYLIGHT
BEGIN:STANDARD
TZOFFSETFROM:-0400
TZOFFSETTO:-0500
TZNAME:EST
DTSTART:20241103T060000
END:STANDARD
BEGIN:DAYLIGHT
TZOFFSETFROM:-0500
TZOFFSETTO:-0400
TZNAME:EDT
DTSTART:20250309T070000
END:DAYLIGHT
BEGIN:STANDARD
TZOFFSETFROM:-0400
TZOFFSETTO:-0500
TZNAME:EST
DTSTART:20251102T060000
END:STANDARD
END:VTIMEZONE
BEGIN:VEVENT
DTSTART;TZID=America/New_York:20240319T180000
DTEND;TZID=America/New_York:20240319T190000
DTSTAMP:20260421T155905
CREATED:20231005T222337Z
LAST-MODIFIED:20240105T204859Z
UID:10005689-1710871200-1710874800@htlc-anderson.org
SUMMARY:6 PM WOMEN’S BIBLE STUDY GROUP
DESCRIPTION:WOMEN’S BIBLE STUDY GROUP: COMING THIS FALL!\nThis fall on November 7th\, 2023 the women of HTLC will begin meeting on Tuesday evenings from 6:00-7:00 p.m. to join together in studying the Bible! This Women’s Bible Study group is open to women of all ages\, members and non-members\, and is intended to be an informal setting in which the women of our congregation can come together in discipleship to learn\nabout the joys our Lord has brought to us through His Word! No prior “experience” or formal bible study “training” is required! All women are encouraged to attend as you are able.\n\nThis group will begin with looking into the ways in which we approach Bible Study and how to make sure we are getting the most from our time spent with God’s Word. After that we will dive right in to some New Testament books and begin utilizing our new skills to discuss the knowledge the Lord reveals to us through our studies! \nFor more information or to sign up for email alerts regarding the start of our Women’s Bible Study group\, please contact Lauren Guthre at leguthre@yahoo.com OR send a text or call (215) 589-9647. We hope to see you there!
URL:https://htlc-anderson.org/event/6-pm-womens-bible-study-group/2024-03-19/
END:VEVENT
BEGIN:VEVENT
DTSTART;TZID=America/New_York:20240319T183000
DTEND;TZID=America/New_York:20240319T193000
DTSTAMP:20260421T155905
CREATED:20160912T020946Z
LAST-MODIFIED:20190124T032056Z
UID:10001038-1710873000-1710876600@htlc-anderson.org
SUMMARY:WELCA - Katie's Ladies
DESCRIPTION:Meet in the Office Conference Room on the 3rd Tuesday of each month
URL:https://htlc-anderson.org/event/welca-katies-ladies-2016-10-11/2024-03-19/
LOCATION:Office Conference Room\, 209 Broad St.\, Anderson\, SC\, 29621\, United States
GEO:34.5166123;-82.6520772
X-APPLE-STRUCTURED-LOCATION;VALUE=URI;X-ADDRESS=Office Conference Room 209 Broad St. Anderson SC 29621 United States;X-APPLE-RADIUS=500;X-TITLE=209 Broad St.:geo:-82.6520772,34.5166123
END:VEVENT
BEGIN:VEVENT
DTSTART;TZID=America/New_York:20240319T193000
DTEND;TZID=America/New_York:20240319T203000
DTSTAMP:20260421T155905
CREATED:20240217T171923Z
LAST-MODIFIED:20240217T171923Z
UID:10006021-1710876600-1710880200@htlc-anderson.org
SUMMARY:7:30PM Choral Evensong
DESCRIPTION:MARK YOUR CALENDARS\nWHAT: Choral Evensong\nWHEN: Tuesday\, March 19 7:30 p.m.\nWHERE: Holy Trinity Lutheran Church – sanctuary\n\nThe Anderson University Music Students and the Church of the Ascension\, Anglican Church will be using our sanctuary for this special event. Evensong is a church service traditionally held near sunset focused on singing the psalms and other biblical canticles. It is loosely based on the canonical hours of vespers and compline. Old English speakers translated the Latin word vesperis\, which became ‘evensong’ in modern English.
URL:https://htlc-anderson.org/event/730pm-choral-evensong/
LOCATION:Holy Trinity Lutheran Church\, 206 Broad Street\, Anderson\, SC\, 29621\, United States
GEO:34.516162;-82.651917
X-APPLE-STRUCTURED-LOCATION;VALUE=URI;X-ADDRESS=Holy Trinity Lutheran Church 206 Broad Street Anderson SC 29621 United States;X-APPLE-RADIUS=500;X-TITLE=206 Broad Street:geo:-82.651917,34.516162
END:VEVENT
END:VCALENDAR