BEGIN:VCALENDAR
VERSION:2.0
PRODID:-//HTLC - ECPv6.15.20//NONSGML v1.0//EN
CALSCALE:GREGORIAN
METHOD:PUBLISH
X-ORIGINAL-URL:https://htlc-anderson.org
X-WR-CALDESC:Events for HTLC
REFRESH-INTERVAL;VALUE=DURATION:PT1H
X-Robots-Tag:noindex
X-PUBLISHED-TTL:PT1H
BEGIN:VTIMEZONE
TZID:America/New_York
BEGIN:DAYLIGHT
TZOFFSETFROM:-0500
TZOFFSETTO:-0400
TZNAME:EDT
DTSTART:20220313T070000
END:DAYLIGHT
BEGIN:STANDARD
TZOFFSETFROM:-0400
TZOFFSETTO:-0500
TZNAME:EST
DTSTART:20221106T060000
END:STANDARD
BEGIN:DAYLIGHT
TZOFFSETFROM:-0500
TZOFFSETTO:-0400
TZNAME:EDT
DTSTART:20230312T070000
END:DAYLIGHT
BEGIN:STANDARD
TZOFFSETFROM:-0400
TZOFFSETTO:-0500
TZNAME:EST
DTSTART:20231105T060000
END:STANDARD
BEGIN:DAYLIGHT
TZOFFSETFROM:-0500
TZOFFSETTO:-0400
TZNAME:EDT
DTSTART:20240310T070000
END:DAYLIGHT
BEGIN:STANDARD
TZOFFSETFROM:-0400
TZOFFSETTO:-0500
TZNAME:EST
DTSTART:20241103T060000
END:STANDARD
END:VTIMEZONE
BEGIN:VEVENT
DTSTART;VALUE=DATE:20230616
DTEND;VALUE=DATE:20230617
DTSTAMP:20260421T031746
CREATED:20220912T003052Z
LAST-MODIFIED:20220912T003052Z
UID:10003059-1686873600-1686959999@htlc-anderson.org
SUMMARY:Church Office Closed
DESCRIPTION:Office Closed   Pastors Day off
URL:https://htlc-anderson.org/event/church-office-closed/2023-06-16/
LOCATION:Holy Trinity Lutheran Church\, 206 Broad Street\, Anderson\, SC\, 29621\, United States
GEO:34.516162;-82.651917
X-APPLE-STRUCTURED-LOCATION;VALUE=URI;X-ADDRESS=Holy Trinity Lutheran Church 206 Broad Street Anderson SC 29621 United States;X-APPLE-RADIUS=500;X-TITLE=206 Broad Street:geo:-82.651917,34.516162
END:VEVENT
BEGIN:VEVENT
DTSTART;TZID=America/New_York:20230616T090000
DTEND;TZID=America/New_York:20230616T090000
DTSTAMP:20260421T031746
CREATED:20230421T153927Z
LAST-MODIFIED:20230421T153927Z
UID:10003967-1686906000-1686906000@htlc-anderson.org
SUMMARY:Vacation Bible School
DESCRIPTION:Vacation Bible School\nThis year Holy Trinity will be joining forces with Abiding Savior Lutheran Church for our children’s VBS program.\nVBS classes will take place at Abiding Savior.\nChildren ages 3 – 5th grade are invited to come join us during the week of June 12th – 16th from\n9-11:30 a.m. Friday will be slightly longer to allow time needed for the closing program and lunch with the extended families.\nThe stories this year will include God Rescues Noah\, God Gives the Commandments\, Jesus Calls His Disciples\, Jesus Heals\nthe 10 Lepers and Jesus Visits His Disciples.\nIf you have neighbors or your children have friends\, that would like to venture into the rainforest with us\, invite them!!\nWe do need all children to register with Abiding Savior using the link below to ensure there is enough adult supervision and supplies for everyone!\nPlease go online to register:\nhttps://vbsmate.com/AbidingSaviorLutheranChurchAndersonSouthCarolina
URL:https://htlc-anderson.org/event/vacation-bible-school/2023-06-16/
END:VEVENT
END:VCALENDAR