BEGIN:VCALENDAR
VERSION:2.0
PRODID:-//HTLC - ECPv6.15.20//NONSGML v1.0//EN
CALSCALE:GREGORIAN
METHOD:PUBLISH
X-WR-CALNAME:HTLC
X-ORIGINAL-URL:https://htlc-anderson.org
X-WR-CALDESC:Events for HTLC
REFRESH-INTERVAL;VALUE=DURATION:PT1H
X-Robots-Tag:noindex
X-PUBLISHED-TTL:PT1H
BEGIN:VTIMEZONE
TZID:America/New_York
BEGIN:DAYLIGHT
TZOFFSETFROM:-0500
TZOFFSETTO:-0400
TZNAME:EDT
DTSTART:20220313T070000
END:DAYLIGHT
BEGIN:STANDARD
TZOFFSETFROM:-0400
TZOFFSETTO:-0500
TZNAME:EST
DTSTART:20221106T060000
END:STANDARD
BEGIN:DAYLIGHT
TZOFFSETFROM:-0500
TZOFFSETTO:-0400
TZNAME:EDT
DTSTART:20230312T070000
END:DAYLIGHT
BEGIN:STANDARD
TZOFFSETFROM:-0400
TZOFFSETTO:-0500
TZNAME:EST
DTSTART:20231105T060000
END:STANDARD
BEGIN:DAYLIGHT
TZOFFSETFROM:-0500
TZOFFSETTO:-0400
TZNAME:EDT
DTSTART:20240310T070000
END:DAYLIGHT
BEGIN:STANDARD
TZOFFSETFROM:-0400
TZOFFSETTO:-0500
TZNAME:EST
DTSTART:20241103T060000
END:STANDARD
END:VTIMEZONE
BEGIN:VEVENT
DTSTART;TZID=America/New_York:20230430T100000
DTEND;TZID=America/New_York:20230430T110000
DTSTAMP:20260422T030940
CREATED:20230421T154838Z
LAST-MODIFIED:20230421T154838Z
UID:10004012-1682848800-1682852400@htlc-anderson.org
SUMMARY:10AM YOUTH SUNDAY ONE COMBINED WORSHIP
DESCRIPTION:5th SUNDAY/YOUTH SUNDAY\nApril 30th\nONE COMBINED WORSHIP 10:00 a.m.\nThe Youth will be leading our worship service. Pastor Fischer will be\npreaching
URL:https://htlc-anderson.org/event/10am-youth-sunday-one-combined-worship/
LOCATION:Holy Trinity Lutheran Church\, 206 Broad Street\, Anderson\, SC\, 29621\, United States
GEO:34.516162;-82.651917
X-APPLE-STRUCTURED-LOCATION;VALUE=URI;X-ADDRESS=Holy Trinity Lutheran Church 206 Broad Street Anderson SC 29621 United States;X-APPLE-RADIUS=500;X-TITLE=206 Broad Street:geo:-82.651917,34.516162
END:VEVENT
BEGIN:VEVENT
DTSTART;TZID=America/New_York:20230430T110000
DTEND;TZID=America/New_York:20230430T120000
DTSTAMP:20260422T030940
CREATED:20230421T155007Z
LAST-MODIFIED:20230421T155007Z
UID:10004013-1682852400-1682856000@htlc-anderson.org
SUMMARY:11 AM Potluck Meal
DESCRIPTION:10 AM Worship Service FOLLOWED BY A POTLUCK MEAL\nPLEASE BRING A DISH TO SHARE
URL:https://htlc-anderson.org/event/11-am-potluck-meal/
LOCATION:HTLC Fellowship Hall\, 209 Broad St\, Anderson\, SC\, 29621\, United States
GEO:34.5166123;-82.6520772
X-APPLE-STRUCTURED-LOCATION;VALUE=URI;X-ADDRESS=HTLC Fellowship Hall 209 Broad St Anderson SC 29621 United States;X-APPLE-RADIUS=500;X-TITLE=209 Broad St:geo:-82.6520772,34.5166123
END:VEVENT
BEGIN:VEVENT
DTSTART;TZID=America/New_York:20230430T160000
DTEND;TZID=America/New_York:20230430T173000
DTSTAMP:20260422T030940
CREATED:20230107T193023Z
LAST-MODIFIED:20230929T224736Z
UID:10003600-1682870400-1682875800@htlc-anderson.org
SUMMARY:4PM Church of the Ascension (Anglican) Service
DESCRIPTION:Church of the Ascension (Anglican) will be using our sanctuary for worship
URL:https://htlc-anderson.org/event/4pm-church-of-the-ascension-anglican-service/2023-04-30/
LOCATION:Holy Trinity Lutheran Church\, 206 Broad Street\, Anderson\, SC\, 29621\, United States
GEO:34.516162;-82.651917
X-APPLE-STRUCTURED-LOCATION;VALUE=URI;X-ADDRESS=Holy Trinity Lutheran Church 206 Broad Street Anderson SC 29621 United States;X-APPLE-RADIUS=500;X-TITLE=206 Broad Street:geo:-82.651917,34.516162
END:VEVENT
END:VCALENDAR