BEGIN:VCALENDAR
VERSION:2.0
PRODID:-//HTLC - ECPv6.15.20//NONSGML v1.0//EN
CALSCALE:GREGORIAN
METHOD:PUBLISH
X-WR-CALNAME:HTLC
X-ORIGINAL-URL:https://htlc-anderson.org
X-WR-CALDESC:Events for HTLC
REFRESH-INTERVAL;VALUE=DURATION:PT1H
X-Robots-Tag:noindex
X-PUBLISHED-TTL:PT1H
BEGIN:VTIMEZONE
TZID:America/New_York
BEGIN:DAYLIGHT
TZOFFSETFROM:-0500
TZOFFSETTO:-0400
TZNAME:EDT
DTSTART:20220313T070000
END:DAYLIGHT
BEGIN:STANDARD
TZOFFSETFROM:-0400
TZOFFSETTO:-0500
TZNAME:EST
DTSTART:20221106T060000
END:STANDARD
BEGIN:DAYLIGHT
TZOFFSETFROM:-0500
TZOFFSETTO:-0400
TZNAME:EDT
DTSTART:20230312T070000
END:DAYLIGHT
BEGIN:STANDARD
TZOFFSETFROM:-0400
TZOFFSETTO:-0500
TZNAME:EST
DTSTART:20231105T060000
END:STANDARD
BEGIN:DAYLIGHT
TZOFFSETFROM:-0500
TZOFFSETTO:-0400
TZNAME:EDT
DTSTART:20240310T070000
END:DAYLIGHT
BEGIN:STANDARD
TZOFFSETFROM:-0400
TZOFFSETTO:-0500
TZNAME:EST
DTSTART:20241103T060000
END:STANDARD
END:VTIMEZONE
BEGIN:VEVENT
DTSTART;TZID=America/New_York:20230422T090000
DTEND;TZID=America/New_York:20230422T100000
DTSTAMP:20260422T030943
CREATED:20220912T003257Z
LAST-MODIFIED:20220912T003257Z
UID:10003131-1682154000-1682157600@htlc-anderson.org
SUMMARY:Quilters Meeting
DESCRIPTION:Quilters Meeting
URL:https://htlc-anderson.org/event/quilters-meeting/2023-04-22/
LOCATION:HTLC Fellowship Hall\, 209 Broad St\, Anderson\, SC\, 29621\, United States
GEO:34.5166123;-82.6520772
X-APPLE-STRUCTURED-LOCATION;VALUE=URI;X-ADDRESS=HTLC Fellowship Hall 209 Broad St Anderson SC 29621 United States;X-APPLE-RADIUS=500;X-TITLE=209 Broad St:geo:-82.6520772,34.5166123
END:VEVENT
BEGIN:VEVENT
DTSTART;TZID=America/New_York:20230422T100000
DTEND;TZID=America/New_York:20230422T123000
DTSTAMP:20260422T030943
CREATED:20230218T030634Z
LAST-MODIFIED:20230218T030634Z
UID:10003862-1682157600-1682166600@htlc-anderson.org
SUMMARY:10AM WELCA Spring Foothills Conference
DESCRIPTION:Holy Trinity Lutheran Church will be hosting the WELCA Spring Foothills Conference in our Fellowship Hall on April 22\, 2023 (10:00 am to 12:30 pm).  Jane Cahaly will be our guest speaker\, so in case you missed it before\, come to hear her presentation on the Salt & Light Ministries.  All women of the church are welcome to attend if you are in a circle group or not.  The two circle groups\, along with the WELCA board\, are busy planning this event and the theme will be “God’s Spring Blessings.”  A light continental breakfast as well as lunch will be served.  There is no charge for this event\, but the group does take up a freewill offering. \n    \nALL ladies of all ages are welcome to attend either (or both) circle groups.  Katie’s Ladies meet on the 2nd Tuesday morning each month at 10:00\, and Luther’s Ladies meet on the 3rd Thursday evening at 6:00.  Both meet in the office conference room.  Contact Beth Cribbe for questions about the morning group and Beth Fischer about the evening group.  Attending circle groups is a good way to get to know the ladies in our church and share God’s love.
URL:https://htlc-anderson.org/event/10am-welca-spring-foothills-conference/
LOCATION:HTLC Fellowship Hall\, 209 Broad St\, Anderson\, SC\, 29621\, United States
GEO:34.5166123;-82.6520772
X-APPLE-STRUCTURED-LOCATION;VALUE=URI;X-ADDRESS=HTLC Fellowship Hall 209 Broad St Anderson SC 29621 United States;X-APPLE-RADIUS=500;X-TITLE=209 Broad St:geo:-82.6520772,34.5166123
END:VEVENT
END:VCALENDAR