BEGIN:VCALENDAR
VERSION:2.0
PRODID:-//HTLC - ECPv6.15.20//NONSGML v1.0//EN
CALSCALE:GREGORIAN
METHOD:PUBLISH
X-WR-CALNAME:HTLC
X-ORIGINAL-URL:https://htlc-anderson.org
X-WR-CALDESC:Events for HTLC
REFRESH-INTERVAL;VALUE=DURATION:PT1H
X-Robots-Tag:noindex
X-PUBLISHED-TTL:PT1H
BEGIN:VTIMEZONE
TZID:America/New_York
BEGIN:DAYLIGHT
TZOFFSETFROM:-0500
TZOFFSETTO:-0400
TZNAME:EDT
DTSTART:20210314T070000
END:DAYLIGHT
BEGIN:STANDARD
TZOFFSETFROM:-0400
TZOFFSETTO:-0500
TZNAME:EST
DTSTART:20211107T060000
END:STANDARD
BEGIN:DAYLIGHT
TZOFFSETFROM:-0500
TZOFFSETTO:-0400
TZNAME:EDT
DTSTART:20220313T070000
END:DAYLIGHT
BEGIN:STANDARD
TZOFFSETFROM:-0400
TZOFFSETTO:-0500
TZNAME:EST
DTSTART:20221106T060000
END:STANDARD
BEGIN:DAYLIGHT
TZOFFSETFROM:-0500
TZOFFSETTO:-0400
TZNAME:EDT
DTSTART:20230312T070000
END:DAYLIGHT
BEGIN:STANDARD
TZOFFSETFROM:-0400
TZOFFSETTO:-0500
TZNAME:EST
DTSTART:20231105T060000
END:STANDARD
END:VTIMEZONE
BEGIN:VEVENT
DTSTART;TZID=America/New_York:20220914T100000
DTEND;TZID=America/New_York:20220914T110000
DTSTAMP:20260423T013043
CREATED:20220912T002858Z
LAST-MODIFIED:20220912T002858Z
UID:10002914-1663149600-1663153200@htlc-anderson.org
SUMMARY:10AM T.O.P.S. meeting
DESCRIPTION:TOPS (Taking off pounds sensibly) \n 
URL:https://htlc-anderson.org/event/10am-t-o-p-s-meeting/2022-09-14/
LOCATION:Pairs and Spares Classroom\, 209 Broad St.\, Anderson\, SC\, 29621\, United States
GEO:34.5166123;-82.6520772
X-APPLE-STRUCTURED-LOCATION;VALUE=URI;X-ADDRESS=Pairs and Spares Classroom 209 Broad St. Anderson SC 29621 United States;X-APPLE-RADIUS=500;X-TITLE=209 Broad St.:geo:-82.6520772,34.5166123
END:VEVENT
BEGIN:VEVENT
DTSTART;TZID=America/New_York:20220914T173000
DTEND;TZID=America/New_York:20220914T190000
DTSTAMP:20260423T013043
CREATED:20220911T172513Z
LAST-MODIFIED:20220911T172513Z
UID:10002524-1663176600-1663182000@htlc-anderson.org
SUMMARY:5:30PM Family Fun Night
DESCRIPTION:FAMILY FUN NIGHT\nNote the new time: 5:30 p.m. – 7:00 p.m.\nWe are asking for only a commitment of one evening each month as we gather in Fellowship\nHall for a time of Food\, Fun & Fellowship around a Biblical theme. This is for all ages\n– children\, youth and adults. There will be crafts\, games\, and song. The meal will be\nprovided.\nWHEN: Wednesday\, September 14\nADAM & EVE – TEMPTATION
URL:https://htlc-anderson.org/event/530pm-family-fun-night/
LOCATION:HTLC Fellowship Hall\, 209 Broad St\, Anderson\, SC\, 29621\, United States
GEO:34.5166123;-82.6520772
X-APPLE-STRUCTURED-LOCATION;VALUE=URI;X-ADDRESS=HTLC Fellowship Hall 209 Broad St Anderson SC 29621 United States;X-APPLE-RADIUS=500;X-TITLE=209 Broad St:geo:-82.6520772,34.5166123
END:VEVENT
BEGIN:VEVENT
DTSTART;TZID=America/New_York:20220914T193000
DTEND;TZID=America/New_York:20220914T210000
DTSTAMP:20260423T013043
CREATED:20170902T011029Z
LAST-MODIFIED:20200209T235848Z
UID:10001522-1663183800-1663189200@htlc-anderson.org
SUMMARY:7:30PM  Late Service Choir Practice
DESCRIPTION:Late Service Choir Practice
URL:https://htlc-anderson.org/event/730pm-late-service-choir-practice/2022-09-14/
END:VEVENT
END:VCALENDAR