BEGIN:VCALENDAR
VERSION:2.0
PRODID:-//HTLC - ECPv6.15.20//NONSGML v1.0//EN
CALSCALE:GREGORIAN
METHOD:PUBLISH
X-WR-CALNAME:HTLC
X-ORIGINAL-URL:https://htlc-anderson.org
X-WR-CALDESC:Events for HTLC
REFRESH-INTERVAL;VALUE=DURATION:PT1H
X-Robots-Tag:noindex
X-PUBLISHED-TTL:PT1H
BEGIN:VTIMEZONE
TZID:America/New_York
BEGIN:DAYLIGHT
TZOFFSETFROM:-0500
TZOFFSETTO:-0400
TZNAME:EDT
DTSTART:20210314T070000
END:DAYLIGHT
BEGIN:STANDARD
TZOFFSETFROM:-0400
TZOFFSETTO:-0500
TZNAME:EST
DTSTART:20211107T060000
END:STANDARD
BEGIN:DAYLIGHT
TZOFFSETFROM:-0500
TZOFFSETTO:-0400
TZNAME:EDT
DTSTART:20220313T070000
END:DAYLIGHT
BEGIN:STANDARD
TZOFFSETFROM:-0400
TZOFFSETTO:-0500
TZNAME:EST
DTSTART:20221106T060000
END:STANDARD
BEGIN:DAYLIGHT
TZOFFSETFROM:-0500
TZOFFSETTO:-0400
TZNAME:EDT
DTSTART:20230312T070000
END:DAYLIGHT
BEGIN:STANDARD
TZOFFSETFROM:-0400
TZOFFSETTO:-0500
TZNAME:EST
DTSTART:20231105T060000
END:STANDARD
END:VTIMEZONE
BEGIN:VEVENT
DTSTART;VALUE=DATE:20220417
DTEND;VALUE=DATE:20220418
DTSTAMP:20260422T002322
CREATED:20220220T155420Z
LAST-MODIFIED:20220220T155420Z
UID:10002480-1650153600-1650239999@htlc-anderson.org
SUMMARY:Easter Sunday
DESCRIPTION:Easter Sunday
URL:https://htlc-anderson.org/event/easter-sunday-6/
ATTACH;FMTTYPE=image/jpeg:https://htlc-anderson.org/wp-content/uploads/2019/11/Easter-2008-024-Large.jpg
END:VEVENT
BEGIN:VEVENT
DTSTART;TZID=America/New_York:20220417T070000
DTEND;TZID=America/New_York:20220417T080000
DTSTAMP:20260422T002322
CREATED:20200611T013745Z
LAST-MODIFIED:20220220T234527Z
UID:10002260-1650178800-1650182400@htlc-anderson.org
SUMMARY:7 AM Easter Sunrise Service
DESCRIPTION:7AM Easter Sunrise service
URL:https://htlc-anderson.org/event/845-am-early-worship-service-2021-01-17-2022-04-17/
LOCATION:Holy Trinity Lutheran Church\, 206 Broad Street\, Anderson\, SC\, 29621\, United States
GEO:34.516162;-82.651917
X-APPLE-STRUCTURED-LOCATION;VALUE=URI;X-ADDRESS=Holy Trinity Lutheran Church 206 Broad Street Anderson SC 29621 United States;X-APPLE-RADIUS=500;X-TITLE=206 Broad Street:geo:-82.651917,34.516162
END:VEVENT
BEGIN:VEVENT
DTSTART;TZID=America/New_York:20220417T090000
DTEND;TZID=America/New_York:20220417T100000
DTSTAMP:20260422T002322
CREATED:20220220T235400Z
LAST-MODIFIED:20220220T235400Z
UID:10002498-1650186000-1650189600@htlc-anderson.org
SUMMARY:9AM Easter Service
DESCRIPTION:
URL:https://htlc-anderson.org/event/9am-easter-service-2/
LOCATION:Holy Trinity Lutheran Church\, 206 Broad Street\, Anderson\, SC\, 29621\, United States
GEO:34.516162;-82.651917
X-APPLE-STRUCTURED-LOCATION;VALUE=URI;X-ADDRESS=Holy Trinity Lutheran Church 206 Broad Street Anderson SC 29621 United States;X-APPLE-RADIUS=500;X-TITLE=206 Broad Street:geo:-82.651917,34.516162
END:VEVENT
BEGIN:VEVENT
DTSTART;TZID=America/New_York:20220417T110000
DTEND;TZID=America/New_York:20220417T120000
DTSTAMP:20260422T002322
CREATED:20200611T013906Z
LAST-MODIFIED:20220220T234811Z
UID:10002264-1650193200-1650196800@htlc-anderson.org
SUMMARY:11AM Easter Service
DESCRIPTION:
URL:https://htlc-anderson.org/event/11am-late-worship-service-2022-04-17/
LOCATION:HTLC Fellowship Hall\, 209 Broad St\, Anderson\, SC\, 29621\, United States
GEO:34.5166123;-82.6520772
X-APPLE-STRUCTURED-LOCATION;VALUE=URI;X-ADDRESS=HTLC Fellowship Hall 209 Broad St Anderson SC 29621 United States;X-APPLE-RADIUS=500;X-TITLE=209 Broad St:geo:-82.6520772,34.5166123
END:VEVENT
END:VCALENDAR