BEGIN:VCALENDAR
VERSION:2.0
PRODID:-//HTLC - ECPv6.15.20//NONSGML v1.0//EN
CALSCALE:GREGORIAN
METHOD:PUBLISH
X-ORIGINAL-URL:https://htlc-anderson.org
X-WR-CALDESC:Events for HTLC
REFRESH-INTERVAL;VALUE=DURATION:PT1H
X-Robots-Tag:noindex
X-PUBLISHED-TTL:PT1H
BEGIN:VTIMEZONE
TZID:America/New_York
BEGIN:DAYLIGHT
TZOFFSETFROM:-0500
TZOFFSETTO:-0400
TZNAME:EDT
DTSTART:20210314T070000
END:DAYLIGHT
BEGIN:STANDARD
TZOFFSETFROM:-0400
TZOFFSETTO:-0500
TZNAME:EST
DTSTART:20211107T060000
END:STANDARD
BEGIN:DAYLIGHT
TZOFFSETFROM:-0500
TZOFFSETTO:-0400
TZNAME:EDT
DTSTART:20220313T070000
END:DAYLIGHT
BEGIN:STANDARD
TZOFFSETFROM:-0400
TZOFFSETTO:-0500
TZNAME:EST
DTSTART:20221106T060000
END:STANDARD
BEGIN:DAYLIGHT
TZOFFSETFROM:-0500
TZOFFSETTO:-0400
TZNAME:EDT
DTSTART:20230312T070000
END:DAYLIGHT
BEGIN:STANDARD
TZOFFSETFROM:-0400
TZOFFSETTO:-0500
TZNAME:EST
DTSTART:20231105T060000
END:STANDARD
END:VTIMEZONE
BEGIN:VEVENT
DTSTART;TZID=America/New_York:20220228T183000
DTEND;TZID=America/New_York:20220228T193000
DTSTAMP:20260423T060206
CREATED:20220206T154438Z
LAST-MODIFIED:20220206T154438Z
UID:10002475-1646073000-1646076600@htlc-anderson.org
SUMMARY:6:30 PM LUTHERAN MEN IN MISSION
DESCRIPTION:LUTHERAN MEN IN MISSION \nIn–person Meeting February 28th at 6:30 p.m. In Fellowship Hall. No supper provided.\nThis meeting will also be held via Zoom.
URL:https://htlc-anderson.org/event/630-pm-lutheran-men-in-mission-3/
LOCATION:HTLC Fellowship Hall\, 209 Broad St\, Anderson\, SC\, 29621\, United States
GEO:34.5166123;-82.6520772
X-APPLE-STRUCTURED-LOCATION;VALUE=URI;X-ADDRESS=HTLC Fellowship Hall 209 Broad St Anderson SC 29621 United States;X-APPLE-RADIUS=500;X-TITLE=209 Broad St:geo:-82.6520772,34.5166123
END:VEVENT
END:VCALENDAR