BEGIN:VCALENDAR
VERSION:2.0
PRODID:-//HTLC - ECPv6.15.20//NONSGML v1.0//EN
CALSCALE:GREGORIAN
METHOD:PUBLISH
X-ORIGINAL-URL:https://htlc-anderson.org
X-WR-CALDESC:Events for HTLC
REFRESH-INTERVAL;VALUE=DURATION:PT1H
X-Robots-Tag:noindex
X-PUBLISHED-TTL:PT1H
BEGIN:VTIMEZONE
TZID:America/New_York
BEGIN:DAYLIGHT
TZOFFSETFROM:-0500
TZOFFSETTO:-0400
TZNAME:EDT
DTSTART:20200308T070000
END:DAYLIGHT
BEGIN:STANDARD
TZOFFSETFROM:-0400
TZOFFSETTO:-0500
TZNAME:EST
DTSTART:20201101T060000
END:STANDARD
BEGIN:DAYLIGHT
TZOFFSETFROM:-0500
TZOFFSETTO:-0400
TZNAME:EDT
DTSTART:20210314T070000
END:DAYLIGHT
BEGIN:STANDARD
TZOFFSETFROM:-0400
TZOFFSETTO:-0500
TZNAME:EST
DTSTART:20211107T060000
END:STANDARD
BEGIN:DAYLIGHT
TZOFFSETFROM:-0500
TZOFFSETTO:-0400
TZNAME:EDT
DTSTART:20220313T070000
END:DAYLIGHT
BEGIN:STANDARD
TZOFFSETFROM:-0400
TZOFFSETTO:-0500
TZNAME:EST
DTSTART:20221106T060000
END:STANDARD
END:VTIMEZONE
BEGIN:VEVENT
DTSTART;VALUE=DATE:20210217
DTEND;VALUE=DATE:20210218
DTSTAMP:20260420T013354
CREATED:20210207T152239Z
LAST-MODIFIED:20210207T152239Z
UID:10002393-1613520000-1613606399@htlc-anderson.org
SUMMARY:Ash Wednesday
DESCRIPTION:
URL:https://htlc-anderson.org/event/ash-wednesday-3/
END:VEVENT
BEGIN:VEVENT
DTSTART;TZID=America/New_York:20210217T100000
DTEND;TZID=America/New_York:20210217T110000
DTSTAMP:20260420T013354
CREATED:20160728T151229Z
LAST-MODIFIED:20220901T012722Z
UID:10000133-1613556000-1613559600@htlc-anderson.org
SUMMARY:10 AM Kiwanis "Golden K" meeting
DESCRIPTION:
URL:https://htlc-anderson.org/event/kiwanis-golden-k-meeting-2018-08-08/2021-02-17/
LOCATION:HTLC Fellowship Hall\, 209 Broad St\, Anderson\, SC\, 29621\, United States
ATTACH;FMTTYPE=image/png:https://htlc-anderson.org/wp-content/uploads/2016/07/kiwanis-logo.png
GEO:34.5166123;-82.6520772
X-APPLE-STRUCTURED-LOCATION;VALUE=URI;X-ADDRESS=HTLC Fellowship Hall 209 Broad St Anderson SC 29621 United States;X-APPLE-RADIUS=500;X-TITLE=209 Broad St:geo:-82.6520772,34.5166123
END:VEVENT
BEGIN:VEVENT
DTSTART;TZID=America/New_York:20210217T120000
DTEND;TZID=America/New_York:20210217T130000
DTSTAMP:20260420T013354
CREATED:20210207T151036Z
LAST-MODIFIED:20210207T151036Z
UID:10002379-1613563200-1613566800@htlc-anderson.org
SUMMARY:12 noon Ash Wednesday
DESCRIPTION:Both Ash Wednesday Services will be identical \nWe will be observing the Imposition of Ashes on February 17. Because of the coronavirus\, members\nof the Worship and Music Committee have been discussing ways to do this in a safe manner. The\nRite of the Imposition of Ashes will be similar to what we have done in the past with a few\nmodifications.  \n 
URL:https://htlc-anderson.org/event/12-noon-ash-wednesday/
LOCATION:Holy Trinity Lutheran Church\, 206 Broad Street\, Anderson\, SC\, 29621\, United States
GEO:34.516162;-82.651917
X-APPLE-STRUCTURED-LOCATION;VALUE=URI;X-ADDRESS=Holy Trinity Lutheran Church 206 Broad Street Anderson SC 29621 United States;X-APPLE-RADIUS=500;X-TITLE=206 Broad Street:geo:-82.651917,34.516162
END:VEVENT
BEGIN:VEVENT
DTSTART;TZID=America/New_York:20210217T190000
DTEND;TZID=America/New_York:20210217T200000
DTSTAMP:20260420T013354
CREATED:20210207T151156Z
LAST-MODIFIED:20210207T151156Z
UID:10002380-1613588400-1613592000@htlc-anderson.org
SUMMARY:7PM Ash Wednesday
DESCRIPTION:Both Ash Wednesday Services will be identical. \nWe will be observing the Imposition of Ashes on February 17. Because of the coronavirus\, members\nof the Worship and Music Committee have been discussing ways to do this in a safe manner. The\nRite of the Imposition of Ashes will be similar to what we have done in the past with a few\nmodifications.
URL:https://htlc-anderson.org/event/7pm-ash-wednesday/
LOCATION:Holy Trinity Lutheran Church\, 206 Broad Street\, Anderson\, SC\, 29621\, United States
GEO:34.516162;-82.651917
X-APPLE-STRUCTURED-LOCATION;VALUE=URI;X-ADDRESS=Holy Trinity Lutheran Church 206 Broad Street Anderson SC 29621 United States;X-APPLE-RADIUS=500;X-TITLE=206 Broad Street:geo:-82.651917,34.516162
END:VEVENT
BEGIN:VEVENT
DTSTART;TZID=America/New_York:20210217T193000
DTEND;TZID=America/New_York:20210217T210000
DTSTAMP:20260420T013354
CREATED:20170902T011029Z
LAST-MODIFIED:20200209T235848Z
UID:10001440-1613590200-1613595600@htlc-anderson.org
SUMMARY:7:30PM  Late Service Choir Practice
DESCRIPTION:Late Service Choir Practice
URL:https://htlc-anderson.org/event/730pm-late-service-choir-practice/2021-02-17/
END:VEVENT
END:VCALENDAR