BEGIN:VCALENDAR
VERSION:2.0
PRODID:-//HTLC - ECPv6.15.20//NONSGML v1.0//EN
CALSCALE:GREGORIAN
METHOD:PUBLISH
X-ORIGINAL-URL:https://htlc-anderson.org
X-WR-CALDESC:Events for HTLC
REFRESH-INTERVAL;VALUE=DURATION:PT1H
X-Robots-Tag:noindex
X-PUBLISHED-TTL:PT1H
BEGIN:VTIMEZONE
TZID:America/New_York
BEGIN:DAYLIGHT
TZOFFSETFROM:-0500
TZOFFSETTO:-0400
TZNAME:EDT
DTSTART:20200308T070000
END:DAYLIGHT
BEGIN:STANDARD
TZOFFSETFROM:-0400
TZOFFSETTO:-0500
TZNAME:EST
DTSTART:20201101T060000
END:STANDARD
BEGIN:DAYLIGHT
TZOFFSETFROM:-0500
TZOFFSETTO:-0400
TZNAME:EDT
DTSTART:20210314T070000
END:DAYLIGHT
BEGIN:STANDARD
TZOFFSETFROM:-0400
TZOFFSETTO:-0500
TZNAME:EST
DTSTART:20211107T060000
END:STANDARD
BEGIN:DAYLIGHT
TZOFFSETFROM:-0500
TZOFFSETTO:-0400
TZNAME:EDT
DTSTART:20220313T070000
END:DAYLIGHT
BEGIN:STANDARD
TZOFFSETFROM:-0400
TZOFFSETTO:-0500
TZNAME:EST
DTSTART:20221106T060000
END:STANDARD
END:VTIMEZONE
BEGIN:VEVENT
DTSTART;TZID=America/New_York:20210214T140000
DTEND;TZID=America/New_York:20210214T150000
DTSTAMP:20260420T013423
CREATED:20210207T153151Z
LAST-MODIFIED:20210207T153151Z
UID:10002398-1613311200-1613314800@htlc-anderson.org
SUMMARY:2PM Congregational Meeting
DESCRIPTION:CONGREGATIONAL MEETING\nYou are invited to attend the congregational meeting on February 14th\, which will be held using\nZoom video conferencing in lieu of a face-to-face meeting\, due to the coronavirus pandemic. The\nmeeting will be open to join at 1:40 PM allowing everyone ample time to get their audio and video\nconnected before the start of the meeting. The meeting will begin promptly at 2:00 PM and will\nconclude by 3:00 PM. All attendees will be muted when they join the meeting and we ask that you\nstay muted to prevent background noise from interfering with the speaker.\n\nTo join the congregational meeting\, type the following string of characters into address bar of your\nweb browser:\n\nhttps://us02web.zoom.us/j/82248131728\n\nFollow the prompts and provide the meeting passcode when requested. The passcode\nis: HTLCFEB14\n\nAlternatively\, you can start the Zoom application on your computer or tablet and enter the Meeting ID\nand passcode below when prompted.\n\nMeeting ID: 822 4813 1728\nPasscode: HTLCFEB14\n\nThe Zoom app can be installed on your computer by going to https://zoom.us/\nand at the bottom of the page you will see a column labeled ‘Download’ and clicking on ‘Meetings\nClient’ will install the application on your computer. You can install the application on your tablet by\ngoing to the Apple or Google app store. Lastly\, please make certain your Zoom app is current.\nIf you have technical questions\, feel free to contact Mike Cox — Cell: 301-788-8420 or e-mail:\nsalzburg1951@gmail.com
URL:https://htlc-anderson.org/event/2pm-congregational-meeting/
END:VEVENT
END:VCALENDAR