BEGIN:VCALENDAR
VERSION:2.0
PRODID:-//HTLC - ECPv6.15.20//NONSGML v1.0//EN
CALSCALE:GREGORIAN
METHOD:PUBLISH
X-ORIGINAL-URL:https://htlc-anderson.org
X-WR-CALDESC:Events for HTLC
REFRESH-INTERVAL;VALUE=DURATION:PT1H
X-Robots-Tag:noindex
X-PUBLISHED-TTL:PT1H
BEGIN:VTIMEZONE
TZID:America/New_York
BEGIN:DAYLIGHT
TZOFFSETFROM:-0500
TZOFFSETTO:-0400
TZNAME:EDT
DTSTART:20190310T070000
END:DAYLIGHT
BEGIN:STANDARD
TZOFFSETFROM:-0400
TZOFFSETTO:-0500
TZNAME:EST
DTSTART:20191103T060000
END:STANDARD
BEGIN:DAYLIGHT
TZOFFSETFROM:-0500
TZOFFSETTO:-0400
TZNAME:EDT
DTSTART:20200308T070000
END:DAYLIGHT
BEGIN:STANDARD
TZOFFSETFROM:-0400
TZOFFSETTO:-0500
TZNAME:EST
DTSTART:20201101T060000
END:STANDARD
BEGIN:DAYLIGHT
TZOFFSETFROM:-0500
TZOFFSETTO:-0400
TZNAME:EDT
DTSTART:20210314T070000
END:DAYLIGHT
BEGIN:STANDARD
TZOFFSETFROM:-0400
TZOFFSETTO:-0500
TZNAME:EST
DTSTART:20211107T060000
END:STANDARD
END:VTIMEZONE
BEGIN:VEVENT
DTSTART;TZID=America/New_York:20201216T100000
DTEND;TZID=America/New_York:20201216T110000
DTSTAMP:20260421T220748
CREATED:20160728T151229Z
LAST-MODIFIED:20220901T012722Z
UID:10000124-1608112800-1608116400@htlc-anderson.org
SUMMARY:10 AM Kiwanis "Golden K" meeting
DESCRIPTION:
URL:https://htlc-anderson.org/event/kiwanis-golden-k-meeting-2018-08-08/2020-12-16/
LOCATION:HTLC Fellowship Hall\, 209 Broad St\, Anderson\, SC\, 29621\, United States
ATTACH;FMTTYPE=image/png:https://htlc-anderson.org/wp-content/uploads/2016/07/kiwanis-logo.png
GEO:34.5166123;-82.6520772
X-APPLE-STRUCTURED-LOCATION;VALUE=URI;X-ADDRESS=HTLC Fellowship Hall 209 Broad St Anderson SC 29621 United States;X-APPLE-RADIUS=500;X-TITLE=209 Broad St:geo:-82.6520772,34.5166123
END:VEVENT
BEGIN:VEVENT
DTSTART;TZID=America/New_York:20201216T100000
DTEND;TZID=America/New_York:20201216T110000
DTSTAMP:20260421T220748
CREATED:20200619T014137Z
LAST-MODIFIED:20201206T210840Z
UID:10002345-1608112800-1608116400@htlc-anderson.org
SUMMARY:TOPS meeting
DESCRIPTION:Weekly TOPS meeting in the Pairs and Spares classroom
URL:https://htlc-anderson.org/event/tops-meeting-2020-12-16/
LOCATION:Pairs and Spares Classroom\, 209 Broad St.\, Anderson\, SC\, 29621\, United States
GEO:34.5166123;-82.6520772
X-APPLE-STRUCTURED-LOCATION;VALUE=URI;X-ADDRESS=Pairs and Spares Classroom 209 Broad St. Anderson SC 29621 United States;X-APPLE-RADIUS=500;X-TITLE=209 Broad St.:geo:-82.6520772,34.5166123
END:VEVENT
BEGIN:VEVENT
DTSTART;TZID=America/New_York:20201216T190000
DTEND;TZID=America/New_York:20201216T200000
DTSTAMP:20260421T220748
CREATED:20201108T161215Z
LAST-MODIFIED:20201108T161215Z
UID:10002367-1608145200-1608148800@htlc-anderson.org
SUMMARY:Advent Mid-Week Service
DESCRIPTION:Advent Services\nWe will still have our three Mid-Week Advent Services this year with a few\nmodifications in the worship. Services will begin at 7:00 PM each evening on\nDecember 2\, 9\, and 16. We will be using the Service of the Word (not our\ntraditional Holden Evening Prayer) to eliminate congregational singing. There will\nnot be any Advent meals preceding the services. These services will be recorded.
URL:https://htlc-anderson.org/event/advent-mid-week-service/2020-12-16/
LOCATION:Holy Trinity Lutheran Church\, 206 Broad Street\, Anderson\, SC\, 29621\, United States
GEO:34.516162;-82.651917
X-APPLE-STRUCTURED-LOCATION;VALUE=URI;X-ADDRESS=Holy Trinity Lutheran Church 206 Broad Street Anderson SC 29621 United States;X-APPLE-RADIUS=500;X-TITLE=206 Broad Street:geo:-82.651917,34.516162
END:VEVENT
BEGIN:VEVENT
DTSTART;TZID=America/New_York:20201216T193000
DTEND;TZID=America/New_York:20201216T210000
DTSTAMP:20260421T220748
CREATED:20170902T011029Z
LAST-MODIFIED:20200209T235848Z
UID:10001431-1608147000-1608152400@htlc-anderson.org
SUMMARY:7:30PM  Late Service Choir Practice
DESCRIPTION:Late Service Choir Practice
URL:https://htlc-anderson.org/event/730pm-late-service-choir-practice/2020-12-16/
END:VEVENT
END:VCALENDAR