BEGIN:VCALENDAR
VERSION:2.0
PRODID:-//HTLC - ECPv6.15.20//NONSGML v1.0//EN
CALSCALE:GREGORIAN
METHOD:PUBLISH
X-WR-CALNAME:HTLC
X-ORIGINAL-URL:https://htlc-anderson.org
X-WR-CALDESC:Events for HTLC
REFRESH-INTERVAL;VALUE=DURATION:PT1H
X-Robots-Tag:noindex
X-PUBLISHED-TTL:PT1H
BEGIN:VTIMEZONE
TZID:America/New_York
BEGIN:DAYLIGHT
TZOFFSETFROM:-0500
TZOFFSETTO:-0400
TZNAME:EDT
DTSTART:20190310T070000
END:DAYLIGHT
BEGIN:STANDARD
TZOFFSETFROM:-0400
TZOFFSETTO:-0500
TZNAME:EST
DTSTART:20191103T060000
END:STANDARD
BEGIN:DAYLIGHT
TZOFFSETFROM:-0500
TZOFFSETTO:-0400
TZNAME:EDT
DTSTART:20200308T070000
END:DAYLIGHT
BEGIN:STANDARD
TZOFFSETFROM:-0400
TZOFFSETTO:-0500
TZNAME:EST
DTSTART:20201101T060000
END:STANDARD
BEGIN:DAYLIGHT
TZOFFSETFROM:-0500
TZOFFSETTO:-0400
TZNAME:EDT
DTSTART:20210314T070000
END:DAYLIGHT
BEGIN:STANDARD
TZOFFSETFROM:-0400
TZOFFSETTO:-0500
TZNAME:EST
DTSTART:20211107T060000
END:STANDARD
END:VTIMEZONE
BEGIN:VEVENT
DTSTART;TZID=America/New_York:20201213T084500
DTEND;TZID=America/New_York:20201213T094500
DTSTAMP:20260421T221716
CREATED:20201108T161417Z
LAST-MODIFIED:20201108T161417Z
UID:10002368-1607849100-1607852700@htlc-anderson.org
SUMMARY:Congregational Christmas Pageant
DESCRIPTION:Our Christmas Pageant will still take place this year on\nSunday\, December 13\, but with some modifications. The\nPageant will take place at both worship services that day to\nspread out our attendance. The children and youth will not be\nparticipating this year. Only the choir will be participating to\nreduce the number of participants.
URL:https://htlc-anderson.org/event/congregational-christmas-pageant/2020-12-13/1/
LOCATION:Holy Trinity Lutheran Church\, 206 Broad Street\, Anderson\, SC\, 29621\, United States
GEO:34.516162;-82.651917
X-APPLE-STRUCTURED-LOCATION;VALUE=URI;X-ADDRESS=Holy Trinity Lutheran Church 206 Broad Street Anderson SC 29621 United States;X-APPLE-RADIUS=500;X-TITLE=206 Broad Street:geo:-82.651917,34.516162
END:VEVENT
BEGIN:VEVENT
DTSTART;TZID=America/New_York:20201213T110000
DTEND;TZID=America/New_York:20201213T120000
DTSTAMP:20260421T221716
CREATED:20201108T161417Z
LAST-MODIFIED:20201108T161417Z
UID:10002369-1607857200-1607860800@htlc-anderson.org
SUMMARY:Congregational Christmas Pageant
DESCRIPTION:Our Christmas Pageant will still take place this year on\nSunday\, December 13\, but with some modifications. The\nPageant will take place at both worship services that day to\nspread out our attendance. The children and youth will not be\nparticipating this year. Only the choir will be participating to\nreduce the number of participants.
URL:https://htlc-anderson.org/event/congregational-christmas-pageant/2020-12-13/2/
LOCATION:Holy Trinity Lutheran Church\, 206 Broad Street\, Anderson\, SC\, 29621\, United States
GEO:34.516162;-82.651917
X-APPLE-STRUCTURED-LOCATION;VALUE=URI;X-ADDRESS=Holy Trinity Lutheran Church 206 Broad Street Anderson SC 29621 United States;X-APPLE-RADIUS=500;X-TITLE=206 Broad Street:geo:-82.651917,34.516162
END:VEVENT
END:VCALENDAR