BEGIN:VCALENDAR
VERSION:2.0
PRODID:-//HTLC - ECPv6.15.20//NONSGML v1.0//EN
CALSCALE:GREGORIAN
METHOD:PUBLISH
X-WR-CALNAME:HTLC
X-ORIGINAL-URL:https://htlc-anderson.org
X-WR-CALDESC:Events for HTLC
REFRESH-INTERVAL;VALUE=DURATION:PT1H
X-Robots-Tag:noindex
X-PUBLISHED-TTL:PT1H
BEGIN:VTIMEZONE
TZID:America/New_York
BEGIN:DAYLIGHT
TZOFFSETFROM:-0500
TZOFFSETTO:-0400
TZNAME:EDT
DTSTART:20180311T070000
END:DAYLIGHT
BEGIN:STANDARD
TZOFFSETFROM:-0400
TZOFFSETTO:-0500
TZNAME:EST
DTSTART:20181104T060000
END:STANDARD
BEGIN:DAYLIGHT
TZOFFSETFROM:-0500
TZOFFSETTO:-0400
TZNAME:EDT
DTSTART:20190310T070000
END:DAYLIGHT
BEGIN:STANDARD
TZOFFSETFROM:-0400
TZOFFSETTO:-0500
TZNAME:EST
DTSTART:20191103T060000
END:STANDARD
BEGIN:DAYLIGHT
TZOFFSETFROM:-0500
TZOFFSETTO:-0400
TZNAME:EDT
DTSTART:20200308T070000
END:DAYLIGHT
BEGIN:STANDARD
TZOFFSETFROM:-0400
TZOFFSETTO:-0500
TZNAME:EST
DTSTART:20201101T060000
END:STANDARD
END:VTIMEZONE
BEGIN:VEVENT
DTSTART;TZID=America/New_York:20190929T084500
DTEND;TZID=America/New_York:20190929T094500
DTSTAMP:20260424T192232
CREATED:20160730T023732Z
LAST-MODIFIED:20220220T162708Z
UID:10000415-1569746700-1569750300@htlc-anderson.org
SUMMARY:8:45 AM Worship Service
DESCRIPTION:8:45 AM Worship Service
URL:https://htlc-anderson.org/event/845-am-worship-service/2019-09-29/
LOCATION:Holy Trinity Lutheran Church\, 206 Broad Street\, Anderson\, SC\, 29621\, United States
GEO:34.516162;-82.651917
X-APPLE-STRUCTURED-LOCATION;VALUE=URI;X-ADDRESS=Holy Trinity Lutheran Church 206 Broad Street Anderson SC 29621 United States;X-APPLE-RADIUS=500;X-TITLE=206 Broad Street:geo:-82.651917,34.516162
END:VEVENT
BEGIN:VEVENT
DTSTART;TZID=America/New_York:20190929T090000
DTEND;TZID=America/New_York:20190929T095000
DTSTAMP:20260424T192232
CREATED:20160730T024806Z
LAST-MODIFIED:20181119T220636Z
UID:10000478-1569747600-1569750600@htlc-anderson.org
SUMMARY:9 AM 5th Sunday Church School
DESCRIPTION:9 AM 5th Sunday Church School
URL:https://htlc-anderson.org/event/sunday-church-school-2018-10-07-2019-09-29/
LOCATION:Holy Trinity Lutheran Church\, 206 Broad Street\, Anderson\, SC\, 29621\, United States
GEO:34.516162;-82.651917
X-APPLE-STRUCTURED-LOCATION;VALUE=URI;X-ADDRESS=Holy Trinity Lutheran Church 206 Broad Street Anderson SC 29621 United States;X-APPLE-RADIUS=500;X-TITLE=206 Broad Street:geo:-82.651917,34.516162
END:VEVENT
BEGIN:VEVENT
DTSTART;TZID=America/New_York:20190929T094500
DTEND;TZID=America/New_York:20190929T104500
DTSTAMP:20260424T192232
CREATED:20160730T024806Z
LAST-MODIFIED:20220220T162847Z
UID:10000534-1569750300-1569753900@htlc-anderson.org
SUMMARY:9:45 AM Sunday Church School
DESCRIPTION:9:45 Sunday Church School
URL:https://htlc-anderson.org/event/sunday-church-school-2018-10-07/2019-09-29/
LOCATION:Holy Trinity Lutheran Church\, 206 Broad Street\, Anderson\, SC\, 29621\, United States
GEO:34.516162;-82.651917
X-APPLE-STRUCTURED-LOCATION;VALUE=URI;X-ADDRESS=Holy Trinity Lutheran Church 206 Broad Street Anderson SC 29621 United States;X-APPLE-RADIUS=500;X-TITLE=206 Broad Street:geo:-82.651917,34.516162
END:VEVENT
BEGIN:VEVENT
DTSTART;TZID=America/New_York:20190929T100000
DTEND;TZID=America/New_York:20190929T110000
DTSTAMP:20260424T192232
CREATED:20160730T023732Z
LAST-MODIFIED:20190902T143430Z
UID:10000457-1569751200-1569754800@htlc-anderson.org
SUMMARY:10 AM 5th Sunday Combined Worship Service
DESCRIPTION:5th SUNDAY\nCHANGE OF SERVICE TIME\nSeptember 29\nONE COMBINED WORSHIP 10:00 a.m.\nThe LCY will be providing a Fundraiser Luncheon immediately following the worship service that day.\nAll proceeds will go toward defraying their costs to attend the ELCA National Youth Gathering to be held in Minneapolis\, MN in 2021.\nTake outs are available. This will be a freewill offering event. Please come out and support our youth!\nMenu: Hot Dogs w/ chili\, Beans\, Coleslaw\, Dessert\, Tea/Lemonade.
URL:https://htlc-anderson.org/event/845-am-worship-service-2019-09-29/
LOCATION:Holy Trinity Lutheran Church\, 206 Broad Street\, Anderson\, SC\, 29621\, United States
GEO:34.516162;-82.651917
X-APPLE-STRUCTURED-LOCATION;VALUE=URI;X-ADDRESS=Holy Trinity Lutheran Church 206 Broad Street Anderson SC 29621 United States;X-APPLE-RADIUS=500;X-TITLE=206 Broad Street:geo:-82.651917,34.516162
END:VEVENT
BEGIN:VEVENT
DTSTART;TZID=America/New_York:20190929T110000
DTEND;TZID=America/New_York:20190929T120000
DTSTAMP:20260424T192232
CREATED:20190915T222418Z
LAST-MODIFIED:20190915T222418Z
UID:10001956-1569754800-1569758400@htlc-anderson.org
SUMMARY:5th Sunday Fellowship Lunch
DESCRIPTION:5th SUNDAY CHANGE OF SERVICE TIME \nThe LCY will be providing a Fundraiser Luncheon immediately following the worship service in\nFellowship Hall that day. All proceeds will go toward defraying their costs to attend the ELCA National\nYouth Gathering to be held in Minneapolis\, MN in 2021. Take outs are available. This will be a free-will\noffering event. Please come out and support our youth!\nMenu:\n•Hot Dogs w/ chili\n•Beans\n•Coleslaw\n•Dessert\n•Tea/Lemonade
URL:https://htlc-anderson.org/event/5th-sunday-fellowship-lunch/
END:VEVENT
END:VCALENDAR