BEGIN:VCALENDAR
VERSION:2.0
PRODID:-//HTLC - ECPv6.15.20//NONSGML v1.0//EN
CALSCALE:GREGORIAN
METHOD:PUBLISH
X-WR-CALNAME:HTLC
X-ORIGINAL-URL:https://htlc-anderson.org
X-WR-CALDESC:Events for HTLC
REFRESH-INTERVAL;VALUE=DURATION:PT1H
X-Robots-Tag:noindex
X-PUBLISHED-TTL:PT1H
BEGIN:VTIMEZONE
TZID:America/New_York
BEGIN:DAYLIGHT
TZOFFSETFROM:-0500
TZOFFSETTO:-0400
TZNAME:EDT
DTSTART:20160313T070000
END:DAYLIGHT
BEGIN:STANDARD
TZOFFSETFROM:-0400
TZOFFSETTO:-0500
TZNAME:EST
DTSTART:20161106T060000
END:STANDARD
BEGIN:DAYLIGHT
TZOFFSETFROM:-0500
TZOFFSETTO:-0400
TZNAME:EDT
DTSTART:20170312T070000
END:DAYLIGHT
BEGIN:STANDARD
TZOFFSETFROM:-0400
TZOFFSETTO:-0500
TZNAME:EST
DTSTART:20171105T060000
END:STANDARD
BEGIN:DAYLIGHT
TZOFFSETFROM:-0500
TZOFFSETTO:-0400
TZNAME:EDT
DTSTART:20180311T070000
END:DAYLIGHT
BEGIN:STANDARD
TZOFFSETFROM:-0400
TZOFFSETTO:-0500
TZNAME:EST
DTSTART:20181104T060000
END:STANDARD
END:VTIMEZONE
BEGIN:VEVENT
DTSTART;TZID=America/New_York:20170908T190000
DTEND;TZID=America/New_York:20170909T080000
DTSTAMP:20260420T220612
CREATED:20170902T003412Z
LAST-MODIFIED:20170902T003412Z
UID:10001242-1504897200-1504944000@htlc-anderson.org
SUMMARY:Homeless for the homeless
DESCRIPTION:Lutheran Church Youth will once again participate in the Homeless for the homeless box city fundraiser for Family Promise event coming up on Friday\, September 8th at Floyd Amphitheatre. Please join us as we learn what it is like to be Homeless with a poverty simulation to include sleeping in a box. More details forthcoming.
URL:https://htlc-anderson.org/event/homeless-for-the-homeless/
END:VEVENT
END:VCALENDAR